BEGIN:VCALENDAR
VERSION:2.0
PRODID:-//Reena Senior Living - ECPv6.11.2.1//NONSGML v1.0//EN
CALSCALE:GREGORIAN
METHOD:PUBLISH
X-ORIGINAL-URL:https://reenaseniorliving.com
X-WR-CALDESC:Events for Reena Senior Living
REFRESH-INTERVAL;VALUE=DURATION:PT1H
X-Robots-Tag:noindex
X-PUBLISHED-TTL:PT1H
BEGIN:VTIMEZONE
TZID:America/Chicago
BEGIN:DAYLIGHT
TZOFFSETFROM:-0600
TZOFFSETTO:-0500
TZNAME:CDT
DTSTART:20250309T080000
END:DAYLIGHT
BEGIN:STANDARD
TZOFFSETFROM:-0500
TZOFFSETTO:-0600
TZNAME:CST
DTSTART:20251102T070000
END:STANDARD
END:VTIMEZONE
BEGIN:VEVENT
DTSTART;TZID=America/Chicago:20250626T083000
DTEND;TZID=America/Chicago:20250626T090000
DTSTAMP:20260419T125558
CREATED:20250620T050634Z
LAST-MODIFIED:20250626T050417Z
UID:10000890-1750926600-1750928400@reenaseniorliving.com
SUMMARY:Podiatry Day - You will receive an appointment card
DESCRIPTION:
URL:https://reenaseniorliving.com/event-calendar/podiatry-day-you-will-receive-an-appointment-card/
LOCATION:Basement Spa
CATEGORIES:Assisted Living
END:VEVENT
BEGIN:VEVENT
DTSTART;TZID=America/Chicago:20250626T090000
DTEND;TZID=America/Chicago:20250626T093000
DTSTAMP:20260419T125558
CREATED:20250527T231941Z
LAST-MODIFIED:20250626T023441Z
UID:10000547-1750928400-1750930200@reenaseniorliving.com
SUMMARY:Patio Time (weather permitting) or a Game
DESCRIPTION:
URL:https://reenaseniorliving.com/event-calendar/patio-time-weather-permitting-or-a-game-19/
LOCATION:Activity Room
CATEGORIES:Legacy Court
END:VEVENT
BEGIN:VEVENT
DTSTART;TZID=America/Chicago:20250626T091500
DTEND;TZID=America/Chicago:20250626T094500
DTSTAMP:20260419T125558
CREATED:20250527T230413Z
LAST-MODIFIED:20250626T050417Z
UID:10000537-1750929300-1750931100@reenaseniorliving.com
SUMMARY:Movement Class with Kayla
DESCRIPTION:Gentle Movement\, Strength\, Mobility\, Balance\, & More.
URL:https://reenaseniorliving.com/event-calendar/movement-class-36/
LOCATION:Activity Room
CATEGORIES:Assisted Living
END:VEVENT
BEGIN:VEVENT
DTSTART;TZID=America/Chicago:20250626T094500
DTEND;TZID=America/Chicago:20250626T102000
DTSTAMP:20260419T125558
CREATED:20250527T231941Z
LAST-MODIFIED:20250626T023442Z
UID:10000543-1750931100-1750933200@reenaseniorliving.com
SUMMARY:Biking
DESCRIPTION:
URL:https://reenaseniorliving.com/event-calendar/biking-13/
LOCATION:Legacy Court
CATEGORIES:Legacy Court
END:VEVENT
BEGIN:VEVENT
DTSTART;TZID=America/Chicago:20250626T100000
DTEND;TZID=America/Chicago:20250626T111500
DTSTAMP:20260419T125558
CREATED:20250527T230413Z
LAST-MODIFIED:20250626T050417Z
UID:10000538-1750932000-1750936500@reenaseniorliving.com
SUMMARY:Bird Watching at Dorothy Carnes Park - signup
DESCRIPTION:
URL:https://reenaseniorliving.com/event-calendar/strength-class-intermediate-class-13/
LOCATION:Activity Room
CATEGORIES:Assisted Living
END:VEVENT
BEGIN:VEVENT
DTSTART;TZID=America/Chicago:20250626T103000
DTEND;TZID=America/Chicago:20250626T111500
DTSTAMP:20260419T125558
CREATED:20250527T231941Z
LAST-MODIFIED:20250613T000504Z
UID:10000544-1750933800-1750936500@reenaseniorliving.com
SUMMARY:Let's Make Bread.
DESCRIPTION:
URL:https://reenaseniorliving.com/event-calendar/lets-make-bread-3/
LOCATION:Activity Room
CATEGORIES:Legacy Court
END:VEVENT
BEGIN:VEVENT
DTSTART;TZID=America/Chicago:20250626T103000
DTEND;TZID=America/Chicago:20250626T111500
DTSTAMP:20260419T125558
CREATED:20250530T231916Z
LAST-MODIFIED:20250626T023442Z
UID:10000599-1750933800-1750936500@reenaseniorliving.com
SUMMARY:Reminisce and Linked Senior with Laurie
DESCRIPTION:
URL:https://reenaseniorliving.com/event-calendar/reminisce-and-linked-senior-with-laurie-3/
LOCATION:Legacy Court
CATEGORIES:Legacy Court
END:VEVENT
BEGIN:VEVENT
DTSTART;TZID=America/Chicago:20250626T112000
DTEND;TZID=America/Chicago:20250626T113500
DTSTAMP:20260419T125558
CREATED:20250527T231941Z
LAST-MODIFIED:20250529T232045Z
UID:10000546-1750936800-1750937700@reenaseniorliving.com
SUMMARY:Oshibori
DESCRIPTION:Refreshing in Preparation of Dining.
URL:https://reenaseniorliving.com/event-calendar/oshibori-37/
LOCATION:Dining Room
CATEGORIES:Legacy Court
END:VEVENT
BEGIN:VEVENT
DTSTART;TZID=America/Chicago:20250626T113000
DTEND;TZID=America/Chicago:20250626T114000
DTSTAMP:20260419T125558
CREATED:20250527T231941Z
LAST-MODIFIED:20250626T023442Z
UID:10000545-1750937400-1750938000@reenaseniorliving.com
SUMMARY:Prayer
DESCRIPTION:
URL:https://reenaseniorliving.com/event-calendar/prayer-26/
LOCATION:Dining Room
CATEGORIES:Legacy Court
END:VEVENT
BEGIN:VEVENT
DTSTART;TZID=America/Chicago:20250626T130000
DTEND;TZID=America/Chicago:20250626T133000
DTSTAMP:20260419T125558
CREATED:20250620T021944Z
LAST-MODIFIED:20250626T050418Z
UID:10000876-1750942800-1750944600@reenaseniorliving.com
SUMMARY:Grip Practice - Come join the team. Roles vary\, come check it out.
DESCRIPTION:
URL:https://reenaseniorliving.com/event-calendar/grip-practice-come-join-the-team-roles-vary-come-check-it-out-3/
LOCATION:Activity Room
CATEGORIES:Assisted Living,Legacy Court
END:VEVENT
BEGIN:VEVENT
DTSTART;TZID=America/Chicago:20250626T130000
DTEND;TZID=America/Chicago:20250626T153000
DTSTAMP:20260419T125558
CREATED:20250613T001902Z
LAST-MODIFIED:20250619T045051Z
UID:10000787-1750942800-1750951800@reenaseniorliving.com
SUMMARY:Movie - Snack and Beverage provided
DESCRIPTION:
URL:https://reenaseniorliving.com/event-calendar/movie-snack-and-beverage-provided/
LOCATION:Theatre
CATEGORIES:Assisted Living
END:VEVENT
BEGIN:VEVENT
DTSTART;TZID=America/Chicago:20250626T140000
DTEND;TZID=America/Chicago:20250626T143000
DTSTAMP:20260419T125558
CREATED:20250527T231941Z
LAST-MODIFIED:20250626T023442Z
UID:10000542-1750946400-1750948200@reenaseniorliving.com
SUMMARY:Group Exercise
DESCRIPTION:
URL:https://reenaseniorliving.com/event-calendar/group-exercise-14/
LOCATION:Legacy Court
CATEGORIES:Legacy Court
END:VEVENT
BEGIN:VEVENT
DTSTART;TZID=America/Chicago:20250626T140000
DTEND;TZID=America/Chicago:20250626T153000
DTSTAMP:20260419T125558
CREATED:20250620T050634Z
LAST-MODIFIED:20250626T050418Z
UID:10000891-1750946400-1750951800@reenaseniorliving.com
SUMMARY:Tie Blanket for FA Elementary School Nurses Station
DESCRIPTION:Part 1
URL:https://reenaseniorliving.com/event-calendar/tie-blanket-for-fa-elementary-school-nurses-station-2/
LOCATION:Activity Room
CATEGORIES:Assisted Living
END:VEVENT
BEGIN:VEVENT
DTSTART;TZID=America/Chicago:20250626T143000
DTEND;TZID=America/Chicago:20250626T150000
DTSTAMP:20260419T125558
CREATED:20250527T231941Z
LAST-MODIFIED:20250626T023442Z
UID:10000548-1750948200-1750950000@reenaseniorliving.com
SUMMARY:Snack Delight and Social Time - Activity Room
DESCRIPTION:
URL:https://reenaseniorliving.com/event-calendar/snack-delight-and-social-time-activity-room-42/
LOCATION:LC Activity Room
CATEGORIES:Legacy Court
END:VEVENT
BEGIN:VEVENT
DTSTART;TZID=America/Chicago:20250626T143000
DTEND;TZID=America/Chicago:20250626T153000
DTSTAMP:20260419T125558
CREATED:20250527T230413Z
LAST-MODIFIED:20250612T001942Z
UID:10000539-1750948200-1750951800@reenaseniorliving.com
SUMMARY:Trouble the board game
DESCRIPTION:
URL:https://reenaseniorliving.com/event-calendar/garbage-rummy-cube-or-connect-four-game-tables-come-on-down-for-social-and-popcorn-2/
LOCATION:Activity Room
CATEGORIES:Assisted Living
END:VEVENT
BEGIN:VEVENT
DTSTART;TZID=America/Chicago:20250626T150000
DTEND;TZID=America/Chicago:20250626T152500
DTSTAMP:20260419T125558
CREATED:20250527T231941Z
LAST-MODIFIED:20250619T022059Z
UID:10000549-1750950000-1750951500@reenaseniorliving.com
SUMMARY:Reminisce with Laurie
DESCRIPTION:
URL:https://reenaseniorliving.com/event-calendar/reminisce-with-laurie-7/
LOCATION:Legacy Court
CATEGORIES:Legacy Court
END:VEVENT
BEGIN:VEVENT
DTSTART;TZID=America/Chicago:20250626T150000
DTEND;TZID=America/Chicago:20250626T153000
DTSTAMP:20260419T125558
CREATED:20250527T231941Z
LAST-MODIFIED:20250626T023442Z
UID:10000550-1750950000-1750951800@reenaseniorliving.com
SUMMARY:Music Appreciation - Radio or Records
DESCRIPTION:Records or 50’s and 60’s variety this month\nTV OFF
URL:https://reenaseniorliving.com/event-calendar/music-appreciation-50s-and-60s-2/
LOCATION:Legacy Court
CATEGORIES:Legacy Court
END:VEVENT
BEGIN:VEVENT
DTSTART;TZID=America/Chicago:20250626T150000
DTEND;TZID=America/Chicago:20250626T161500
DTSTAMP:20260419T125558
CREATED:20250527T230413Z
LAST-MODIFIED:20250602T233427Z
UID:10000540-1750950000-1750954500@reenaseniorliving.com
SUMMARY:Cards - 3 tables set up to play - Garbage\, Rummy cube\, or War
DESCRIPTION:
URL:https://reenaseniorliving.com/event-calendar/cards-3-tables-set-up-to-play-garbage-rummy-cube-or-war/
LOCATION:Activity Room
CATEGORIES:Assisted Living
END:VEVENT
BEGIN:VEVENT
DTSTART;TZID=America/Chicago:20250626T170000
DTEND;TZID=America/Chicago:20250626T190000
DTSTAMP:20260419T125558
CREATED:20250527T230413Z
LAST-MODIFIED:20250619T045051Z
UID:10000541-1750957200-1750964400@reenaseniorliving.com
SUMMARY:Resident Guided - Social Time
DESCRIPTION:
URL:https://reenaseniorliving.com/event-calendar/resident-guided-social-time-44/
LOCATION:Activity Room
CATEGORIES:Assisted Living
END:VEVENT
BEGIN:VEVENT
DTSTART;TZID=America/Chicago:20250626T173000
DTEND;TZID=America/Chicago:20250626T183000
DTSTAMP:20260419T125558
CREATED:20250527T231941Z
LAST-MODIFIED:20250626T023442Z
UID:10000551-1750959000-1750962600@reenaseniorliving.com
SUMMARY:Game Show
DESCRIPTION:
URL:https://reenaseniorliving.com/event-calendar/game-shows-7/
LOCATION:Living Room
CATEGORIES:Legacy Court
END:VEVENT
BEGIN:VEVENT
DTSTART;TZID=America/Chicago:20250626T184500
DTEND;TZID=America/Chicago:20250626T194500
DTSTAMP:20260419T125558
CREATED:20250528T230427Z
LAST-MODIFIED:20250626T050418Z
UID:10000552-1750963500-1750967100@reenaseniorliving.com
SUMMARY:Fireside at the Pond with Dawn - Door assistance provided by volunteers.
DESCRIPTION:
URL:https://reenaseniorliving.com/event-calendar/fireside-at-the-pond-with-dawn-and-volunteers-vicki-and-conrad/
LOCATION:Patio
CATEGORIES:Assisted Living
END:VEVENT
END:VCALENDAR