BEGIN:VCALENDAR
VERSION:2.0
PRODID:-//Reena Senior Living - ECPv6.11.2.1//NONSGML v1.0//EN
CALSCALE:GREGORIAN
METHOD:PUBLISH
X-ORIGINAL-URL:https://reenaseniorliving.com
X-WR-CALDESC:Events for Reena Senior Living
REFRESH-INTERVAL;VALUE=DURATION:PT1H
X-Robots-Tag:noindex
X-PUBLISHED-TTL:PT1H
BEGIN:VTIMEZONE
TZID:America/Chicago
BEGIN:DAYLIGHT
TZOFFSETFROM:-0600
TZOFFSETTO:-0500
TZNAME:CDT
DTSTART:20250309T080000
END:DAYLIGHT
BEGIN:STANDARD
TZOFFSETFROM:-0500
TZOFFSETTO:-0600
TZNAME:CST
DTSTART:20251102T070000
END:STANDARD
END:VTIMEZONE
BEGIN:VEVENT
DTSTART;TZID=America/Chicago:20250630T085000
DTEND;TZID=America/Chicago:20250630T090500
DTSTAMP:20260419T152907
CREATED:20250531T233521Z
LAST-MODIFIED:20250630T053451Z
UID:10000622-1751273400-1751274300@reenaseniorliving.com
SUMMARY:Green Thumbs and Patio Social Time.
DESCRIPTION:Garden and Social Time.
URL:https://reenaseniorliving.com/event-calendar/green-thumbs-and-patio-social-time-9/
LOCATION:Activity Room Patio
CATEGORIES:Assisted Living
END:VEVENT
BEGIN:VEVENT
DTSTART;TZID=America/Chicago:20250630T090000
DTEND;TZID=America/Chicago:20250630T093000
DTSTAMP:20260419T152907
CREATED:20250531T231928Z
LAST-MODIFIED:20250630T030446Z
UID:10000614-1751274000-1751275800@reenaseniorliving.com
SUMMARY:Garden - Water\, Weed\, Inspect.
DESCRIPTION:
URL:https://reenaseniorliving.com/event-calendar/garden-water-weed-inspect-24/
LOCATION:Legacy Court
CATEGORIES:Legacy Court
END:VEVENT
BEGIN:VEVENT
DTSTART;TZID=America/Chicago:20250630T091500
DTEND;TZID=America/Chicago:20250630T094500
DTSTAMP:20260419T152907
CREATED:20250531T233521Z
LAST-MODIFIED:20250630T053451Z
UID:10000620-1751274900-1751276700@reenaseniorliving.com
SUMMARY:Movement Class with Anne
DESCRIPTION:
URL:https://reenaseniorliving.com/event-calendar/movement-class-39/
LOCATION:Activity Room
CATEGORIES:Assisted Living
END:VEVENT
BEGIN:VEVENT
DTSTART;TZID=America/Chicago:20250630T094500
DTEND;TZID=America/Chicago:20250630T104500
DTSTAMP:20260419T152907
CREATED:20250531T231928Z
LAST-MODIFIED:20250630T030446Z
UID:10000611-1751276700-1751280300@reenaseniorliving.com
SUMMARY:Patriotic Sing-a-long
DESCRIPTION:
URL:https://reenaseniorliving.com/event-calendar/coffee-and-classic-tv-i-love-lucy/
LOCATION:Activity Room
CATEGORIES:Assisted Living,Legacy Court
END:VEVENT
BEGIN:VEVENT
DTSTART;TZID=America/Chicago:20250630T095000
DTEND;TZID=America/Chicago:20250630T101000
DTSTAMP:20260419T152907
CREATED:20250531T233521Z
LAST-MODIFIED:20250620T050634Z
UID:10000621-1751277000-1751278200@reenaseniorliving.com
SUMMARY:Outdoor Stroll
DESCRIPTION:
URL:https://reenaseniorliving.com/event-calendar/outdoor-stroll-14/
LOCATION:Activity Room
CATEGORIES:Assisted Living
END:VEVENT
BEGIN:VEVENT
DTSTART;TZID=America/Chicago:20250630T100000
DTEND;TZID=America/Chicago:20250630T102000
DTSTAMP:20260419T152907
CREATED:20250531T231928Z
LAST-MODIFIED:20250620T021945Z
UID:10000610-1751277600-1751278800@reenaseniorliving.com
SUMMARY:Rhythm Monday with Anne
DESCRIPTION:
URL:https://reenaseniorliving.com/event-calendar/rhythm-monday-with-anne-6/
LOCATION:Activity Room
CATEGORIES:Legacy Court
END:VEVENT
BEGIN:VEVENT
DTSTART;TZID=America/Chicago:20250630T101500
DTEND;TZID=America/Chicago:20250630T111500
DTSTAMP:20260419T152907
CREATED:20250626T050416Z
LAST-MODIFIED:20250630T053451Z
UID:10001013-1751278500-1751282100@reenaseniorliving.com
SUMMARY:Coffee in the Cafe - The Cafe is the new space available for you adjoined to the Dining Room
DESCRIPTION:
URL:https://reenaseniorliving.com/event-calendar/coffee-in-the-cafe-the-cafe-is-the-new-space-available-for-you-adjoined-to-the-dining-room/
LOCATION:Cafe
CATEGORIES:Assisted Living
END:VEVENT
BEGIN:VEVENT
DTSTART;TZID=America/Chicago:20250630T104500
DTEND;TZID=America/Chicago:20250630T111500
DTSTAMP:20260419T152907
CREATED:20250531T231928Z
LAST-MODIFIED:20250630T030446Z
UID:10000609-1751280300-1751282100@reenaseniorliving.com
SUMMARY:Movement Class
DESCRIPTION:
URL:https://reenaseniorliving.com/event-calendar/movement-class-38/
LOCATION:Living Room
CATEGORIES:Legacy Court
END:VEVENT
BEGIN:VEVENT
DTSTART;TZID=America/Chicago:20250630T113000
DTEND;TZID=America/Chicago:20250630T114000
DTSTAMP:20260419T152907
CREATED:20250531T231928Z
LAST-MODIFIED:20250630T030446Z
UID:10000613-1751283000-1751283600@reenaseniorliving.com
SUMMARY:Prayer
DESCRIPTION:
URL:https://reenaseniorliving.com/event-calendar/prayer-29/
LOCATION:Dining Room
CATEGORIES:Legacy Court
END:VEVENT
BEGIN:VEVENT
DTSTART;TZID=America/Chicago:20250630T123000
DTEND;TZID=America/Chicago:20250630T130000
DTSTAMP:20260419T152907
CREATED:20250531T233521Z
LAST-MODIFIED:20250630T053451Z
UID:10000623-1751286600-1751288400@reenaseniorliving.com
SUMMARY:Rosary with Volunteer Dorothy
DESCRIPTION:
URL:https://reenaseniorliving.com/event-calendar/rosary-with-volunteer-dorothy-7/
LOCATION:Pub
CATEGORIES:Assisted Living
END:VEVENT
BEGIN:VEVENT
DTSTART;TZID=America/Chicago:20250630T131500
DTEND;TZID=America/Chicago:20250630T133000
DTSTAMP:20260419T152907
CREATED:20250531T231928Z
LAST-MODIFIED:20250625T023403Z
UID:10000612-1751289300-1751290200@reenaseniorliving.com
SUMMARY:Breath and Relaxation
DESCRIPTION:
URL:https://reenaseniorliving.com/event-calendar/breath-and-relaxation-with-anne-6/
LOCATION:Legacy Court
CATEGORIES:Legacy Court
END:VEVENT
BEGIN:VEVENT
DTSTART;TZID=America/Chicago:20250630T133000
DTEND;TZID=America/Chicago:20250630T141500
DTSTAMP:20260419T152907
CREATED:20250531T231928Z
LAST-MODIFIED:20250630T030446Z
UID:10000615-1751290200-1751292900@reenaseniorliving.com
SUMMARY:Bingo
DESCRIPTION:
URL:https://reenaseniorliving.com/event-calendar/bingo-11/
LOCATION:LC AR
CATEGORIES:Legacy Court
END:VEVENT
BEGIN:VEVENT
DTSTART;TZID=America/Chicago:20250630T133000
DTEND;TZID=America/Chicago:20250630T143000
DTSTAMP:20260419T152907
CREATED:20250531T233521Z
LAST-MODIFIED:20250630T053451Z
UID:10000624-1751290200-1751293800@reenaseniorliving.com
SUMMARY:Bingo
DESCRIPTION:
URL:https://reenaseniorliving.com/event-calendar/bingo-12/
LOCATION:AR
CATEGORIES:Assisted Living
END:VEVENT
BEGIN:VEVENT
DTSTART;TZID=America/Chicago:20250630T141500
DTEND;TZID=America/Chicago:20250630T143000
DTSTAMP:20260419T152907
CREATED:20250531T231928Z
LAST-MODIFIED:20250630T030446Z
UID:10000617-1751292900-1751293800@reenaseniorliving.com
SUMMARY:Jerry Apps - Great Storyteller Book Reading and Discussion
DESCRIPTION:Jerry Apps and Other Authors that reflect days gone by. Lessons and Reminiscing Fun!
URL:https://reenaseniorliving.com/event-calendar/jerry-apps-great-storyteller-book-reading-and-discussion-6/
LOCATION:Legacy Court
CATEGORIES:Legacy Court
END:VEVENT
BEGIN:VEVENT
DTSTART;TZID=America/Chicago:20250630T143000
DTEND;TZID=America/Chicago:20250630T150000
DTSTAMP:20260419T152907
CREATED:20250531T231928Z
LAST-MODIFIED:20250630T030446Z
UID:10000616-1751293800-1751295600@reenaseniorliving.com
SUMMARY:Snack Delight and Social Time - Activity Room
DESCRIPTION:
URL:https://reenaseniorliving.com/event-calendar/snack-delight-and-social-time-activity-room-46/
LOCATION:LC Activity Room
CATEGORIES:Legacy Court
END:VEVENT
BEGIN:VEVENT
DTSTART;TZID=America/Chicago:20250630T170000
DTEND;TZID=America/Chicago:20250630T190000
DTSTAMP:20260419T152907
CREATED:20250531T233521Z
LAST-MODIFIED:20250630T053451Z
UID:10000625-1751302800-1751310000@reenaseniorliving.com
SUMMARY:Resident Guided - Social Time
DESCRIPTION:
URL:https://reenaseniorliving.com/event-calendar/resident-guided-social-time-49/
LOCATION:Activity Room
CATEGORIES:Assisted Living
END:VEVENT
BEGIN:VEVENT
DTSTART;TZID=America/Chicago:20250630T173000
DTEND;TZID=America/Chicago:20250630T183000
DTSTAMP:20260419T152907
CREATED:20250531T231929Z
LAST-MODIFIED:20250630T030446Z
UID:10000618-1751304600-1751308200@reenaseniorliving.com
SUMMARY:Records with Laurie
DESCRIPTION:
URL:https://reenaseniorliving.com/event-calendar/game-shows-on-tv-6/
LOCATION:Legacy Court
CATEGORIES:Legacy Court
END:VEVENT
BEGIN:VEVENT
DTSTART;TZID=America/Chicago:20250630T180000
DTEND;TZID=America/Chicago:20250630T181500
DTSTAMP:20260419T152907
CREATED:20250531T231929Z
LAST-MODIFIED:20250609T234921Z
UID:10000619-1751306400-1751307300@reenaseniorliving.com
SUMMARY:Play Catch with HHA's
DESCRIPTION:
URL:https://reenaseniorliving.com/event-calendar/play-catch-with-hhas-19/
LOCATION:Legacy Court
CATEGORIES:Legacy Court
END:VEVENT
END:VCALENDAR