BEGIN:VCALENDAR
VERSION:2.0
PRODID:-//Reena Senior Living - ECPv6.11.2.1//NONSGML v1.0//EN
CALSCALE:GREGORIAN
METHOD:PUBLISH
X-WR-CALNAME:Reena Senior Living
X-ORIGINAL-URL:https://reenaseniorliving.com
X-WR-CALDESC:Events for Reena Senior Living
REFRESH-INTERVAL;VALUE=DURATION:PT1H
X-Robots-Tag:noindex
X-PUBLISHED-TTL:PT1H
BEGIN:VTIMEZONE
TZID:America/Chicago
BEGIN:DAYLIGHT
TZOFFSETFROM:-0600
TZOFFSETTO:-0500
TZNAME:CDT
DTSTART:20250309T080000
END:DAYLIGHT
BEGIN:STANDARD
TZOFFSETFROM:-0500
TZOFFSETTO:-0600
TZNAME:CST
DTSTART:20251102T070000
END:STANDARD
END:VTIMEZONE
BEGIN:VEVENT
DTSTART;TZID=America/Chicago:20250705T103000
DTEND;TZID=America/Chicago:20250705T113000
DTSTAMP:20260419T125455
CREATED:20250624T050421Z
LAST-MODIFIED:20250705T054902Z
UID:10000957-1751711400-1751715000@reenaseniorliving.com
SUMMARY:Bingo with Anne!
DESCRIPTION:
URL:https://reenaseniorliving.com/event-calendar/bingo-19/
LOCATION:Activity Room
CATEGORIES:Assisted Living
END:VEVENT
BEGIN:VEVENT
DTSTART;TZID=America/Chicago:20250705T123000
DTEND;TZID=America/Chicago:20250705T125000
DTSTAMP:20260419T125455
CREATED:20250626T050417Z
LAST-MODIFIED:20250705T054902Z
UID:10001015-1751718600-1751719800@reenaseniorliving.com
SUMMARY:Green Thumbs Garden Group
DESCRIPTION:
URL:https://reenaseniorliving.com/event-calendar/green-thumbs-garden-group-3/
LOCATION:Activity Room Patio
CATEGORIES:Assisted Living
END:VEVENT
BEGIN:VEVENT
DTSTART;TZID=America/Chicago:20250705T124500
DTEND;TZID=America/Chicago:20250705T130500
DTSTAMP:20260419T125455
CREATED:20250605T233417Z
LAST-MODIFIED:20250705T030432Z
UID:10000687-1751719500-1751720700@reenaseniorliving.com
SUMMARY:Green Thumbs Legacy - Let's explore the outdoors.
DESCRIPTION:
URL:https://reenaseniorliving.com/event-calendar/patio-time-lets-explore-the-outdoors-8/
LOCATION:Patio
CATEGORIES:Legacy Court
END:VEVENT
BEGIN:VEVENT
DTSTART;TZID=America/Chicago:20250705T131500
DTEND;TZID=America/Chicago:20250705T134500
DTSTAMP:20260419T125455
CREATED:20250626T023443Z
LAST-MODIFIED:20250705T030432Z
UID:10000994-1751721300-1751723100@reenaseniorliving.com
SUMMARY:Patriotic Sing-a-long
DESCRIPTION:
URL:https://reenaseniorliving.com/event-calendar/patriotic-sing-a-long-3/
LOCATION:Legacy Court
CATEGORIES:Legacy Court
END:VEVENT
BEGIN:VEVENT
DTSTART;TZID=America/Chicago:20250705T134500
DTEND;TZID=America/Chicago:20250705T140000
DTSTAMP:20260419T125455
CREATED:20250605T233417Z
LAST-MODIFIED:20250705T030432Z
UID:10000686-1751723100-1751724000@reenaseniorliving.com
SUMMARY:Walking Group
DESCRIPTION:
URL:https://reenaseniorliving.com/event-calendar/walking-group-9/
LOCATION:Legacy Court
CATEGORIES:Legacy Court
END:VEVENT
BEGIN:VEVENT
DTSTART;TZID=America/Chicago:20250705T141500
DTEND;TZID=America/Chicago:20250705T142500
DTSTAMP:20260419T125455
CREATED:20250626T023443Z
LAST-MODIFIED:20250705T030432Z
UID:10000995-1751724900-1751725500@reenaseniorliving.com
SUMMARY:Relaxation Breath Work
DESCRIPTION:
URL:https://reenaseniorliving.com/event-calendar/relaxation-breath-work/
LOCATION:Activity Room LC
CATEGORIES:Legacy Court
END:VEVENT
BEGIN:VEVENT
DTSTART;TZID=America/Chicago:20250705T143000
DTEND;TZID=America/Chicago:20250705T144000
DTSTAMP:20260419T125455
CREATED:20250626T023443Z
LAST-MODIFIED:20250705T030432Z
UID:10000996-1751725800-1751726400@reenaseniorliving.com
SUMMARY:Prayer Time
DESCRIPTION:
URL:https://reenaseniorliving.com/event-calendar/prayer-time/
LOCATION:Legacy Court
CATEGORIES:Legacy Court
END:VEVENT
BEGIN:VEVENT
DTSTART;TZID=America/Chicago:20250705T143000
DTEND;TZID=America/Chicago:20250705T150000
DTSTAMP:20260419T125455
CREATED:20250605T233417Z
LAST-MODIFIED:20250705T030432Z
UID:10000688-1751725800-1751727600@reenaseniorliving.com
SUMMARY:Snack Delight and Social Time - Activity Room
DESCRIPTION:
URL:https://reenaseniorliving.com/event-calendar/snack-delight-and-social-time-activity-room-51/
LOCATION:LC Activity Room
CATEGORIES:Legacy Court
END:VEVENT
BEGIN:VEVENT
DTSTART;TZID=America/Chicago:20250705T150000
DTEND;TZID=America/Chicago:20250705T153000
DTSTAMP:20260419T125455
CREATED:20250605T234908Z
LAST-MODIFIED:20250623T050447Z
UID:10000690-1751727600-1751729400@reenaseniorliving.com
SUMMARY:Biking Time - Open House
DESCRIPTION:Pop in for a few minutes right before lunch. Start with 2-3 minutes.
URL:https://reenaseniorliving.com/event-calendar/biking-time-open-house-15/
LOCATION:Activity Room
CATEGORIES:Assisted Living
END:VEVENT
BEGIN:VEVENT
DTSTART;TZID=America/Chicago:20250705T150000
DTEND;TZID=America/Chicago:20250705T180000
DTSTAMP:20260419T125455
CREATED:20250626T023443Z
LAST-MODIFIED:20250705T030432Z
UID:10000997-1751727600-1751738400@reenaseniorliving.com
SUMMARY:Brewers vs. Marlins at 3:10pm
DESCRIPTION:
URL:https://reenaseniorliving.com/event-calendar/brewers-vs-marlins-at-310pm/
LOCATION:Living Room
CATEGORIES:Legacy Court
END:VEVENT
BEGIN:VEVENT
DTSTART;TZID=America/Chicago:20250705T170000
DTEND;TZID=America/Chicago:20250705T190000
DTSTAMP:20260419T125455
CREATED:20250605T234908Z
LAST-MODIFIED:20250705T054902Z
UID:10000691-1751734800-1751742000@reenaseniorliving.com
SUMMARY:Resident Guided - Social Time
DESCRIPTION:
URL:https://reenaseniorliving.com/event-calendar/resident-guided-social-time-54/
LOCATION:Activity Room
CATEGORIES:Assisted Living
END:VEVENT
BEGIN:VEVENT
DTSTART;TZID=America/Chicago:20250705T180000
DTEND;TZID=America/Chicago:20250705T181500
DTSTAMP:20260419T125455
CREATED:20250605T233417Z
LAST-MODIFIED:20250609T234922Z
UID:10000689-1751738400-1751739300@reenaseniorliving.com
SUMMARY:Play Catch with HHA's
DESCRIPTION:
URL:https://reenaseniorliving.com/event-calendar/play-catch-with-hhas-21/
LOCATION:Legacy Court
CATEGORIES:Legacy Court
END:VEVENT
END:VCALENDAR