BEGIN:VCALENDAR
VERSION:2.0
PRODID:-//Reena Senior Living - ECPv6.11.2.1//NONSGML v1.0//EN
CALSCALE:GREGORIAN
METHOD:PUBLISH
X-ORIGINAL-URL:https://reenaseniorliving.com
X-WR-CALDESC:Events for Reena Senior Living
REFRESH-INTERVAL;VALUE=DURATION:PT1H
X-Robots-Tag:noindex
X-PUBLISHED-TTL:PT1H
BEGIN:VTIMEZONE
TZID:America/Chicago
BEGIN:DAYLIGHT
TZOFFSETFROM:-0600
TZOFFSETTO:-0500
TZNAME:CDT
DTSTART:20250309T080000
END:DAYLIGHT
BEGIN:STANDARD
TZOFFSETFROM:-0500
TZOFFSETTO:-0600
TZNAME:CST
DTSTART:20251102T070000
END:STANDARD
END:VTIMEZONE
BEGIN:VEVENT
DTSTART;TZID=America/Chicago:20250712T103000
DTEND;TZID=America/Chicago:20250712T110000
DTSTAMP:20260419T224433
CREATED:20250701T053407Z
LAST-MODIFIED:20250712T060414Z
UID:10001109-1752316200-1752318000@reenaseniorliving.com
SUMMARY:Movement Class with Kayla
DESCRIPTION:
URL:https://reenaseniorliving.com/event-calendar/movement-class-with-kayla-9/
LOCATION:Activity Room
CATEGORIES:Assisted Living
END:VEVENT
BEGIN:VEVENT
DTSTART;TZID=America/Chicago:20250712T110000
DTEND;TZID=America/Chicago:20250712T112500
DTSTAMP:20260419T224433
CREATED:20250701T053407Z
LAST-MODIFIED:20250712T060414Z
UID:10001110-1752318000-1752319500@reenaseniorliving.com
SUMMARY:Strength Class - Intermediate Class - Weights\, Bands\, & Balance Work
DESCRIPTION:
URL:https://reenaseniorliving.com/event-calendar/strength-class-intermediate-class-weights-bands-balance-work/
LOCATION:Activity Room
CATEGORIES:Assisted Living
END:VEVENT
BEGIN:VEVENT
DTSTART;TZID=America/Chicago:20250712T110000
DTEND;TZID=America/Chicago:20250712T113000
DTSTAMP:20260419T224433
CREATED:20250613T001905Z
LAST-MODIFIED:20250630T053452Z
UID:10000788-1752318000-1752319800@reenaseniorliving.com
SUMMARY:Biking Time - Open House
DESCRIPTION:Pop in for a few minutes right before lunch. Start with 2-3 minutes.
URL:https://reenaseniorliving.com/event-calendar/biking-time-open-house-17/
LOCATION:Activity Room
CATEGORIES:Assisted Living
END:VEVENT
BEGIN:VEVENT
DTSTART;TZID=America/Chicago:20250712T111500
DTEND;TZID=America/Chicago:20250712T113000
DTSTAMP:20260419T224433
CREATED:20250613T000508Z
LAST-MODIFIED:20250712T031947Z
UID:10000779-1752318900-1752319800@reenaseniorliving.com
SUMMARY:Walking Group
DESCRIPTION:
URL:https://reenaseniorliving.com/event-calendar/walking-group-10/
LOCATION:Legacy Court
CATEGORIES:Legacy Court
END:VEVENT
BEGIN:VEVENT
DTSTART;TZID=America/Chicago:20250712T123000
DTEND;TZID=America/Chicago:20250712T125000
DTSTAMP:20260419T224433
CREATED:20250626T050419Z
LAST-MODIFIED:20250712T060414Z
UID:10001025-1752323400-1752324600@reenaseniorliving.com
SUMMARY:Green Thumbs Garden Group
DESCRIPTION:
URL:https://reenaseniorliving.com/event-calendar/green-thumbs-garden-group-6/
LOCATION:Activity Room Patio
CATEGORIES:Assisted Living
END:VEVENT
BEGIN:VEVENT
DTSTART;TZID=America/Chicago:20250712T130000
DTEND;TZID=America/Chicago:20250712T133000
DTSTAMP:20260419T224433
CREATED:20250626T023445Z
LAST-MODIFIED:20250712T031947Z
UID:10000999-1752325200-1752327000@reenaseniorliving.com
SUMMARY:Green Thumbs Legacy - Let's explore the outdoors.
DESCRIPTION:
URL:https://reenaseniorliving.com/event-calendar/green-thumbs-legacy-lets-explore-the-outdoors/
LOCATION:Patio
CATEGORIES:Legacy Court
END:VEVENT
BEGIN:VEVENT
DTSTART;TZID=America/Chicago:20250712T130000
DTEND;TZID=America/Chicago:20250712T134500
DTSTAMP:20260419T224433
CREATED:20250613T000508Z
LAST-MODIFIED:20250712T031947Z
UID:10000780-1752325200-1752327900@reenaseniorliving.com
SUMMARY:Patio Time - Let's explore the outdoors.
DESCRIPTION:
URL:https://reenaseniorliving.com/event-calendar/patio-time-lets-explore-the-outdoors-10/
LOCATION:Patio
CATEGORIES:Legacy Court
END:VEVENT
BEGIN:VEVENT
DTSTART;TZID=America/Chicago:20250712T143000
DTEND;TZID=America/Chicago:20250712T150000
DTSTAMP:20260419T224433
CREATED:20250613T000508Z
LAST-MODIFIED:20250712T031947Z
UID:10000781-1752330600-1752332400@reenaseniorliving.com
SUMMARY:Snack Delight and Social Time - Activity Room
DESCRIPTION:
URL:https://reenaseniorliving.com/event-calendar/snack-delight-and-social-time-activity-room-58/
LOCATION:LC Activity Room
CATEGORIES:Legacy Court
END:VEVENT
BEGIN:VEVENT
DTSTART;TZID=America/Chicago:20250712T150000
DTEND;TZID=America/Chicago:20250712T163000
DTSTAMP:20260419T224433
CREATED:20250627T023448Z
LAST-MODIFIED:20250712T031947Z
UID:10001048-1752332400-1752337800@reenaseniorliving.com
SUMMARY:Brewer Game
DESCRIPTION:
URL:https://reenaseniorliving.com/event-calendar/brewer-game-2/
LOCATION:Living Room
CATEGORIES:Legacy Court
END:VEVENT
BEGIN:VEVENT
DTSTART;TZID=America/Chicago:20250712T170000
DTEND;TZID=America/Chicago:20250712T190000
DTSTAMP:20260419T224433
CREATED:20250613T001905Z
LAST-MODIFIED:20250712T060414Z
UID:10000789-1752339600-1752346800@reenaseniorliving.com
SUMMARY:Resident Guided - Social Time
DESCRIPTION:
URL:https://reenaseniorliving.com/event-calendar/resident-guided-social-time-61/
LOCATION:Activity Room
CATEGORIES:Assisted Living
END:VEVENT
END:VCALENDAR