BEGIN:VCALENDAR
VERSION:2.0
PRODID:-//Reena Senior Living - ECPv6.11.2.1//NONSGML v1.0//EN
CALSCALE:GREGORIAN
METHOD:PUBLISH
X-WR-CALNAME:Reena Senior Living
X-ORIGINAL-URL:https://reenaseniorliving.com
X-WR-CALDESC:Events for Reena Senior Living
REFRESH-INTERVAL;VALUE=DURATION:PT1H
X-Robots-Tag:noindex
X-PUBLISHED-TTL:PT1H
BEGIN:VTIMEZONE
TZID:America/Chicago
BEGIN:DAYLIGHT
TZOFFSETFROM:-0600
TZOFFSETTO:-0500
TZNAME:CDT
DTSTART:20250309T080000
END:DAYLIGHT
BEGIN:STANDARD
TZOFFSETFROM:-0500
TZOFFSETTO:-0600
TZNAME:CST
DTSTART:20251102T070000
END:STANDARD
END:VTIMEZONE
BEGIN:VEVENT
DTSTART;TZID=America/Chicago:20250809T080000
DTEND;TZID=America/Chicago:20250809T113000
DTSTAMP:20260421T083817
CREATED:20250711T060408Z
LAST-MODIFIED:20250715T060407Z
UID:10001253-1754726400-1754739000@reenaseniorliving.com
SUMMARY:Biking Time - Open House
DESCRIPTION:Pop in for a few minutes right before lunch. Start with 2-3 minutes.
URL:https://reenaseniorliving.com/event-calendar/biking-time-open-house-24/
LOCATION:Activity Room
CATEGORIES:Assisted Living
END:VEVENT
BEGIN:VEVENT
DTSTART;TZID=America/Chicago:20250809T103000
DTEND;TZID=America/Chicago:20250809T113000
DTSTAMP:20260421T083817
CREATED:20250731T060413Z
LAST-MODIFIED:20250809T060411Z
UID:10001583-1754735400-1754739000@reenaseniorliving.com
SUMMARY:Coffee & Horse Racing with Laurie
DESCRIPTION:Social Time with Coffee
URL:https://reenaseniorliving.com/event-calendar/coffee-horse-racing-with-laurie/
LOCATION:Cafe
CATEGORIES:Assisted Living
END:VEVENT
BEGIN:VEVENT
DTSTART;TZID=America/Chicago:20250809T123000
DTEND;TZID=America/Chicago:20250809T125000
DTSTAMP:20260421T083817
CREATED:20250711T060408Z
LAST-MODIFIED:20250809T060411Z
UID:10001254-1754742600-1754743800@reenaseniorliving.com
SUMMARY:Green Thumbs Garden Group
DESCRIPTION:
URL:https://reenaseniorliving.com/event-calendar/green-thumbs-garden-group-22/
LOCATION:Activity Room Patio
CATEGORIES:Assisted Living
END:VEVENT
BEGIN:VEVENT
DTSTART;TZID=America/Chicago:20250809T130000
DTEND;TZID=America/Chicago:20250809T133000
DTSTAMP:20260421T083817
CREATED:20250711T031919Z
LAST-MODIFIED:20250809T040433Z
UID:10001250-1754744400-1754746200@reenaseniorliving.com
SUMMARY:Green Thumbs Legacy - Let's explore the outdoors.
DESCRIPTION:
URL:https://reenaseniorliving.com/event-calendar/green-thumbs-legacy-lets-explore-the-outdoors-5/
LOCATION:Patio
CATEGORIES:Legacy Court
END:VEVENT
BEGIN:VEVENT
DTSTART;TZID=America/Chicago:20250809T130000
DTEND;TZID=America/Chicago:20250809T134500
DTSTAMP:20260421T083817
CREATED:20250711T031919Z
LAST-MODIFIED:20250809T040433Z
UID:10001251-1754744400-1754747100@reenaseniorliving.com
SUMMARY:Patio Time - Let's explore the outdoors.
DESCRIPTION:
URL:https://reenaseniorliving.com/event-calendar/patio-time-lets-explore-the-outdoors-14/
LOCATION:Patio
CATEGORIES:Legacy Court
END:VEVENT
BEGIN:VEVENT
DTSTART;TZID=America/Chicago:20250809T134500
DTEND;TZID=America/Chicago:20250809T144500
DTSTAMP:20260421T083817
CREATED:20250731T034936Z
LAST-MODIFIED:20250809T040433Z
UID:10001562-1754747100-1754750700@reenaseniorliving.com
SUMMARY:Art with Laurie
DESCRIPTION:
URL:https://reenaseniorliving.com/event-calendar/art-with-laurie/
LOCATION:Legacy Court
CATEGORIES:Legacy Court
END:VEVENT
BEGIN:VEVENT
DTSTART;TZID=America/Chicago:20250809T143000
DTEND;TZID=America/Chicago:20250809T144500
DTSTAMP:20260421T083817
CREATED:20250711T031919Z
LAST-MODIFIED:20250809T040433Z
UID:10001249-1754749800-1754750700@reenaseniorliving.com
SUMMARY:Walking Group
DESCRIPTION:
URL:https://reenaseniorliving.com/event-calendar/walking-group-14/
LOCATION:Legacy Court
CATEGORIES:Legacy Court
END:VEVENT
BEGIN:VEVENT
DTSTART;TZID=America/Chicago:20250809T143000
DTEND;TZID=America/Chicago:20250809T150000
DTSTAMP:20260421T083817
CREATED:20250711T031919Z
LAST-MODIFIED:20250809T040433Z
UID:10001252-1754749800-1754751600@reenaseniorliving.com
SUMMARY:Snack Delight and Social Time - Activity Room
DESCRIPTION:
URL:https://reenaseniorliving.com/event-calendar/snack-delight-and-social-time-activity-room-86/
LOCATION:LC Activity Room
CATEGORIES:Legacy Court
END:VEVENT
BEGIN:VEVENT
DTSTART;TZID=America/Chicago:20250809T170000
DTEND;TZID=America/Chicago:20250809T190000
DTSTAMP:20260421T083817
CREATED:20250711T060408Z
LAST-MODIFIED:20250731T060414Z
UID:10001255-1754758800-1754766000@reenaseniorliving.com
SUMMARY:Resident Guided - Social Time
DESCRIPTION:
URL:https://reenaseniorliving.com/event-calendar/resident-guided-social-time-88/
LOCATION:Activity Room
CATEGORIES:Assisted Living
END:VEVENT
END:VCALENDAR