BEGIN:VCALENDAR
VERSION:2.0
PRODID:-//Reena Senior Living - ECPv6.11.2.1//NONSGML v1.0//EN
CALSCALE:GREGORIAN
METHOD:PUBLISH
X-ORIGINAL-URL:https://reenaseniorliving.com
X-WR-CALDESC:Events for Reena Senior Living
REFRESH-INTERVAL;VALUE=DURATION:PT1H
X-Robots-Tag:noindex
X-PUBLISHED-TTL:PT1H
BEGIN:VTIMEZONE
TZID:America/Chicago
BEGIN:DAYLIGHT
TZOFFSETFROM:-0600
TZOFFSETTO:-0500
TZNAME:CDT
DTSTART:20250309T080000
END:DAYLIGHT
BEGIN:STANDARD
TZOFFSETFROM:-0500
TZOFFSETTO:-0600
TZNAME:CST
DTSTART:20251102T070000
END:STANDARD
END:VTIMEZONE
BEGIN:VEVENT
DTSTART;TZID=America/Chicago:20250816T103000
DTEND;TZID=America/Chicago:20250816T113000
DTSTAMP:20260421T062806
CREATED:20250731T060415Z
LAST-MODIFIED:20250816T061902Z
UID:10001587-1755340200-1755343800@reenaseniorliving.com
SUMMARY:Students Playing Piano and singing - Nichole Butzine's students.
DESCRIPTION:
URL:https://reenaseniorliving.com/event-calendar/bingo-with-anne-2/
LOCATION:Activity Room
CATEGORIES:Assisted Living
END:VEVENT
BEGIN:VEVENT
DTSTART;TZID=America/Chicago:20250816T123000
DTEND;TZID=America/Chicago:20250816T125000
DTSTAMP:20260421T062806
CREATED:20250718T060527Z
LAST-MODIFIED:20250816T061902Z
UID:10001338-1755347400-1755348600@reenaseniorliving.com
SUMMARY:Green Thumbs Garden Group
DESCRIPTION:
URL:https://reenaseniorliving.com/event-calendar/green-thumbs-garden-group-26/
LOCATION:Activity Room Patio
CATEGORIES:Assisted Living
END:VEVENT
BEGIN:VEVENT
DTSTART;TZID=America/Chicago:20250816T130000
DTEND;TZID=America/Chicago:20250816T133000
DTSTAMP:20260421T062806
CREATED:20250718T033422Z
LAST-MODIFIED:20250807T035046Z
UID:10001335-1755349200-1755351000@reenaseniorliving.com
SUMMARY:Green Thumbs Legacy - Let's explore the outdoors.
DESCRIPTION:
URL:https://reenaseniorliving.com/event-calendar/green-thumbs-legacy-lets-explore-the-outdoors-6/
LOCATION:Patio
CATEGORIES:Legacy Court
END:VEVENT
BEGIN:VEVENT
DTSTART;TZID=America/Chicago:20250816T131500
DTEND;TZID=America/Chicago:20250816T133000
DTSTAMP:20260421T062806
CREATED:20250718T033422Z
LAST-MODIFIED:20250816T040403Z
UID:10001336-1755350100-1755351000@reenaseniorliving.com
SUMMARY:Patio Time - Let's explore the outdoors.
DESCRIPTION:
URL:https://reenaseniorliving.com/event-calendar/patio-time-lets-explore-the-outdoors-15/
LOCATION:Patio
CATEGORIES:Legacy Court
END:VEVENT
BEGIN:VEVENT
DTSTART;TZID=America/Chicago:20250816T133000
DTEND;TZID=America/Chicago:20250816T134500
DTSTAMP:20260421T062806
CREATED:20250718T033422Z
LAST-MODIFIED:20250816T040403Z
UID:10001334-1755351000-1755351900@reenaseniorliving.com
SUMMARY:Walking Group
DESCRIPTION:
URL:https://reenaseniorliving.com/event-calendar/walking-group-15/
LOCATION:Legacy Court
CATEGORIES:Legacy Court
END:VEVENT
BEGIN:VEVENT
DTSTART;TZID=America/Chicago:20250816T134500
DTEND;TZID=America/Chicago:20250816T143000
DTSTAMP:20260421T062806
CREATED:20250731T034939Z
LAST-MODIFIED:20250816T040404Z
UID:10001566-1755351900-1755354600@reenaseniorliving.com
SUMMARY:Movement Followed by Guided Relaxation.
DESCRIPTION:
URL:https://reenaseniorliving.com/event-calendar/movement-followed-by-guided-relaxation/
LOCATION:Activity Room LC
CATEGORIES:Legacy Court
END:VEVENT
BEGIN:VEVENT
DTSTART;TZID=America/Chicago:20250816T143000
DTEND;TZID=America/Chicago:20250816T150000
DTSTAMP:20260421T062806
CREATED:20250718T033422Z
LAST-MODIFIED:20250816T040404Z
UID:10001337-1755354600-1755356400@reenaseniorliving.com
SUMMARY:Snack Delight and Social Time - Activity Room
DESCRIPTION:
URL:https://reenaseniorliving.com/event-calendar/snack-delight-and-social-time-activity-room-93/
LOCATION:LC Activity Room
CATEGORIES:Legacy Court
END:VEVENT
BEGIN:VEVENT
DTSTART;TZID=America/Chicago:20250816T170000
DTEND;TZID=America/Chicago:20250816T190000
DTSTAMP:20260421T062806
CREATED:20250718T060527Z
LAST-MODIFIED:20250816T061902Z
UID:10001339-1755363600-1755370800@reenaseniorliving.com
SUMMARY:Social and Game Time - Library is on 2nd floor - Balcony Area
DESCRIPTION:
URL:https://reenaseniorliving.com/event-calendar/resident-guided-social-time-95/
LOCATION:Library
CATEGORIES:Assisted Living
END:VEVENT
END:VCALENDAR