BEGIN:VCALENDAR
VERSION:2.0
PRODID:-//Reena Senior Living - ECPv6.11.2.1//NONSGML v1.0//EN
CALSCALE:GREGORIAN
METHOD:PUBLISH
X-WR-CALNAME:Reena Senior Living
X-ORIGINAL-URL:https://reenaseniorliving.com
X-WR-CALDESC:Events for Reena Senior Living
REFRESH-INTERVAL;VALUE=DURATION:PT1H
X-Robots-Tag:noindex
X-PUBLISHED-TTL:PT1H
BEGIN:VTIMEZONE
TZID:America/Chicago
BEGIN:DAYLIGHT
TZOFFSETFROM:-0600
TZOFFSETTO:-0500
TZNAME:CDT
DTSTART:20250309T080000
END:DAYLIGHT
BEGIN:STANDARD
TZOFFSETFROM:-0500
TZOFFSETTO:-0600
TZNAME:CST
DTSTART:20251102T070000
END:STANDARD
END:VTIMEZONE
BEGIN:VEVENT
DTSTART;TZID=America/Chicago:20250906T103000
DTEND;TZID=America/Chicago:20250906T113000
DTSTAMP:20260421T025410
CREATED:20250830T064930Z
LAST-MODIFIED:20250906T070432Z
UID:10001979-1757154600-1757158200@reenaseniorliving.com
SUMMARY:Sing a Long Karaoke on TV with Anne (AR)
DESCRIPTION:
URL:https://reenaseniorliving.com/event-calendar/sing-a-long-karaoke-on-tv-with-anne-ar/
LOCATION:Activity Room
CATEGORIES:Assisted Living
END:VEVENT
BEGIN:VEVENT
DTSTART;TZID=America/Chicago:20250906T121500
DTEND;TZID=America/Chicago:20250906T124000
DTSTAMP:20260421T025410
CREATED:20250808T060417Z
LAST-MODIFIED:20250906T070432Z
UID:10001701-1757160900-1757162400@reenaseniorliving.com
SUMMARY:Green Thumbs Garden Group (AR)
DESCRIPTION:
URL:https://reenaseniorliving.com/event-calendar/green-thumbs-garden-group-44/
LOCATION:Activity Room Patio
CATEGORIES:Assisted Living
END:VEVENT
BEGIN:VEVENT
DTSTART;TZID=America/Chicago:20250906T130000
DTEND;TZID=America/Chicago:20250906T133000
DTSTAMP:20260421T025410
CREATED:20250808T034950Z
LAST-MODIFIED:20250906T050402Z
UID:10001697-1757163600-1757165400@reenaseniorliving.com
SUMMARY:Green Thumbs Legacy - Let's explore the outdoors.
DESCRIPTION:
URL:https://reenaseniorliving.com/event-calendar/green-thumbs-legacy-lets-explore-the-outdoors-9/
LOCATION:Patio
CATEGORIES:Legacy Court
END:VEVENT
BEGIN:VEVENT
DTSTART;TZID=America/Chicago:20250906T130000
DTEND;TZID=America/Chicago:20250906T133000
DTSTAMP:20260421T025410
CREATED:20250808T034950Z
LAST-MODIFIED:20250906T050402Z
UID:10001698-1757163600-1757165400@reenaseniorliving.com
SUMMARY:Patio Time - Let's explore the outdoors.
DESCRIPTION:
URL:https://reenaseniorliving.com/event-calendar/patio-time-lets-explore-the-outdoors-18/
LOCATION:Patio
CATEGORIES:Legacy Court
END:VEVENT
BEGIN:VEVENT
DTSTART;TZID=America/Chicago:20250906T134500
DTEND;TZID=America/Chicago:20250906T140000
DTSTAMP:20260421T025410
CREATED:20250808T034950Z
LAST-MODIFIED:20250906T050402Z
UID:10001700-1757166300-1757167200@reenaseniorliving.com
SUMMARY:Walking Group
DESCRIPTION:
URL:https://reenaseniorliving.com/event-calendar/walking-group-18/
LOCATION:Legacy Court
CATEGORIES:Legacy Court
END:VEVENT
BEGIN:VEVENT
DTSTART;TZID=America/Chicago:20250906T140000
DTEND;TZID=America/Chicago:20250906T144500
DTSTAMP:20260421T025410
CREATED:20250829T042041Z
LAST-MODIFIED:20250906T050402Z
UID:10001961-1757167200-1757169900@reenaseniorliving.com
SUMMARY:Sing a Long with Anne
DESCRIPTION:
URL:https://reenaseniorliving.com/event-calendar/sing-a-long-with-anne/
CATEGORIES:Legacy Court
END:VEVENT
BEGIN:VEVENT
DTSTART;TZID=America/Chicago:20250906T144000
DTEND;TZID=America/Chicago:20250906T150500
DTSTAMP:20260421T025410
CREATED:20250808T034950Z
LAST-MODIFIED:20250906T050402Z
UID:10001699-1757169600-1757171100@reenaseniorliving.com
SUMMARY:Snack Delight and Social Time - Activity Room
DESCRIPTION:
URL:https://reenaseniorliving.com/event-calendar/snack-delight-and-social-time-activity-room-114/
LOCATION:LC Activity Room
CATEGORIES:Legacy Court
END:VEVENT
BEGIN:VEVENT
DTSTART;TZID=America/Chicago:20250906T170000
DTEND;TZID=America/Chicago:20250906T190000
DTSTAMP:20260421T025410
CREATED:20250808T060417Z
LAST-MODIFIED:20250906T070432Z
UID:10001702-1757178000-1757185200@reenaseniorliving.com
SUMMARY:Social and Game Time - Balcony\, Activity Room or Pub Spaces
DESCRIPTION:
URL:https://reenaseniorliving.com/event-calendar/social-and-game-time-library-is-on-2nd-floor-balcony-area-3/
LOCATION:Library
CATEGORIES:Assisted Living
END:VEVENT
END:VCALENDAR