BEGIN:VCALENDAR
VERSION:2.0
PRODID:-//Reena Senior Living - ECPv6.11.2.1//NONSGML v1.0//EN
CALSCALE:GREGORIAN
METHOD:PUBLISH
X-ORIGINAL-URL:https://reenaseniorliving.com
X-WR-CALDESC:Events for Reena Senior Living
REFRESH-INTERVAL;VALUE=DURATION:PT1H
X-Robots-Tag:noindex
X-PUBLISHED-TTL:PT1H
BEGIN:VTIMEZONE
TZID:America/Chicago
BEGIN:DAYLIGHT
TZOFFSETFROM:-0600
TZOFFSETTO:-0500
TZNAME:CDT
DTSTART:20260308T080000
END:DAYLIGHT
BEGIN:STANDARD
TZOFFSETFROM:-0500
TZOFFSETTO:-0600
TZNAME:CST
DTSTART:20261101T070000
END:STANDARD
END:VTIMEZONE
BEGIN:VEVENT
DTSTART;TZID=America/Chicago:20260124T090000
DTEND;TZID=America/Chicago:20260124T100000
DTSTAMP:20260422T102020
CREATED:20260114T033410Z
LAST-MODIFIED:20260124T040416Z
UID:10004019-1769245200-1769248800@reenaseniorliving.com
SUMMARY:Senior Center Project.
DESCRIPTION:
URL:https://reenaseniorliving.com/event-calendar/senior-center-project/
LOCATION:Activity Room
CATEGORIES:Legacy Court
END:VEVENT
BEGIN:VEVENT
DTSTART;TZID=America/Chicago:20260124T100000
DTEND;TZID=America/Chicago:20260124T103000
DTSTAMP:20260422T102020
CREATED:20251227T010411Z
LAST-MODIFIED:20260124T020417Z
UID:10003759-1769248800-1769250600@reenaseniorliving.com
SUMMARY:Coffee and Winter Olympic Overview with Laurie
DESCRIPTION:
URL:https://reenaseniorliving.com/event-calendar/coffee-and-funny-animal-videos-and-bloopers-with-laurie/
LOCATION:Activity Room
CATEGORIES:Assisted Living
END:VEVENT
BEGIN:VEVENT
DTSTART;TZID=America/Chicago:20260124T101500
DTEND;TZID=America/Chicago:20260124T111500
DTSTAMP:20260422T102020
CREATED:20260114T033410Z
LAST-MODIFIED:20260124T040416Z
UID:10004020-1769249700-1769253300@reenaseniorliving.com
SUMMARY:Seated Bowling with Laurie
DESCRIPTION:
URL:https://reenaseniorliving.com/event-calendar/seated-bowling-with-laurie/
LOCATION:Activity Room
CATEGORIES:Legacy Court
END:VEVENT
BEGIN:VEVENT
DTSTART;TZID=America/Chicago:20260124T141000
DTEND;TZID=America/Chicago:20260124T143500
DTSTAMP:20260422T102020
CREATED:20251226T020416Z
LAST-MODIFIED:20260124T040416Z
UID:10003738-1769263800-1769265300@reenaseniorliving.com
SUMMARY:Snack Delight and Social Time
DESCRIPTION:
URL:https://reenaseniorliving.com/event-calendar/snack-delight-and-social-time-activity-room-255/
LOCATION:LC Activity Room
CATEGORIES:Legacy Court
END:VEVENT
BEGIN:VEVENT
DTSTART;TZID=America/Chicago:20260124T143000
DTEND;TZID=America/Chicago:20260124T161500
DTSTAMP:20260422T102020
CREATED:20251231T013404Z
LAST-MODIFIED:20260124T020417Z
UID:10003818-1769265000-1769271300@reenaseniorliving.com
SUMMARY:Nails with Laurie - Sign-up for a Trim or Polish
DESCRIPTION:
URL:https://reenaseniorliving.com/event-calendar/nails-with-laurie-sign-up-for-a-trim-or-polish/
LOCATION:Activity Room
CATEGORIES:Assisted Living
END:VEVENT
BEGIN:VEVENT
DTSTART;TZID=America/Chicago:20260124T153000
DTEND;TZID=America/Chicago:20260124T160000
DTSTAMP:20260422T102020
CREATED:20260114T033410Z
LAST-MODIFIED:20260124T040416Z
UID:10004021-1769268600-1769270400@reenaseniorliving.com
SUMMARY:Movement Class with Laurie
DESCRIPTION:
URL:https://reenaseniorliving.com/event-calendar/movement-class-with-laurie/
LOCATION:Activity Room
CATEGORIES:Legacy Court
END:VEVENT
BEGIN:VEVENT
DTSTART;TZID=America/Chicago:20260124T173000
DTEND;TZID=America/Chicago:20260124T193000
DTSTAMP:20260422T102020
CREATED:20251226T010411Z
LAST-MODIFIED:20260124T020417Z
UID:10003737-1769275800-1769283000@reenaseniorliving.com
SUMMARY:Resident Run Social Time in any Public Space.
DESCRIPTION:
URL:https://reenaseniorliving.com/event-calendar/resident-run-social-time-in-any-public-space-14/
CATEGORIES:Assisted Living
END:VEVENT
END:VCALENDAR