BEGIN:VCALENDAR
VERSION:2.0
PRODID:-//Reena Senior Living - ECPv6.11.2.1//NONSGML v1.0//EN
CALSCALE:GREGORIAN
METHOD:PUBLISH
X-ORIGINAL-URL:https://reenaseniorliving.com
X-WR-CALDESC:Events for Reena Senior Living
REFRESH-INTERVAL;VALUE=DURATION:PT1H
X-Robots-Tag:noindex
X-PUBLISHED-TTL:PT1H
BEGIN:VTIMEZONE
TZID:America/Chicago
BEGIN:DAYLIGHT
TZOFFSETFROM:-0600
TZOFFSETTO:-0500
TZNAME:CDT
DTSTART:20260308T080000
END:DAYLIGHT
BEGIN:STANDARD
TZOFFSETFROM:-0500
TZOFFSETTO:-0600
TZNAME:CST
DTSTART:20261101T070000
END:STANDARD
END:VTIMEZONE
BEGIN:VEVENT
DTSTART;TZID=America/Chicago:20260204T085000
DTEND;TZID=America/Chicago:20260204T095000
DTSTAMP:20260422T144945
CREATED:20260131T043410Z
LAST-MODIFIED:20260204T044912Z
UID:10004274-1770195000-1770198600@reenaseniorliving.com
SUMMARY:Nail Spa Day
DESCRIPTION:
URL:https://reenaseniorliving.com/event-calendar/nail-spa-day-7/
LOCATION:Grandma’s Garden
CATEGORIES:Legacy Court
END:VEVENT
BEGIN:VEVENT
DTSTART;TZID=America/Chicago:20260204T091500
DTEND;TZID=America/Chicago:20260204T094500
DTSTAMP:20260422T144945
CREATED:20260106T014912Z
LAST-MODIFIED:20260204T023401Z
UID:10003902-1770196500-1770198300@reenaseniorliving.com
SUMMARY:Movement Class with Kayla
DESCRIPTION:
URL:https://reenaseniorliving.com/event-calendar/movement-class-with-kayla-134/
LOCATION:Activity Room
CATEGORIES:Assisted Living
END:VEVENT
BEGIN:VEVENT
DTSTART;TZID=America/Chicago:20260204T094500
DTEND;TZID=America/Chicago:20260204T100500
DTSTAMP:20260422T144945
CREATED:20260106T014912Z
LAST-MODIFIED:20260204T023401Z
UID:10003903-1770198300-1770199500@reenaseniorliving.com
SUMMARY:Wellness Walking Group
DESCRIPTION:
URL:https://reenaseniorliving.com/event-calendar/wellness-walking-group-self-paced-guided-by-community-life-wellness-team-2/
LOCATION:Activity Room
CATEGORIES:Assisted Living
END:VEVENT
BEGIN:VEVENT
DTSTART;TZID=America/Chicago:20260204T101500
DTEND;TZID=America/Chicago:20260204T111500
DTSTAMP:20260422T144945
CREATED:20260106T014912Z
LAST-MODIFIED:20260204T044912Z
UID:10003904-1770200100-1770203700@reenaseniorliving.com
SUMMARY:Catholic Service at Legacy Court
DESCRIPTION:
URL:https://reenaseniorliving.com/event-calendar/catholic-service-at-legacy-court-13/
LOCATION:Legacy Court
CATEGORIES:Assisted Living,Legacy Court
END:VEVENT
BEGIN:VEVENT
DTSTART;TZID=America/Chicago:20260204T112500
DTEND;TZID=America/Chicago:20260204T113000
DTSTAMP:20260422T144945
CREATED:20260106T030412Z
LAST-MODIFIED:20260204T044912Z
UID:10003907-1770204300-1770204600@reenaseniorliving.com
SUMMARY:Pledge of Allegiance
DESCRIPTION:
URL:https://reenaseniorliving.com/event-calendar/pledge-of-allegiance-30/
LOCATION:Legacy Court
CATEGORIES:Legacy Court
END:VEVENT
BEGIN:VEVENT
DTSTART;TZID=America/Chicago:20260204T120000
DTEND;TZID=America/Chicago:20260204T121500
DTSTAMP:20260422T144945
CREATED:20260106T030412Z
LAST-MODIFIED:20260130T043403Z
UID:10003908-1770206400-1770207300@reenaseniorliving.com
SUMMARY:TV off this afternoon
DESCRIPTION:
URL:https://reenaseniorliving.com/event-calendar/tv-off-this-afternoon-28/
CATEGORIES:Legacy Court
END:VEVENT
BEGIN:VEVENT
DTSTART;TZID=America/Chicago:20260204T121500
DTEND;TZID=America/Chicago:20260204T130000
DTSTAMP:20260422T144945
CREATED:20260106T014912Z
LAST-MODIFIED:20260204T023401Z
UID:10003905-1770207300-1770210000@reenaseniorliving.com
SUMMARY:Resident Council
DESCRIPTION:
URL:https://reenaseniorliving.com/event-calendar/resident-council-10/
LOCATION:Activity Room
CATEGORIES:Assisted Living
END:VEVENT
BEGIN:VEVENT
DTSTART;TZID=America/Chicago:20260204T130000
DTEND;TZID=America/Chicago:20260204T134500
DTSTAMP:20260422T144945
CREATED:20260128T021917Z
LAST-MODIFIED:20260204T023402Z
UID:10004224-1770210000-1770212700@reenaseniorliving.com
SUMMARY:Let's Honor the Olympic Games with some fun! Ice Curling & Hoop Racing. Join in the Fun!
DESCRIPTION:
URL:https://reenaseniorliving.com/event-calendar/lets-honor-the-olympic-games-with-some-fun-ice-curling-hoop-racing-join-in-the-fun/
LOCATION:Activity Room
CATEGORIES:Assisted Living,Legacy Court
END:VEVENT
BEGIN:VEVENT
DTSTART;TZID=America/Chicago:20260204T131000
DTEND;TZID=America/Chicago:20260204T133000
DTSTAMP:20260422T144946
CREATED:20260106T030413Z
LAST-MODIFIED:20260204T044912Z
UID:10003914-1770210600-1770211800@reenaseniorliving.com
SUMMARY:Walking Group Time - Healthy Movement\, Healthy Body
DESCRIPTION:
URL:https://reenaseniorliving.com/event-calendar/walking-group-time-healthy-movement-healthy-body-52/
LOCATION:Legacy Court
CATEGORIES:Legacy Court
END:VEVENT
BEGIN:VEVENT
DTSTART;TZID=America/Chicago:20260204T133000
DTEND;TZID=America/Chicago:20260204T140000
DTSTAMP:20260422T144946
CREATED:20260106T030412Z
LAST-MODIFIED:20260204T044912Z
UID:10003909-1770211800-1770213600@reenaseniorliving.com
SUMMARY:Music\, Music\, Music
DESCRIPTION:
URL:https://reenaseniorliving.com/event-calendar/records-with-dorothy-21/
LOCATION:Activity Room
CATEGORIES:Legacy Court
END:VEVENT
BEGIN:VEVENT
DTSTART;TZID=America/Chicago:20260204T140000
DTEND;TZID=America/Chicago:20260204T142500
DTSTAMP:20260422T144946
CREATED:20260106T030412Z
LAST-MODIFIED:20260204T044912Z
UID:10003910-1770213600-1770215100@reenaseniorliving.com
SUMMARY:Reading Poetry and Rhymes Together.
DESCRIPTION:
URL:https://reenaseniorliving.com/event-calendar/reading-poetry-and-rhymes-together-5/
LOCATION:Activity Room
CATEGORIES:Legacy Court
END:VEVENT
BEGIN:VEVENT
DTSTART;TZID=America/Chicago:20260204T140500
DTEND;TZID=America/Chicago:20260204T141500
DTSTAMP:20260422T144946
CREATED:20260106T030413Z
LAST-MODIFIED:20260204T044913Z
UID:10003911-1770213900-1770214500@reenaseniorliving.com
SUMMARY:Oshibori
DESCRIPTION:
URL:https://reenaseniorliving.com/event-calendar/oshibori-109/
LOCATION:LC Activity Room
CATEGORIES:Legacy Court
END:VEVENT
BEGIN:VEVENT
DTSTART;TZID=America/Chicago:20260204T141000
DTEND;TZID=America/Chicago:20260204T143500
DTSTAMP:20260422T144946
CREATED:20260106T030413Z
LAST-MODIFIED:20260204T044913Z
UID:10003912-1770214200-1770215700@reenaseniorliving.com
SUMMARY:Snack Delight and Social Time
DESCRIPTION:
URL:https://reenaseniorliving.com/event-calendar/snack-delight-and-social-time-6/
LOCATION:LC Activity Room
CATEGORIES:Legacy Court
END:VEVENT
BEGIN:VEVENT
DTSTART;TZID=America/Chicago:20260204T150500
DTEND;TZID=America/Chicago:20260204T153000
DTSTAMP:20260422T144946
CREATED:20260106T030413Z
LAST-MODIFIED:20260204T044913Z
UID:10003913-1770217500-1770219000@reenaseniorliving.com
SUMMARY:Movement with Balls\, Noodles\, & Weights.
DESCRIPTION:
URL:https://reenaseniorliving.com/event-calendar/movement-with-balls-noodles-weights-41/
LOCATION:Sunroom
CATEGORIES:Legacy Court
END:VEVENT
BEGIN:VEVENT
DTSTART;TZID=America/Chicago:20260204T173000
DTEND;TZID=America/Chicago:20260204T193000
DTSTAMP:20260422T144946
CREATED:20260106T014912Z
LAST-MODIFIED:20260204T023402Z
UID:10003906-1770226200-1770233400@reenaseniorliving.com
SUMMARY:Resident Run Social Time in any Public Space.
DESCRIPTION:
URL:https://reenaseniorliving.com/event-calendar/resident-run-social-time-in-any-public-space-23/
CATEGORIES:Assisted Living
END:VEVENT
END:VCALENDAR