BEGIN:VCALENDAR
VERSION:2.0
PRODID:-//Reena Senior Living - ECPv6.11.2.1//NONSGML v1.0//EN
CALSCALE:GREGORIAN
METHOD:PUBLISH
X-ORIGINAL-URL:https://reenaseniorliving.com
X-WR-CALDESC:Events for Reena Senior Living
REFRESH-INTERVAL;VALUE=DURATION:PT1H
X-Robots-Tag:noindex
X-PUBLISHED-TTL:PT1H
BEGIN:VTIMEZONE
TZID:America/Chicago
BEGIN:DAYLIGHT
TZOFFSETFROM:-0600
TZOFFSETTO:-0500
TZNAME:CDT
DTSTART:20260308T080000
END:DAYLIGHT
BEGIN:STANDARD
TZOFFSETFROM:-0500
TZOFFSETTO:-0600
TZNAME:CST
DTSTART:20261101T070000
END:STANDARD
END:VTIMEZONE
BEGIN:VEVENT
DTSTART;TZID=America/Chicago:20260205T090000
DTEND;TZID=America/Chicago:20260205T093000
DTSTAMP:20260422T171912
CREATED:20260107T030415Z
LAST-MODIFIED:20260205T044922Z
UID:10003918-1770282000-1770283800@reenaseniorliving.com
SUMMARY:Folding Oshibori Clothes or Grandma's Basket
DESCRIPTION:
URL:https://reenaseniorliving.com/event-calendar/folding-oshibori-clothes-or-grandmas-basket-2/
LOCATION:Legacy Court
CATEGORIES:Legacy Court
END:VEVENT
BEGIN:VEVENT
DTSTART;TZID=America/Chicago:20260205T091500
DTEND;TZID=America/Chicago:20260205T094500
DTSTAMP:20260422T171912
CREATED:20260107T014939Z
LAST-MODIFIED:20260205T023403Z
UID:10003915-1770282900-1770284700@reenaseniorliving.com
SUMMARY:Movement Class with Kayla
DESCRIPTION:Gentle Movement\, Strength\, Mobility\, Balance\, & More.
URL:https://reenaseniorliving.com/event-calendar/movement-class-with-kayla-135/
LOCATION:Activity Room
CATEGORIES:Assisted Living
END:VEVENT
BEGIN:VEVENT
DTSTART;TZID=America/Chicago:20260205T093000
DTEND;TZID=America/Chicago:20260205T100000
DTSTAMP:20260422T171912
CREATED:20260131T043411Z
LAST-MODIFIED:20260205T044922Z
UID:10004275-1770283800-1770285600@reenaseniorliving.com
SUMMARY:Ping Pong Game
DESCRIPTION:
URL:https://reenaseniorliving.com/event-calendar/ping-pong-game/
LOCATION:Activity Room
CATEGORIES:Legacy Court
END:VEVENT
BEGIN:VEVENT
DTSTART;TZID=America/Chicago:20260205T095000
DTEND;TZID=America/Chicago:20260205T101000
DTSTAMP:20260422T171912
CREATED:20260108T014936Z
LAST-MODIFIED:20260205T023403Z
UID:10003931-1770285000-1770286200@reenaseniorliving.com
SUMMARY:Green Thumbs Garden Club
DESCRIPTION:
URL:https://reenaseniorliving.com/event-calendar/green-thumbs-garden-club-8/
LOCATION:Activity Room
CATEGORIES:Assisted Living
END:VEVENT
BEGIN:VEVENT
DTSTART;TZID=America/Chicago:20260205T101500
DTEND;TZID=America/Chicago:20260205T103000
DTSTAMP:20260422T171912
CREATED:20260107T030415Z
LAST-MODIFIED:20260205T044923Z
UID:10003919-1770286500-1770287400@reenaseniorliving.com
SUMMARY:Group Walking for Good Health
DESCRIPTION:
URL:https://reenaseniorliving.com/event-calendar/group-walking-for-good-health-19/
LOCATION:Legacy Court
CATEGORIES:Legacy Court
END:VEVENT
BEGIN:VEVENT
DTSTART;TZID=America/Chicago:20260205T103000
DTEND;TZID=America/Chicago:20260205T105500
DTSTAMP:20260422T171912
CREATED:20260131T043411Z
LAST-MODIFIED:20260205T044923Z
UID:10004276-1770287400-1770288900@reenaseniorliving.com
SUMMARY:Noodle Racing
DESCRIPTION:
URL:https://reenaseniorliving.com/event-calendar/noodle-racing/
LOCATION:Activity Room
CATEGORIES:Legacy Court
END:VEVENT
BEGIN:VEVENT
DTSTART;TZID=America/Chicago:20260205T110000
DTEND;TZID=America/Chicago:20260205T112500
DTSTAMP:20260422T171912
CREATED:20260131T043411Z
LAST-MODIFIED:20260205T044923Z
UID:10004277-1770289200-1770290700@reenaseniorliving.com
SUMMARY:Timeslip Story Telling
DESCRIPTION:
URL:https://reenaseniorliving.com/event-calendar/timeslip-story-telling/
LOCATION:Activity Room
CATEGORIES:Legacy Court
END:VEVENT
BEGIN:VEVENT
DTSTART;TZID=America/Chicago:20260205T125000
DTEND;TZID=America/Chicago:20260205T135000
DTSTAMP:20260422T171912
CREATED:20260107T014939Z
LAST-MODIFIED:20260205T044923Z
UID:10003916-1770295800-1770299400@reenaseniorliving.com
SUMMARY:TRYathlon Scrimmage Day! Arm Crank or Leg Crank!
DESCRIPTION:
URL:https://reenaseniorliving.com/event-calendar/tryathlon-walking-day-let-walk-or-do-seated-marching-as-a-team-4/
LOCATION:Activity Room
CATEGORIES:Assisted Living,Legacy Court
END:VEVENT
BEGIN:VEVENT
DTSTART;TZID=America/Chicago:20260205T140000
DTEND;TZID=America/Chicago:20260205T150000
DTSTAMP:20260422T171912
CREATED:20260128T021917Z
LAST-MODIFIED:20260205T023403Z
UID:10004225-1770300000-1770303600@reenaseniorliving.com
SUMMARY:Marine Rescue and Rehabilitation - Live Program
DESCRIPTION:
URL:https://reenaseniorliving.com/event-calendar/marine-rescue-and-rehabilitation-live-program/
LOCATION:Activity Room
CATEGORIES:Assisted Living
END:VEVENT
BEGIN:VEVENT
DTSTART;TZID=America/Chicago:20260205T141000
DTEND;TZID=America/Chicago:20260205T143500
DTSTAMP:20260422T171912
CREATED:20260107T030415Z
LAST-MODIFIED:20260205T044923Z
UID:10003920-1770300600-1770302100@reenaseniorliving.com
SUMMARY:Snack Delight and Social Time
DESCRIPTION:
URL:https://reenaseniorliving.com/event-calendar/snack-delight-and-social-time-7/
LOCATION:LC Activity Room
CATEGORIES:Legacy Court
END:VEVENT
BEGIN:VEVENT
DTSTART;TZID=America/Chicago:20260205T142000
DTEND;TZID=America/Chicago:20260205T142500
DTSTAMP:20260422T171912
CREATED:20260107T030415Z
LAST-MODIFIED:20260205T044923Z
UID:10003921-1770301200-1770301500@reenaseniorliving.com
SUMMARY:Prayer
DESCRIPTION:
URL:https://reenaseniorliving.com/event-calendar/prayer-156/
LOCATION:Dining Room
CATEGORIES:Legacy Court
END:VEVENT
BEGIN:VEVENT
DTSTART;TZID=America/Chicago:20260205T144500
DTEND;TZID=America/Chicago:20260205T151500
DTSTAMP:20260422T171912
CREATED:20260107T030415Z
LAST-MODIFIED:20260205T044924Z
UID:10003922-1770302700-1770304500@reenaseniorliving.com
SUMMARY:Music Appreciation - Radio or Records
DESCRIPTION:Records or 50’s and 60’s variety this month\nTV OFF
URL:https://reenaseniorliving.com/event-calendar/music-appreciation-radio-or-records-33/
LOCATION:Legacy Court
CATEGORIES:Legacy Court
END:VEVENT
BEGIN:VEVENT
DTSTART;TZID=America/Chicago:20260205T150000
DTEND;TZID=America/Chicago:20260205T152000
DTSTAMP:20260422T171912
CREATED:20260107T030415Z
LAST-MODIFIED:20260205T044924Z
UID:10003923-1770303600-1770304800@reenaseniorliving.com
SUMMARY:Grandma's Garden Social Time
DESCRIPTION:
URL:https://reenaseniorliving.com/event-calendar/grandmas-garden-social-time-11/
LOCATION:Legacy Court
CATEGORIES:Legacy Court
END:VEVENT
BEGIN:VEVENT
DTSTART;TZID=America/Chicago:20260205T173000
DTEND;TZID=America/Chicago:20260205T193000
DTSTAMP:20260422T171912
CREATED:20260107T014940Z
LAST-MODIFIED:20260205T023403Z
UID:10003917-1770312600-1770319800@reenaseniorliving.com
SUMMARY:Resident Run Social Time in any Public Space.
DESCRIPTION:
URL:https://reenaseniorliving.com/event-calendar/resident-run-social-time-in-any-public-space-24/
CATEGORIES:Assisted Living
END:VEVENT
BEGIN:VEVENT
DTSTART;TZID=America/Chicago:20260205T174500
DTEND;TZID=America/Chicago:20260205T181500
DTSTAMP:20260422T171912
CREATED:20260131T043412Z
LAST-MODIFIED:20260205T044936Z
UID:10004278-1770313500-1770315300@reenaseniorliving.com
SUMMARY:Gentle Movement and Relaxation with Kayla.
DESCRIPTION:
URL:https://reenaseniorliving.com/event-calendar/gentle-movement-and-relaxation-with-kayla/
LOCATION:Activity Room
CATEGORIES:Legacy Court
END:VEVENT
END:VCALENDAR