BEGIN:VCALENDAR
VERSION:2.0
PRODID:-//Reena Senior Living - ECPv6.11.2.1//NONSGML v1.0//EN
CALSCALE:GREGORIAN
METHOD:PUBLISH
X-WR-CALNAME:Reena Senior Living
X-ORIGINAL-URL:https://reenaseniorliving.com
X-WR-CALDESC:Events for Reena Senior Living
REFRESH-INTERVAL;VALUE=DURATION:PT1H
X-Robots-Tag:noindex
X-PUBLISHED-TTL:PT1H
BEGIN:VTIMEZONE
TZID:America/Chicago
BEGIN:DAYLIGHT
TZOFFSETFROM:-0600
TZOFFSETTO:-0500
TZNAME:CDT
DTSTART:20260308T080000
END:DAYLIGHT
BEGIN:STANDARD
TZOFFSETFROM:-0500
TZOFFSETTO:-0600
TZNAME:CST
DTSTART:20261101T070000
END:STANDARD
END:VTIMEZONE
BEGIN:VEVENT
DTSTART;TZID=America/Chicago:20260420T090000
DTEND;TZID=America/Chicago:20260420T093000
DTSTAMP:20260420T011758
CREATED:20260322T093519Z
LAST-MODIFIED:20260325T094925Z
UID:10004979-1776675600-1776677400@reenaseniorliving.com
SUMMARY:Social Time - Linked Senior Events\, News\, & Reminisce
DESCRIPTION:
URL:https://reenaseniorliving.com/event-calendar/social-time-linked-senior-events-news-reminisce-5/
LOCATION:Activity Room
CATEGORIES:Legacy Court
END:VEVENT
BEGIN:VEVENT
DTSTART;TZID=America/Chicago:20260420T091500
DTEND;TZID=America/Chicago:20260420T094500
DTSTAMP:20260420T011758
CREATED:20260322T053418Z
LAST-MODIFIED:20260419T063414Z
UID:10004975-1776676500-1776678300@reenaseniorliving.com
SUMMARY:Movement with Kayla (AR)
DESCRIPTION:
URL:https://reenaseniorliving.com/event-calendar/movement-with-kayla-ar-18/
LOCATION:Activity Room
CATEGORIES:Assisted Living
END:VEVENT
BEGIN:VEVENT
DTSTART;TZID=America/Chicago:20260420T093000
DTEND;TZID=America/Chicago:20260420T101000
DTSTAMP:20260420T011758
CREATED:20260322T093519Z
LAST-MODIFIED:20260325T094925Z
UID:10004980-1776677400-1776679800@reenaseniorliving.com
SUMMARY:Games!
DESCRIPTION:
URL:https://reenaseniorliving.com/event-calendar/games-9/
LOCATION:Activity Room
CATEGORIES:Legacy Court
END:VEVENT
BEGIN:VEVENT
DTSTART;TZID=America/Chicago:20260420T101000
DTEND;TZID=America/Chicago:20260420T103000
DTSTAMP:20260420T011758
CREATED:20260322T093520Z
LAST-MODIFIED:20260419T151933Z
UID:10004987-1776679800-1776681000@reenaseniorliving.com
SUMMARY:Breath and Relaxation
DESCRIPTION:
URL:https://reenaseniorliving.com/event-calendar/breath-and-relaxation-41/
LOCATION:Legacy Court
CATEGORIES:Legacy Court
END:VEVENT
BEGIN:VEVENT
DTSTART;TZID=America/Chicago:20260420T101000
DTEND;TZID=America/Chicago:20260420T110500
DTSTAMP:20260420T011758
CREATED:20260322T053418Z
LAST-MODIFIED:20260419T063414Z
UID:10004976-1776679800-1776683100@reenaseniorliving.com
SUMMARY:Trinity Lutheran Visit with Coffee Social Hour
DESCRIPTION:Coffee will be offered. Please join us.
URL:https://reenaseniorliving.com/event-calendar/trinity-lutheran-visit-with-coffee-social-hour-5/
LOCATION:Activity Room
CATEGORIES:Assisted Living
END:VEVENT
BEGIN:VEVENT
DTSTART;TZID=America/Chicago:20260420T101500
DTEND;TZID=America/Chicago:20260420T111000
DTSTAMP:20260420T011758
CREATED:20260328T055019Z
LAST-MODIFIED:20260408T060414Z
UID:10005060-1776680100-1776683400@reenaseniorliving.com
SUMMARY:View - The Chosen with Chaplain Ann
DESCRIPTION:
URL:https://reenaseniorliving.com/event-calendar/non-denominational-time-with-chaplain-ann-3/
LOCATION:Theatre
CATEGORIES:Assisted Living
END:VEVENT
BEGIN:VEVENT
DTSTART;TZID=America/Chicago:20260420T103000
DTEND;TZID=America/Chicago:20260420T110000
DTSTAMP:20260420T011758
CREATED:20260322T093520Z
LAST-MODIFIED:20260419T151933Z
UID:10004981-1776681000-1776682800@reenaseniorliving.com
SUMMARY:Walking and Wheeling Together.
DESCRIPTION:
URL:https://reenaseniorliving.com/event-calendar/walking-and-wheeling-together-25/
CATEGORIES:Legacy Court
END:VEVENT
BEGIN:VEVENT
DTSTART;TZID=America/Chicago:20260420T130000
DTEND;TZID=America/Chicago:20260420T133000
DTSTAMP:20260420T011758
CREATED:20260328T055019Z
LAST-MODIFIED:20260419T063414Z
UID:10005061-1776690000-1776691800@reenaseniorliving.com
SUMMARY:Coaches and Captains Meeting - Robot Soccer Team
DESCRIPTION:
URL:https://reenaseniorliving.com/event-calendar/coaches-and-captains-meeting-robot-soccer-team/
LOCATION:Activity Room
CATEGORIES:Assisted Living
END:VEVENT
BEGIN:VEVENT
DTSTART;TZID=America/Chicago:20260420T130000
DTEND;TZID=America/Chicago:20260420T134500
DTSTAMP:20260420T011758
CREATED:20260322T093520Z
LAST-MODIFIED:20260419T151933Z
UID:10004982-1776690000-1776692700@reenaseniorliving.com
SUMMARY:Bingo
DESCRIPTION:
URL:https://reenaseniorliving.com/event-calendar/bingo-87/
LOCATION:LC AR
CATEGORIES:Legacy Court
END:VEVENT
BEGIN:VEVENT
DTSTART;TZID=America/Chicago:20260420T134500
DTEND;TZID=America/Chicago:20260420T140000
DTSTAMP:20260420T011758
CREATED:20260322T093520Z
LAST-MODIFIED:20260419T151933Z
UID:10004983-1776692700-1776693600@reenaseniorliving.com
SUMMARY:Jerry Apps - Great Storyteller Book Reading and Discussion
DESCRIPTION:Jerry Apps and Other Authors that reflect days gone by. Lessons and Reminiscing Fun!
URL:https://reenaseniorliving.com/event-calendar/jerry-apps-great-storyteller-book-reading-and-discussion-50/
LOCATION:Legacy Court
CATEGORIES:Legacy Court
END:VEVENT
BEGIN:VEVENT
DTSTART;TZID=America/Chicago:20260420T134500
DTEND;TZID=America/Chicago:20260420T142000
DTSTAMP:20260420T011758
CREATED:20260409T060459Z
LAST-MODIFIED:20260419T063414Z
UID:10005125-1776692700-1776694800@reenaseniorliving.com
SUMMARY:Robot Soccer Practice
DESCRIPTION:
URL:https://reenaseniorliving.com/event-calendar/robot-soccer-practice-3/
LOCATION:Activity Room
CATEGORIES:Assisted Living
END:VEVENT
BEGIN:VEVENT
DTSTART;TZID=America/Chicago:20260420T141500
DTEND;TZID=America/Chicago:20260420T144000
DTSTAMP:20260420T011758
CREATED:20260322T093520Z
LAST-MODIFIED:20260419T151945Z
UID:10004985-1776694500-1776696000@reenaseniorliving.com
SUMMARY:Snack Delight and Social Time
DESCRIPTION:
URL:https://reenaseniorliving.com/event-calendar/snack-delight-and-social-time-81/
LOCATION:LC Activity Room
CATEGORIES:Legacy Court
END:VEVENT
BEGIN:VEVENT
DTSTART;TZID=America/Chicago:20260420T142000
DTEND;TZID=America/Chicago:20260420T142500
DTSTAMP:20260420T011758
CREATED:20260322T093520Z
LAST-MODIFIED:20260419T151945Z
UID:10004984-1776694800-1776695100@reenaseniorliving.com
SUMMARY:Prayer
DESCRIPTION:
URL:https://reenaseniorliving.com/event-calendar/prayer-200/
LOCATION:Dining Room
CATEGORIES:Legacy Court
END:VEVENT
BEGIN:VEVENT
DTSTART;TZID=America/Chicago:20260420T143500
DTEND;TZID=America/Chicago:20260420T151500
DTSTAMP:20260420T011758
CREATED:20260322T053418Z
LAST-MODIFIED:20260408T060414Z
UID:10004977-1776695700-1776698100@reenaseniorliving.com
SUMMARY:Nerf Target Fun with our CLCA Student Visitors
DESCRIPTION:
URL:https://reenaseniorliving.com/event-calendar/nerf-target-fun-with-our-clca-student-visitors/
LOCATION:Activity Room
CATEGORIES:Assisted Living
END:VEVENT
BEGIN:VEVENT
DTSTART;TZID=America/Chicago:20260420T150000
DTEND;TZID=America/Chicago:20260420T152500
DTSTAMP:20260420T011758
CREATED:20260322T093520Z
LAST-MODIFIED:20260419T151945Z
UID:10004986-1776697200-1776698700@reenaseniorliving.com
SUMMARY:Movement with Balls\, Noodles\, & Weights.
DESCRIPTION:
URL:https://reenaseniorliving.com/event-calendar/movement-with-balls-noodles-weights-72/
LOCATION:Sunroom
CATEGORIES:Legacy Court
END:VEVENT
BEGIN:VEVENT
DTSTART;TZID=America/Chicago:20260420T153000
DTEND;TZID=America/Chicago:20260420T161500
DTSTAMP:20260420T011758
CREATED:20260322T053419Z
LAST-MODIFIED:20260419T063415Z
UID:10004978-1776699000-1776701700@reenaseniorliving.com
SUMMARY:Knitting\, Crochet\, Crafting\, and Social Time.
DESCRIPTION:
URL:https://reenaseniorliving.com/event-calendar/knitting-crochet-crafting-and-social-time-11/
LOCATION:Activity Room
CATEGORIES:Assisted Living
END:VEVENT
BEGIN:VEVENT
DTSTART;TZID=America/Chicago:20260420T173000
DTEND;TZID=America/Chicago:20260420T183000
DTSTAMP:20260420T011758
CREATED:20260322T093520Z
LAST-MODIFIED:20260419T151945Z
UID:10004988-1776706200-1776709800@reenaseniorliving.com
SUMMARY:Game Shows on TV
DESCRIPTION:
URL:https://reenaseniorliving.com/event-calendar/game-shows-on-tv-69/
LOCATION:Legacy Court
CATEGORIES:Legacy Court
END:VEVENT
END:VCALENDAR