BEGIN:VCALENDAR
VERSION:2.0
PRODID:-//Reena Senior Living - ECPv6.11.2.1//NONSGML v1.0//EN
CALSCALE:GREGORIAN
METHOD:PUBLISH
X-WR-CALNAME:Reena Senior Living
X-ORIGINAL-URL:https://reenaseniorliving.com
X-WR-CALDESC:Events for Reena Senior Living
REFRESH-INTERVAL;VALUE=DURATION:PT1H
X-Robots-Tag:noindex
X-PUBLISHED-TTL:PT1H
BEGIN:VTIMEZONE
TZID:America/Chicago
BEGIN:DAYLIGHT
TZOFFSETFROM:-0600
TZOFFSETTO:-0500
TZNAME:CDT
DTSTART:20260308T080000
END:DAYLIGHT
BEGIN:STANDARD
TZOFFSETFROM:-0500
TZOFFSETTO:-0600
TZNAME:CST
DTSTART:20261101T070000
END:STANDARD
END:VTIMEZONE
BEGIN:VEVENT
DTSTART;TZID=America/Chicago:20260424T094500
DTEND;TZID=America/Chicago:20260424T100000
DTSTAMP:20260424T092251
CREATED:20260328T055020Z
LAST-MODIFIED:20260424T063404Z
UID:10005064-1777023900-1777024800@reenaseniorliving.com
SUMMARY:Movement Class
DESCRIPTION:
URL:https://reenaseniorliving.com/event-calendar/biking-and-balance-5/
LOCATION:Activity Room
CATEGORIES:Assisted Living
END:VEVENT
BEGIN:VEVENT
DTSTART;TZID=America/Chicago:20260424T100000
DTEND;TZID=America/Chicago:20260424T104000
DTSTAMP:20260424T092251
CREATED:20260415T061910Z
LAST-MODIFIED:20260424T063405Z
UID:10005180-1777024800-1777027200@reenaseniorliving.com
SUMMARY:Robot Soccer Practice
DESCRIPTION:
URL:https://reenaseniorliving.com/event-calendar/robot-soccer-practice-4/
LOCATION:Activity Room
CATEGORIES:Assisted Living
END:VEVENT
BEGIN:VEVENT
DTSTART;TZID=America/Chicago:20260424T100000
DTEND;TZID=America/Chicago:20260424T105000
DTSTAMP:20260424T092251
CREATED:20260328T055020Z
LAST-MODIFIED:20260408T060415Z
UID:10005065-1777024800-1777027800@reenaseniorliving.com
SUMMARY:Golden Girls Social Hour Ladies Group - This month Mocktail & Wheel of Fortunate
DESCRIPTION:
URL:https://reenaseniorliving.com/event-calendar/golden-girls-social-hour-ladies-group-this-month-mocktail-wheel-of-fortunate/
LOCATION:Activity Room
CATEGORIES:Assisted Living
END:VEVENT
BEGIN:VEVENT
DTSTART;TZID=America/Chicago:20260424T103000
DTEND;TZID=America/Chicago:20260424T105000
DTSTAMP:20260424T092251
CREATED:20260417T135009Z
LAST-MODIFIED:20260423T153434Z
UID:10005211-1777026600-1777027800@reenaseniorliving.com
SUMMARY:Walking and Wheeling Together.
DESCRIPTION:
URL:https://reenaseniorliving.com/event-calendar/walking-and-wheeling-together-27/
CATEGORIES:Legacy Court
END:VEVENT
BEGIN:VEVENT
DTSTART;TZID=America/Chicago:20260424T123000
DTEND;TZID=America/Chicago:20260424T130000
DTSTAMP:20260424T092251
CREATED:20260326T054937Z
LAST-MODIFIED:20260424T063405Z
UID:10005027-1777033800-1777035600@reenaseniorliving.com
SUMMARY:Your weekly activity packets will be delivered.
DESCRIPTION:
URL:https://reenaseniorliving.com/event-calendar/your-weekly-activity-packets-will-be-delivered-50/
LOCATION:Activity Room
CATEGORIES:Assisted Living
END:VEVENT
BEGIN:VEVENT
DTSTART;TZID=America/Chicago:20260424T123000
DTEND;TZID=America/Chicago:20260424T131500
DTSTAMP:20260424T092251
CREATED:20260417T135009Z
LAST-MODIFIED:20260423T153434Z
UID:10005212-1777033800-1777036500@reenaseniorliving.com
SUMMARY:Group Movement Class - Strength and Mobility
DESCRIPTION:
URL:https://reenaseniorliving.com/event-calendar/group-movement-class-strength-and-mobility-20/
LOCATION:Activity Room
CATEGORIES:Legacy Court
END:VEVENT
BEGIN:VEVENT
DTSTART;TZID=America/Chicago:20260424T130000
DTEND;TZID=America/Chicago:20260424T133000
DTSTAMP:20260424T092251
CREATED:20260328T055021Z
LAST-MODIFIED:20260424T063405Z
UID:10005066-1777035600-1777037400@reenaseniorliving.com
SUMMARY:Big Show - Scrimmage Follow-up
DESCRIPTION:
URL:https://reenaseniorliving.com/event-calendar/big-show-scrimmage-follow-up/
LOCATION:Activity Room
CATEGORIES:Assisted Living
END:VEVENT
BEGIN:VEVENT
DTSTART;TZID=America/Chicago:20260424T133000
DTEND;TZID=America/Chicago:20260424T141500
DTSTAMP:20260424T092251
CREATED:20260417T135009Z
LAST-MODIFIED:20260423T153434Z
UID:10005213-1777037400-1777040100@reenaseniorliving.com
SUMMARY:Biking Time
DESCRIPTION:
URL:https://reenaseniorliving.com/event-calendar/biking-time/
LOCATION:Activity Room
CATEGORIES:Legacy Court
END:VEVENT
BEGIN:VEVENT
DTSTART;TZID=America/Chicago:20260424T141500
DTEND;TZID=America/Chicago:20260424T144000
DTSTAMP:20260424T092251
CREATED:20260417T135010Z
LAST-MODIFIED:20260423T153445Z
UID:10005214-1777040100-1777041600@reenaseniorliving.com
SUMMARY:Snack Delight and Social Time
DESCRIPTION:
URL:https://reenaseniorliving.com/event-calendar/snack-delight-and-social-time-85/
LOCATION:LC Activity Room
CATEGORIES:Legacy Court
END:VEVENT
BEGIN:VEVENT
DTSTART;TZID=America/Chicago:20260424T150000
DTEND;TZID=America/Chicago:20260424T160000
DTSTAMP:20260424T092251
CREATED:20260409T060503Z
LAST-MODIFIED:20260424T063405Z
UID:10005128-1777042800-1777046400@reenaseniorliving.com
SUMMARY:Afternoon Euchre
DESCRIPTION:
URL:https://reenaseniorliving.com/event-calendar/afternoon-euchre/
LOCATION:Activity Room
CATEGORIES:Assisted Living
END:VEVENT
BEGIN:VEVENT
DTSTART;TZID=America/Chicago:20260424T171500
DTEND;TZID=America/Chicago:20260424T191500
DTSTAMP:20260424T092251
CREATED:20260328T055021Z
LAST-MODIFIED:20260424T063405Z
UID:10005067-1777050900-1777058100@reenaseniorliving.com
SUMMARY:Resident Run Social Time
DESCRIPTION:
URL:https://reenaseniorliving.com/event-calendar/resident-run-social-time-10/
CATEGORIES:Assisted Living
END:VEVENT
BEGIN:VEVENT
DTSTART;TZID=America/Chicago:20260424T180000
DTEND;TZID=America/Chicago:20260424T190000
DTSTAMP:20260424T092251
CREATED:20260417T135010Z
LAST-MODIFIED:20260423T153446Z
UID:10005215-1777053600-1777057200@reenaseniorliving.com
SUMMARY:Calm Time- TV - Feel good kind.
DESCRIPTION:
URL:https://reenaseniorliving.com/event-calendar/calm-time-tv-feel-good-kind-11/
LOCATION:Activity Room
CATEGORIES:Legacy Court
END:VEVENT
END:VCALENDAR