BEGIN:VCALENDAR
VERSION:2.0
PRODID:-//Reena Senior Living - ECPv6.11.2.1//NONSGML v1.0//EN
CALSCALE:GREGORIAN
METHOD:PUBLISH
X-ORIGINAL-URL:https://reenaseniorliving.com
X-WR-CALDESC:Events for Reena Senior Living
REFRESH-INTERVAL;VALUE=DURATION:PT1H
X-Robots-Tag:noindex
X-PUBLISHED-TTL:PT1H
BEGIN:VTIMEZONE
TZID:America/Chicago
BEGIN:DAYLIGHT
TZOFFSETFROM:-0600
TZOFFSETTO:-0500
TZNAME:CDT
DTSTART:20250309T080000
END:DAYLIGHT
BEGIN:STANDARD
TZOFFSETFROM:-0500
TZOFFSETTO:-0600
TZNAME:CST
DTSTART:20251102T070000
END:STANDARD
END:VTIMEZONE
BEGIN:VEVENT
DTSTART;TZID=America/Chicago:20250520T091500
DTEND;TZID=America/Chicago:20250520T094500
DTSTAMP:20260422T004112
CREATED:20250514T214945Z
LAST-MODIFIED:20250519T215021Z
UID:10000032-1747732500-1747734300@reenaseniorliving.com
SUMMARY:Movement Class
DESCRIPTION:
URL:https://reenaseniorliving.com/event-calendar/movement-class-4/
LOCATION:Activity Room
CATEGORIES:Assisted Living
END:VEVENT
BEGIN:VEVENT
DTSTART;TZID=America/Chicago:20250520T094500
DTEND;TZID=America/Chicago:20250520T100000
DTSTAMP:20260422T004112
CREATED:20250514T214945Z
LAST-MODIFIED:20250519T215021Z
UID:10000031-1747734300-1747735200@reenaseniorliving.com
SUMMARY:Strength Class - Intermediate Class
DESCRIPTION:
URL:https://reenaseniorliving.com/event-calendar/strength-class-intermediate-class-2/
LOCATION:Activity Room
CATEGORIES:Assisted Living
END:VEVENT
BEGIN:VEVENT
DTSTART;TZID=America/Chicago:20250520T103000
DTEND;TZID=America/Chicago:20250520T113000
DTSTAMP:20260422T004112
CREATED:20250514T214945Z
LAST-MODIFIED:20250519T215021Z
UID:10000033-1747737000-1747740600@reenaseniorliving.com
SUMMARY:Coffee with the Cops - Captain Ben Lindsey and Colleagues
DESCRIPTION:Fort Atkinson Police Department will be here to engage with us. Come with your questions and enjoy our time with them.
URL:https://reenaseniorliving.com/event-calendar/coffee-with-the-cops-captain-ben-lindsey-and-colleagues/
LOCATION:Activity Room
CATEGORIES:Assisted Living
END:VEVENT
BEGIN:VEVENT
DTSTART;TZID=America/Chicago:20250520T130000
DTEND;TZID=America/Chicago:20250520T141500
DTSTAMP:20260422T004112
CREATED:20250514T214945Z
LAST-MODIFIED:20250519T215021Z
UID:10000034-1747746000-1747750500@reenaseniorliving.com
SUMMARY:Forklift Racing Day.
DESCRIPTION:
URL:https://reenaseniorliving.com/event-calendar/forklift-racing-day-2/
LOCATION:Theatre
CATEGORIES:Assisted Living
END:VEVENT
BEGIN:VEVENT
DTSTART;TZID=America/Chicago:20250520T150000
DTEND;TZID=America/Chicago:20250520T160000
DTSTAMP:20260422T004112
CREATED:20250514T214945Z
LAST-MODIFIED:20250519T215021Z
UID:10000035-1747753200-1747756800@reenaseniorliving.com
SUMMARY:Green Thumbs - AL patio garden social time. Outside Weather permitting.
DESCRIPTION:Let’s plan a garden. What would you like to see?
URL:https://reenaseniorliving.com/event-calendar/green-thumbs-lets-plan-our-patio-garden-today-outside-weather-permitting-or-in-activity-room/
LOCATION:Activity Room Patio
CATEGORIES:Assisted Living
END:VEVENT
BEGIN:VEVENT
DTSTART;TZID=America/Chicago:20250520T170000
DTEND;TZID=America/Chicago:20250520T190000
DTSTAMP:20260422T004112
CREATED:20250514T214945Z
LAST-MODIFIED:20250520T214902Z
UID:10000036-1747760400-1747767600@reenaseniorliving.com
SUMMARY:Resident Guided - Social Time
DESCRIPTION:
URL:https://reenaseniorliving.com/event-calendar/resident-guided-social-time-7/
LOCATION:Activity Room
CATEGORIES:Assisted Living
END:VEVENT
END:VCALENDAR