BEGIN:VCALENDAR
VERSION:2.0
PRODID:-//Reena Senior Living - ECPv6.11.2.1//NONSGML v1.0//EN
CALSCALE:GREGORIAN
METHOD:PUBLISH
X-WR-CALNAME:Reena Senior Living
X-ORIGINAL-URL:https://reenaseniorliving.com
X-WR-CALDESC:Events for Reena Senior Living
REFRESH-INTERVAL;VALUE=DURATION:PT1H
X-Robots-Tag:noindex
X-PUBLISHED-TTL:PT1H
BEGIN:VTIMEZONE
TZID:America/Chicago
BEGIN:DAYLIGHT
TZOFFSETFROM:-0600
TZOFFSETTO:-0500
TZNAME:CDT
DTSTART:20250309T080000
END:DAYLIGHT
BEGIN:STANDARD
TZOFFSETFROM:-0500
TZOFFSETTO:-0600
TZNAME:CST
DTSTART:20251102T070000
END:STANDARD
END:VTIMEZONE
BEGIN:VEVENT
DTSTART;TZID=America/Chicago:20250531T100000
DTEND;TZID=America/Chicago:20250531T123000
DTSTAMP:20260422T004047
CREATED:20250514T214949Z
LAST-MODIFIED:20250530T233533Z
UID:10000090-1748685600-1748694600@reenaseniorliving.com
SUMMARY:Biking Time - Open House - Today Kayla is here to help out.
DESCRIPTION:Pop in for a few minutes right before lunch. Start with 2-3 minutes.
URL:https://reenaseniorliving.com/event-calendar/biking-time-open-house-5/
LOCATION:Activity Room
CATEGORIES:Assisted Living
END:VEVENT
BEGIN:VEVENT
DTSTART;TZID=America/Chicago:20250531T103000
DTEND;TZID=America/Chicago:20250531T120000
DTSTAMP:20260422T004047
CREATED:20250514T214949Z
LAST-MODIFIED:20250530T233533Z
UID:10000089-1748687400-1748692800@reenaseniorliving.com
SUMMARY:Finish Cow Art Project - For the Dairy Hoard Museum Contest
DESCRIPTION:
URL:https://reenaseniorliving.com/event-calendar/finish-cow-art-project-for-the-dairy-hoard-museum-contest/
LOCATION:Activity Room
CATEGORIES:Assisted Living
END:VEVENT
BEGIN:VEVENT
DTSTART;TZID=America/Chicago:20250531T170000
DTEND;TZID=America/Chicago:20250531T190000
DTSTAMP:20260422T004047
CREATED:20250514T214949Z
LAST-MODIFIED:20250531T233517Z
UID:10000091-1748710800-1748718000@reenaseniorliving.com
SUMMARY:Resident Guided - Social Time
DESCRIPTION:
URL:https://reenaseniorliving.com/event-calendar/resident-guided-social-time-18/
LOCATION:Activity Room
CATEGORIES:Assisted Living
END:VEVENT
END:VCALENDAR