BEGIN:VCALENDAR
VERSION:2.0
PRODID:-//Reena Senior Living - ECPv6.11.2.1//NONSGML v1.0//EN
CALSCALE:GREGORIAN
METHOD:PUBLISH
X-WR-CALNAME:Reena Senior Living
X-ORIGINAL-URL:https://reenaseniorliving.com
X-WR-CALDESC:Events for Reena Senior Living
REFRESH-INTERVAL;VALUE=DURATION:PT1H
X-Robots-Tag:noindex
X-PUBLISHED-TTL:PT1H
BEGIN:VTIMEZONE
TZID:America/Chicago
BEGIN:DAYLIGHT
TZOFFSETFROM:-0600
TZOFFSETTO:-0500
TZNAME:CDT
DTSTART:20250309T080000
END:DAYLIGHT
BEGIN:STANDARD
TZOFFSETFROM:-0500
TZOFFSETTO:-0600
TZNAME:CST
DTSTART:20251102T070000
END:STANDARD
END:VTIMEZONE
BEGIN:VEVENT
DTSTART;TZID=America/Chicago:20250602T091500
DTEND;TZID=America/Chicago:20250602T094500
DTSTAMP:20260421T232836
CREATED:20250514T214950Z
LAST-MODIFIED:20250601T233445Z
UID:10000095-1748855700-1748857500@reenaseniorliving.com
SUMMARY:Movement Class
DESCRIPTION:
URL:https://reenaseniorliving.com/event-calendar/movement-class-13/
LOCATION:Activity Room
CATEGORIES:Assisted Living
END:VEVENT
BEGIN:VEVENT
DTSTART;TZID=America/Chicago:20250602T095000
DTEND;TZID=America/Chicago:20250602T101000
DTSTAMP:20260421T232836
CREATED:20250514T214950Z
LAST-MODIFIED:20250601T233445Z
UID:10000096-1748857800-1748859000@reenaseniorliving.com
SUMMARY:Outdoor Stroll
DESCRIPTION:
URL:https://reenaseniorliving.com/event-calendar/outdoor-stroll-5/
LOCATION:Activity Room
CATEGORIES:Assisted Living
END:VEVENT
BEGIN:VEVENT
DTSTART;TZID=America/Chicago:20250602T101500
DTEND;TZID=America/Chicago:20250602T104500
DTSTAMP:20260421T232836
CREATED:20250519T215023Z
LAST-MODIFIED:20250601T233445Z
UID:10000430-1748859300-1748861100@reenaseniorliving.com
SUMMARY:Green Thumbs Garden Group
DESCRIPTION:
URL:https://reenaseniorliving.com/event-calendar/green-thumbs-water-check-on-plants-and-socialize/
LOCATION:Patio AL
CATEGORIES:Assisted Living
END:VEVENT
BEGIN:VEVENT
DTSTART;TZID=America/Chicago:20250602T123000
DTEND;TZID=America/Chicago:20250602T130000
DTSTAMP:20260421T232836
CREATED:20250514T214950Z
LAST-MODIFIED:20250601T233445Z
UID:10000097-1748867400-1748869200@reenaseniorliving.com
SUMMARY:Rosary with Volunteer Dorothy
DESCRIPTION:
URL:https://reenaseniorliving.com/event-calendar/rosary-with-volunteer-dorothy-3/
LOCATION:Pub
CATEGORIES:Assisted Living
END:VEVENT
BEGIN:VEVENT
DTSTART;TZID=America/Chicago:20250602T133000
DTEND;TZID=America/Chicago:20250602T143000
DTSTAMP:20260421T232836
CREATED:20250514T214950Z
LAST-MODIFIED:20250601T233445Z
UID:10000098-1748871000-1748874600@reenaseniorliving.com
SUMMARY:Bingo
DESCRIPTION:
URL:https://reenaseniorliving.com/event-calendar/bingo-2/
LOCATION:AR
CATEGORIES:Assisted Living
END:VEVENT
BEGIN:VEVENT
DTSTART;TZID=America/Chicago:20250602T170000
DTEND;TZID=America/Chicago:20250602T190000
DTSTAMP:20260421T232836
CREATED:20250514T214950Z
LAST-MODIFIED:20250602T233423Z
UID:10000099-1748883600-1748890800@reenaseniorliving.com
SUMMARY:Resident Guided - Social Time
DESCRIPTION:
URL:https://reenaseniorliving.com/event-calendar/resident-guided-social-time-20/
LOCATION:Activity Room
CATEGORIES:Assisted Living
END:VEVENT
END:VCALENDAR