BEGIN:VCALENDAR
VERSION:2.0
PRODID:-//Reena Senior Living - ECPv6.11.2.1//NONSGML v1.0//EN
CALSCALE:GREGORIAN
METHOD:PUBLISH
X-ORIGINAL-URL:https://reenaseniorliving.com
X-WR-CALDESC:Events for Reena Senior Living
REFRESH-INTERVAL;VALUE=DURATION:PT1H
X-Robots-Tag:noindex
X-PUBLISHED-TTL:PT1H
BEGIN:VTIMEZONE
TZID:America/Chicago
BEGIN:DAYLIGHT
TZOFFSETFROM:-0600
TZOFFSETTO:-0500
TZNAME:CDT
DTSTART:20250309T080000
END:DAYLIGHT
BEGIN:STANDARD
TZOFFSETFROM:-0500
TZOFFSETTO:-0600
TZNAME:CST
DTSTART:20251102T070000
END:STANDARD
END:VTIMEZONE
BEGIN:VEVENT
DTSTART;TZID=America/Chicago:20250603T091500
DTEND;TZID=America/Chicago:20250603T094500
DTSTAMP:20260421T232927
CREATED:20250514T214950Z
LAST-MODIFIED:20250528T230422Z
UID:10000100-1748942100-1748943900@reenaseniorliving.com
SUMMARY:Movement Class
DESCRIPTION:
URL:https://reenaseniorliving.com/event-calendar/movement-class-14/
LOCATION:Activity Room
CATEGORIES:Assisted Living
END:VEVENT
BEGIN:VEVENT
DTSTART;TZID=America/Chicago:20250603T100000
DTEND;TZID=America/Chicago:20250603T104500
DTSTAMP:20260421T232928
CREATED:20250529T232050Z
LAST-MODIFIED:20250602T233423Z
UID:10000573-1748944800-1748947500@reenaseniorliving.com
SUMMARY:Coffee with volunteers Vicki and Conrad
DESCRIPTION:
URL:https://reenaseniorliving.com/event-calendar/coffee-with-volunteers-vicki-and-conrad/
LOCATION:Activity Room
CATEGORIES:Assisted Living
END:VEVENT
BEGIN:VEVENT
DTSTART;TZID=America/Chicago:20250603T103000
DTEND;TZID=America/Chicago:20250603T110000
DTSTAMP:20260421T232928
CREATED:20250514T214950Z
LAST-MODIFIED:20250518T214904Z
UID:10000104-1748946600-1748948400@reenaseniorliving.com
SUMMARY:Green Thumbs and Patio Social Time. You don't need to garden to appreciate it. Join us.
DESCRIPTION:Garden and Social Time.
URL:https://reenaseniorliving.com/event-calendar/green-thumbs-and-patio-social-time-you-dont-need-to-garden-to-appreciate-it-join-us-2/
LOCATION:Activity Room Patio
CATEGORIES:Assisted Living
END:VEVENT
BEGIN:VEVENT
DTSTART;TZID=America/Chicago:20250603T110000
DTEND;TZID=America/Chicago:20250603T112500
DTSTAMP:20260421T232928
CREATED:20250529T232102Z
LAST-MODIFIED:20250602T233423Z
UID:10000574-1748948400-1748949900@reenaseniorliving.com
SUMMARY:Green Thumbs Garden Group
DESCRIPTION:
URL:https://reenaseniorliving.com/event-calendar/green-thumbs-garden-group/
LOCATION:Activity Room
CATEGORIES:Assisted Living
END:VEVENT
BEGIN:VEVENT
DTSTART;TZID=America/Chicago:20250603T121500
DTEND;TZID=America/Chicago:20250603T131500
DTSTAMP:20260421T232928
CREATED:20250514T214950Z
LAST-MODIFIED:20250602T233423Z
UID:10000102-1748952900-1748956500@reenaseniorliving.com
SUMMARY:Librarian Visit with Deb
DESCRIPTION:
URL:https://reenaseniorliving.com/event-calendar/librarian-visit-with-deb/
LOCATION:Activity Room
CATEGORIES:Assisted Living
END:VEVENT
BEGIN:VEVENT
DTSTART;TZID=America/Chicago:20250603T130000
DTEND;TZID=America/Chicago:20250603T141500
DTSTAMP:20260421T232928
CREATED:20250514T214950Z
LAST-MODIFIED:20250602T233423Z
UID:10000103-1748955600-1748960100@reenaseniorliving.com
SUMMARY:Forklift Racing Day.
DESCRIPTION:
URL:https://reenaseniorliving.com/event-calendar/forklift-racing-day-4/
LOCATION:Theatre
CATEGORIES:Assisted Living
END:VEVENT
BEGIN:VEVENT
DTSTART;TZID=America/Chicago:20250603T150000
DTEND;TZID=America/Chicago:20250603T153000
DTSTAMP:20260421T232928
CREATED:20250514T214950Z
LAST-MODIFIED:20250602T233423Z
UID:10000101-1748962800-1748964600@reenaseniorliving.com
SUMMARY:Strength Class - Intermediate Class
DESCRIPTION:
URL:https://reenaseniorliving.com/event-calendar/strength-class-intermediate-class-6/
LOCATION:Activity Room
CATEGORIES:Assisted Living
END:VEVENT
BEGIN:VEVENT
DTSTART;TZID=America/Chicago:20250603T170000
DTEND;TZID=America/Chicago:20250603T190000
DTSTAMP:20260421T232928
CREATED:20250514T214951Z
LAST-MODIFIED:20250603T233502Z
UID:10000105-1748970000-1748977200@reenaseniorliving.com
SUMMARY:Resident Guided - Social Time
DESCRIPTION:
URL:https://reenaseniorliving.com/event-calendar/resident-guided-social-time-21/
LOCATION:Activity Room
CATEGORIES:Assisted Living
END:VEVENT
END:VCALENDAR