BEGIN:VCALENDAR
VERSION:2.0
PRODID:-//Reena Senior Living - ECPv6.11.2.1//NONSGML v1.0//EN
CALSCALE:GREGORIAN
METHOD:PUBLISH
X-WR-CALNAME:Reena Senior Living
X-ORIGINAL-URL:https://reenaseniorliving.com
X-WR-CALDESC:Events for Reena Senior Living
REFRESH-INTERVAL;VALUE=DURATION:PT1H
X-Robots-Tag:noindex
X-PUBLISHED-TTL:PT1H
BEGIN:VTIMEZONE
TZID:America/Chicago
BEGIN:DAYLIGHT
TZOFFSETFROM:-0600
TZOFFSETTO:-0500
TZNAME:CDT
DTSTART:20250309T080000
END:DAYLIGHT
BEGIN:STANDARD
TZOFFSETFROM:-0500
TZOFFSETTO:-0600
TZNAME:CST
DTSTART:20251102T070000
END:STANDARD
END:VTIMEZONE
BEGIN:VEVENT
DTSTART;TZID=America/Chicago:20250609T091500
DTEND;TZID=America/Chicago:20250609T094500
DTSTAMP:20260421T232854
CREATED:20250514T214953Z
LAST-MODIFIED:20250609T002008Z
UID:10000130-1749460500-1749462300@reenaseniorliving.com
SUMMARY:Movement Class
DESCRIPTION:
URL:https://reenaseniorliving.com/event-calendar/movement-class-18/
LOCATION:Activity Room
CATEGORIES:Assisted Living
END:VEVENT
BEGIN:VEVENT
DTSTART;TZID=America/Chicago:20250609T095000
DTEND;TZID=America/Chicago:20250609T101000
DTSTAMP:20260421T232854
CREATED:20250514T214953Z
LAST-MODIFIED:20250609T002008Z
UID:10000131-1749462600-1749463800@reenaseniorliving.com
SUMMARY:Outdoor Stroll
DESCRIPTION:
URL:https://reenaseniorliving.com/event-calendar/outdoor-stroll-7/
LOCATION:Activity Room
CATEGORIES:Assisted Living
END:VEVENT
BEGIN:VEVENT
DTSTART;TZID=America/Chicago:20250609T101500
DTEND;TZID=America/Chicago:20250609T110000
DTSTAMP:20260421T232854
CREATED:20250514T214953Z
LAST-MODIFIED:20250609T002008Z
UID:10000132-1749464100-1749466800@reenaseniorliving.com
SUMMARY:Lutheran Service with Julie - Legacy Court
DESCRIPTION:
URL:https://reenaseniorliving.com/event-calendar/lutheran-service-with-julie-legacy-court/
LOCATION:Legacy Court
CATEGORIES:Assisted Living,Legacy Court
END:VEVENT
BEGIN:VEVENT
DTSTART;TZID=America/Chicago:20250609T103000
DTEND;TZID=America/Chicago:20250609T110000
DTSTAMP:20260421T232854
CREATED:20250519T215024Z
LAST-MODIFIED:20250609T002008Z
UID:10000432-1749465000-1749466800@reenaseniorliving.com
SUMMARY:Green Thumbs and Patio Social Time.
DESCRIPTION:Garden and Social Time.
URL:https://reenaseniorliving.com/event-calendar/green-thumbs-and-patio-social-time-2/
LOCATION:Activity Room Patio
CATEGORIES:Assisted Living
END:VEVENT
BEGIN:VEVENT
DTSTART;TZID=America/Chicago:20250609T123000
DTEND;TZID=America/Chicago:20250609T130000
DTSTAMP:20260421T232854
CREATED:20250514T214953Z
LAST-MODIFIED:20250609T002008Z
UID:10000133-1749472200-1749474000@reenaseniorliving.com
SUMMARY:Rosary with Volunteer Dorothy
DESCRIPTION:
URL:https://reenaseniorliving.com/event-calendar/rosary-with-volunteer-dorothy-4/
LOCATION:Pub
CATEGORIES:Assisted Living
END:VEVENT
BEGIN:VEVENT
DTSTART;TZID=America/Chicago:20250609T133000
DTEND;TZID=America/Chicago:20250609T143000
DTSTAMP:20260421T232854
CREATED:20250514T214953Z
LAST-MODIFIED:20250609T002008Z
UID:10000134-1749475800-1749479400@reenaseniorliving.com
SUMMARY:Bingo
DESCRIPTION:
URL:https://reenaseniorliving.com/event-calendar/bingo-3/
LOCATION:AR
CATEGORIES:Assisted Living
END:VEVENT
BEGIN:VEVENT
DTSTART;TZID=America/Chicago:20250609T153000
DTEND;TZID=America/Chicago:20250609T163000
DTSTAMP:20260421T232854
CREATED:20250530T233534Z
LAST-MODIFIED:20250609T002008Z
UID:10000603-1749483000-1749486600@reenaseniorliving.com
SUMMARY:Checkers with Volunteer Joshua and family
DESCRIPTION:
URL:https://reenaseniorliving.com/event-calendar/checkers-with-volunteer-joshua-and-family/
LOCATION:Activity Room
CATEGORIES:Assisted Living
END:VEVENT
BEGIN:VEVENT
DTSTART;TZID=America/Chicago:20250609T170000
DTEND;TZID=America/Chicago:20250609T190000
DTSTAMP:20260421T232854
CREATED:20250514T214953Z
LAST-MODIFIED:20250609T002008Z
UID:10000135-1749488400-1749495600@reenaseniorliving.com
SUMMARY:Resident Guided - Social Time
DESCRIPTION:
URL:https://reenaseniorliving.com/event-calendar/resident-guided-social-time-27/
LOCATION:Activity Room
CATEGORIES:Assisted Living
END:VEVENT
END:VCALENDAR