BEGIN:VCALENDAR
VERSION:2.0
PRODID:-//Reena Senior Living - ECPv6.11.2.1//NONSGML v1.0//EN
CALSCALE:GREGORIAN
METHOD:PUBLISH
X-ORIGINAL-URL:https://reenaseniorliving.com
X-WR-CALDESC:Events for Reena Senior Living
REFRESH-INTERVAL;VALUE=DURATION:PT1H
X-Robots-Tag:noindex
X-PUBLISHED-TTL:PT1H
BEGIN:VTIMEZONE
TZID:America/Chicago
BEGIN:DAYLIGHT
TZOFFSETFROM:-0600
TZOFFSETTO:-0500
TZNAME:CDT
DTSTART:20250309T080000
END:DAYLIGHT
BEGIN:STANDARD
TZOFFSETFROM:-0500
TZOFFSETTO:-0600
TZNAME:CST
DTSTART:20251102T070000
END:STANDARD
END:VTIMEZONE
BEGIN:VEVENT
DTSTART;TZID=America/Chicago:20250624T084500
DTEND;TZID=America/Chicago:20250624T091000
DTSTAMP:20260421T232931
CREATED:20250526T230408Z
LAST-MODIFIED:20250624T050419Z
UID:10000521-1750754700-1750756200@reenaseniorliving.com
SUMMARY:Green Thumbs 8:45am - 9:05am Today
DESCRIPTION:Garden and Social Time.
URL:https://reenaseniorliving.com/event-calendar/green-thumbs-and-patio-social-time-7/
LOCATION:Activity Room Patio
CATEGORIES:Assisted Living
END:VEVENT
BEGIN:VEVENT
DTSTART;TZID=America/Chicago:20250624T091500
DTEND;TZID=America/Chicago:20250624T094500
DTSTAMP:20260421T232931
CREATED:20250526T230408Z
LAST-MODIFIED:20250624T050420Z
UID:10000519-1750756500-1750758300@reenaseniorliving.com
SUMMARY:Movement Class with Kayla
DESCRIPTION:
URL:https://reenaseniorliving.com/event-calendar/movement-class-34/
LOCATION:Activity Room
CATEGORIES:Assisted Living
END:VEVENT
BEGIN:VEVENT
DTSTART;TZID=America/Chicago:20250624T094500
DTEND;TZID=America/Chicago:20250624T100000
DTSTAMP:20260421T232931
CREATED:20250526T230408Z
LAST-MODIFIED:20250624T050420Z
UID:10000520-1750758300-1750759200@reenaseniorliving.com
SUMMARY:Strength Class - Intermediate Class
DESCRIPTION:
URL:https://reenaseniorliving.com/event-calendar/strength-class-intermediate-class-12/
LOCATION:Activity Room
CATEGORIES:Assisted Living
END:VEVENT
BEGIN:VEVENT
DTSTART;TZID=America/Chicago:20250624T130000
DTEND;TZID=America/Chicago:20250624T133000
DTSTAMP:20260421T232931
CREATED:20250614T001943Z
LAST-MODIFIED:20250624T050420Z
UID:10000797-1750770000-1750771800@reenaseniorliving.com
SUMMARY:Grip Practice - Come join the team! We are the Reena Rockers!
DESCRIPTION:
URL:https://reenaseniorliving.com/event-calendar/grip-practice-come-join-the-team-roles-vary-come-check-it-out-2/
LOCATION:Activity Room
CATEGORIES:Assisted Living
END:VEVENT
BEGIN:VEVENT
DTSTART;TZID=America/Chicago:20250624T133000
DTEND;TZID=America/Chicago:20250624T143000
DTSTAMP:20260421T232931
CREATED:20250620T050634Z
LAST-MODIFIED:20250624T050420Z
UID:10000888-1750771800-1750775400@reenaseniorliving.com
SUMMARY:Garbage - Card Game
DESCRIPTION:
URL:https://reenaseniorliving.com/event-calendar/garbage-card-game/
LOCATION:Activity Room
CATEGORIES:Assisted Living
END:VEVENT
BEGIN:VEVENT
DTSTART;TZID=America/Chicago:20250624T143000
DTEND;TZID=America/Chicago:20250624T153000
DTSTAMP:20260421T232931
CREATED:20250526T230408Z
LAST-MODIFIED:20250624T050420Z
UID:10000522-1750775400-1750779000@reenaseniorliving.com
SUMMARY:Birthday Party!
DESCRIPTION:Cake and Beverage. Community Members with birthdays this month will have time to share something about themselves. It will be followed with music and singing at 3:00.
URL:https://reenaseniorliving.com/event-calendar/birthday-party/
LOCATION:Lobby
CATEGORIES:Assisted Living
END:VEVENT
BEGIN:VEVENT
DTSTART;TZID=America/Chicago:20250624T170000
DTEND;TZID=America/Chicago:20250624T190000
DTSTAMP:20260421T232931
CREATED:20250526T230408Z
LAST-MODIFIED:20250624T050420Z
UID:10000523-1750784400-1750791600@reenaseniorliving.com
SUMMARY:Resident Guided - Social Time
DESCRIPTION:
URL:https://reenaseniorliving.com/event-calendar/resident-guided-social-time-42/
LOCATION:Activity Room
CATEGORIES:Assisted Living
END:VEVENT
END:VCALENDAR