BEGIN:VCALENDAR
VERSION:2.0
PRODID:-//Reena Senior Living - ECPv6.11.2.1//NONSGML v1.0//EN
CALSCALE:GREGORIAN
METHOD:PUBLISH
X-WR-CALNAME:Reena Senior Living
X-ORIGINAL-URL:https://reenaseniorliving.com
X-WR-CALDESC:Events for Reena Senior Living
REFRESH-INTERVAL;VALUE=DURATION:PT1H
X-Robots-Tag:noindex
X-PUBLISHED-TTL:PT1H
BEGIN:VTIMEZONE
TZID:America/Chicago
BEGIN:DAYLIGHT
TZOFFSETFROM:-0600
TZOFFSETTO:-0500
TZNAME:CDT
DTSTART:20250309T080000
END:DAYLIGHT
BEGIN:STANDARD
TZOFFSETFROM:-0500
TZOFFSETTO:-0600
TZNAME:CST
DTSTART:20251102T070000
END:STANDARD
END:VTIMEZONE
BEGIN:VEVENT
DTSTART;TZID=America/Chicago:20250702T091500
DTEND;TZID=America/Chicago:20250702T094500
DTSTAMP:20260421T220954
CREATED:20250602T233428Z
LAST-MODIFIED:20250702T053445Z
UID:10000650-1751447700-1751449500@reenaseniorliving.com
SUMMARY:Movement Class with Kayla
DESCRIPTION:
URL:https://reenaseniorliving.com/event-calendar/movement-class-41/
LOCATION:Activity Room
CATEGORIES:Assisted Living
END:VEVENT
BEGIN:VEVENT
DTSTART;TZID=America/Chicago:20250702T100000
DTEND;TZID=America/Chicago:20250702T101500
DTSTAMP:20260421T220954
CREATED:20250602T231908Z
LAST-MODIFIED:20250702T053445Z
UID:10000642-1751450400-1751451300@reenaseniorliving.com
SUMMARY:Sing along before Catholic Service.
DESCRIPTION:We will assist you to go next door.
URL:https://reenaseniorliving.com/event-calendar/sing-along-before-catholic-service-5/
LOCATION:Legacy Court
CATEGORIES:Assisted Living,Legacy Court
END:VEVENT
BEGIN:VEVENT
DTSTART;TZID=America/Chicago:20250702T101500
DTEND;TZID=America/Chicago:20250702T111500
DTSTAMP:20260421T220954
CREATED:20250602T231908Z
LAST-MODIFIED:20250702T053445Z
UID:10000641-1751451300-1751454900@reenaseniorliving.com
SUMMARY:Catholic Service
DESCRIPTION:
URL:https://reenaseniorliving.com/event-calendar/catholic-service-7/
LOCATION:Legacy Court
CATEGORIES:Assisted Living,Legacy Court
END:VEVENT
BEGIN:VEVENT
DTSTART;TZID=America/Chicago:20250702T121500
DTEND;TZID=America/Chicago:20250702T130000
DTSTAMP:20260421T220954
CREATED:20250602T233428Z
LAST-MODIFIED:20250702T053445Z
UID:10000652-1751458500-1751461200@reenaseniorliving.com
SUMMARY:Resident Council
DESCRIPTION:
URL:https://reenaseniorliving.com/event-calendar/resident-council-2/
LOCATION:Activity Room
CATEGORIES:Assisted Living
END:VEVENT
BEGIN:VEVENT
DTSTART;TZID=America/Chicago:20250702T130000
DTEND;TZID=America/Chicago:20250702T133000
DTSTAMP:20260421T220954
CREATED:20250602T233428Z
LAST-MODIFIED:20250604T233639Z
UID:10000651-1751461200-1751463000@reenaseniorliving.com
SUMMARY:Lifespark Senior Living SPARKING CHANGE - Lifeguard Deep Dive
DESCRIPTION:
URL:https://reenaseniorliving.com/event-calendar/lifespark-senior-living-sparking-change-lifeguard-deep-dive-7/
LOCATION:Activity Room
CATEGORIES:Assisted Living
END:VEVENT
BEGIN:VEVENT
DTSTART;TZID=America/Chicago:20250702T130000
DTEND;TZID=America/Chicago:20250702T140000
DTSTAMP:20260421T220954
CREATED:20250620T050635Z
LAST-MODIFIED:20250702T053445Z
UID:10000894-1751461200-1751464800@reenaseniorliving.com
SUMMARY:Wood Chipping Class - AR
DESCRIPTION:
URL:https://reenaseniorliving.com/event-calendar/wood-chipping-class-2/
LOCATION:Activity Room
CATEGORIES:Assisted Living
END:VEVENT
BEGIN:VEVENT
DTSTART;TZID=America/Chicago:20250702T130000
DTEND;TZID=America/Chicago:20250702T150000
DTSTAMP:20260421T220954
CREATED:20250621T023444Z
LAST-MODIFIED:20250702T053445Z
UID:10000901-1751461200-1751468400@reenaseniorliving.com
SUMMARY:Free Book Event - Do you want a new book or a few? Come on in to see what we have to offer.
DESCRIPTION:
URL:https://reenaseniorliving.com/event-calendar/free-book-event-game-sale-for-alzheimers-fundraiser/
LOCATION:Activity Room
CATEGORIES:Assisted Living,Legacy Court
END:VEVENT
BEGIN:VEVENT
DTSTART;TZID=America/Chicago:20250702T170000
DTEND;TZID=America/Chicago:20250702T190000
DTSTAMP:20260421T220954
CREATED:20250602T233428Z
LAST-MODIFIED:20250702T053445Z
UID:10000653-1751475600-1751482800@reenaseniorliving.com
SUMMARY:Resident Guided - Social Time
DESCRIPTION:
URL:https://reenaseniorliving.com/event-calendar/resident-guided-social-time-51/
LOCATION:Activity Room
CATEGORIES:Assisted Living
END:VEVENT
END:VCALENDAR