BEGIN:VCALENDAR
VERSION:2.0
PRODID:-//Reena Senior Living - ECPv6.11.2.1//NONSGML v1.0//EN
CALSCALE:GREGORIAN
METHOD:PUBLISH
X-ORIGINAL-URL:https://reenaseniorliving.com
X-WR-CALDESC:Events for Reena Senior Living
REFRESH-INTERVAL;VALUE=DURATION:PT1H
X-Robots-Tag:noindex
X-PUBLISHED-TTL:PT1H
BEGIN:VTIMEZONE
TZID:America/Chicago
BEGIN:DAYLIGHT
TZOFFSETFROM:-0600
TZOFFSETTO:-0500
TZNAME:CDT
DTSTART:20250309T080000
END:DAYLIGHT
BEGIN:STANDARD
TZOFFSETFROM:-0500
TZOFFSETTO:-0600
TZNAME:CST
DTSTART:20251102T070000
END:STANDARD
END:VTIMEZONE
BEGIN:VEVENT
DTSTART;TZID=America/Chicago:20250704T091500
DTEND;TZID=America/Chicago:20250704T094500
DTSTAMP:20260421T221421
CREATED:20250604T233639Z
LAST-MODIFIED:20250620T050635Z
UID:10000679-1751620500-1751622300@reenaseniorliving.com
SUMMARY:Movement Class with Kayla
DESCRIPTION:
URL:https://reenaseniorliving.com/event-calendar/movement-class-43/
LOCATION:Activity Room
CATEGORIES:Assisted Living
END:VEVENT
BEGIN:VEVENT
DTSTART;TZID=America/Chicago:20250704T093000
DTEND;TZID=America/Chicago:20250704T100000
DTSTAMP:20260421T221421
CREATED:20250604T233639Z
LAST-MODIFIED:20250704T054941Z
UID:10000682-1751621400-1751623200@reenaseniorliving.com
SUMMARY:Green Thumbs and Patio Social Time.
DESCRIPTION:Garden and Social Time.
URL:https://reenaseniorliving.com/event-calendar/green-thumbs-and-patio-social-time-11/
LOCATION:Activity Room Patio
CATEGORIES:Assisted Living
END:VEVENT
BEGIN:VEVENT
DTSTART;TZID=America/Chicago:20250704T095000
DTEND;TZID=America/Chicago:20250704T101000
DTSTAMP:20260421T221421
CREATED:20250604T233639Z
LAST-MODIFIED:20250620T050635Z
UID:10000680-1751622600-1751623800@reenaseniorliving.com
SUMMARY:Outdoor Stroll
DESCRIPTION:
URL:https://reenaseniorliving.com/event-calendar/outdoor-stroll-15/
LOCATION:Activity Room
CATEGORIES:Assisted Living
END:VEVENT
BEGIN:VEVENT
DTSTART;TZID=America/Chicago:20250704T100000
DTEND;TZID=America/Chicago:20250704T110000
DTSTAMP:20260421T221421
CREATED:20250621T050404Z
LAST-MODIFIED:20250704T054941Z
UID:10000913-1751623200-1751626800@reenaseniorliving.com
SUMMARY:Patriotic Sing-a-long
DESCRIPTION:
URL:https://reenaseniorliving.com/event-calendar/patriotic-sing-a-long/
LOCATION:Activity Room
CATEGORIES:Assisted Living
END:VEVENT
BEGIN:VEVENT
DTSTART;TZID=America/Chicago:20250704T103000
DTEND;TZID=America/Chicago:20250704T110000
DTSTAMP:20260421T221421
CREATED:20250604T233639Z
LAST-MODIFIED:20250620T050635Z
UID:10000681-1751625000-1751626800@reenaseniorliving.com
SUMMARY:Coffee Social Time with Reminiscing
DESCRIPTION:Social Time with Coffee
URL:https://reenaseniorliving.com/event-calendar/coffee-social-time-with-reminiscing-8/
LOCATION:Activity Room
CATEGORIES:Assisted Living
END:VEVENT
BEGIN:VEVENT
DTSTART;TZID=America/Chicago:20250704T113000
DTEND;TZID=America/Chicago:20250704T114500
DTSTAMP:20260421T221421
CREATED:20250604T233639Z
LAST-MODIFIED:20250704T054941Z
UID:10000684-1751628600-1751629500@reenaseniorliving.com
SUMMARY:Your weekly activity packets will be delivered.
DESCRIPTION:
URL:https://reenaseniorliving.com/event-calendar/your-weekly-activity-packets-will-be-delivered-8/
LOCATION:Activity Room
CATEGORIES:Assisted Living
END:VEVENT
BEGIN:VEVENT
DTSTART;TZID=America/Chicago:20250704T133000
DTEND;TZID=America/Chicago:20250704T140000
DTSTAMP:20260421T221421
CREATED:20250604T233639Z
LAST-MODIFIED:20250620T050635Z
UID:10000683-1751635800-1751637600@reenaseniorliving.com
SUMMARY:Story of Christ reading with volunteer Dorothy
DESCRIPTION:
URL:https://reenaseniorliving.com/event-calendar/story-of-christ-reading-with-volunteer-dorothy-5/
LOCATION:Pub
CATEGORIES:Assisted Living
END:VEVENT
BEGIN:VEVENT
DTSTART;TZID=America/Chicago:20250704T170000
DTEND;TZID=America/Chicago:20250704T190000
DTSTAMP:20260421T221421
CREATED:20250604T233639Z
LAST-MODIFIED:20250704T054941Z
UID:10000685-1751648400-1751655600@reenaseniorliving.com
SUMMARY:Resident Guided - Social Time
DESCRIPTION:
URL:https://reenaseniorliving.com/event-calendar/resident-guided-social-time-53/
LOCATION:Activity Room
CATEGORIES:Assisted Living
END:VEVENT
END:VCALENDAR