BEGIN:VCALENDAR
VERSION:2.0
PRODID:-//Reena Senior Living - ECPv6.11.2.1//NONSGML v1.0//EN
CALSCALE:GREGORIAN
METHOD:PUBLISH
X-WR-CALNAME:Reena Senior Living
X-ORIGINAL-URL:https://reenaseniorliving.com
X-WR-CALDESC:Events for Reena Senior Living
REFRESH-INTERVAL;VALUE=DURATION:PT1H
X-Robots-Tag:noindex
X-PUBLISHED-TTL:PT1H
BEGIN:VTIMEZONE
TZID:America/Chicago
BEGIN:DAYLIGHT
TZOFFSETFROM:-0600
TZOFFSETTO:-0500
TZNAME:CDT
DTSTART:20250309T080000
END:DAYLIGHT
BEGIN:STANDARD
TZOFFSETFROM:-0500
TZOFFSETTO:-0600
TZNAME:CST
DTSTART:20251102T070000
END:STANDARD
END:VTIMEZONE
BEGIN:VEVENT
DTSTART;TZID=America/Chicago:20250709T083000
DTEND;TZID=America/Chicago:20250709T113000
DTSTAMP:20260421T221415
CREATED:20250626T050418Z
LAST-MODIFIED:20250709T060421Z
UID:10001020-1752049800-1752060600@reenaseniorliving.com
SUMMARY:Jefferson County Fair - Load bus at 8:30am - 11:15am Details in Activity Binder
DESCRIPTION:
URL:https://reenaseniorliving.com/event-calendar/jefferson-county-fair-visit-830am-1130am-weather-permitting-details-in-activity-binder/
LOCATION:Day Trip
CATEGORIES:Assisted Living
END:VEVENT
BEGIN:VEVENT
DTSTART;TZID=America/Chicago:20250709T091500
DTEND;TZID=America/Chicago:20250709T094500
DTSTAMP:20260421T221415
CREATED:20250610T001922Z
LAST-MODIFIED:20250702T053445Z
UID:10000735-1752052500-1752054300@reenaseniorliving.com
SUMMARY:Movement Class with Anne Today
DESCRIPTION:
URL:https://reenaseniorliving.com/event-calendar/movement-class-47/
LOCATION:Activity Room
CATEGORIES:Assisted Living
END:VEVENT
BEGIN:VEVENT
DTSTART;TZID=America/Chicago:20250709T100000
DTEND;TZID=America/Chicago:20250709T101500
DTSTAMP:20260421T221415
CREATED:20250609T234923Z
LAST-MODIFIED:20250709T060421Z
UID:10000728-1752055200-1752056100@reenaseniorliving.com
SUMMARY:Sing along before Catholic Service.
DESCRIPTION:We will assist you to go next door.
URL:https://reenaseniorliving.com/event-calendar/sing-along-before-catholic-service-6/
LOCATION:Legacy Court
CATEGORIES:Assisted Living,Legacy Court
END:VEVENT
BEGIN:VEVENT
DTSTART;TZID=America/Chicago:20250709T101500
DTEND;TZID=America/Chicago:20250709T104500
DTSTAMP:20260421T221415
CREATED:20250619T045054Z
LAST-MODIFIED:20250709T060421Z
UID:10000866-1752056100-1752057900@reenaseniorliving.com
SUMMARY:Non-Denominational Service with Chaplain Lee - 10:15am - 10:45am
DESCRIPTION:
URL:https://reenaseniorliving.com/event-calendar/non-denominational-service-with-chaplain-lee/
LOCATION:Theatre
CATEGORIES:Assisted Living
END:VEVENT
BEGIN:VEVENT
DTSTART;TZID=America/Chicago:20250709T101500
DTEND;TZID=America/Chicago:20250709T111500
DTSTAMP:20260421T221415
CREATED:20250609T234923Z
LAST-MODIFIED:20250709T060421Z
UID:10000727-1752056100-1752059700@reenaseniorliving.com
SUMMARY:Catholic Service
DESCRIPTION:
URL:https://reenaseniorliving.com/event-calendar/catholic-service-8/
LOCATION:Legacy Court
CATEGORIES:Assisted Living,Legacy Court
END:VEVENT
BEGIN:VEVENT
DTSTART;TZID=America/Chicago:20250709T123000
DTEND;TZID=America/Chicago:20250709T124500
DTSTAMP:20260421T221415
CREATED:20250610T001923Z
LAST-MODIFIED:20250625T050410Z
UID:10000736-1752064200-1752065100@reenaseniorliving.com
SUMMARY:Reading of AGNUS DEI with volunteer Dorothy
DESCRIPTION:
URL:https://reenaseniorliving.com/event-calendar/reading-of-agnus-dei-with-volunteer-dorothy-4/
LOCATION:Pub
CATEGORIES:Assisted Living
END:VEVENT
BEGIN:VEVENT
DTSTART;TZID=America/Chicago:20250709T130000
DTEND;TZID=America/Chicago:20250709T140000
DTSTAMP:20260421T221415
CREATED:20250620T050636Z
LAST-MODIFIED:20250625T050410Z
UID:10000895-1752066000-1752069600@reenaseniorliving.com
SUMMARY:Wood Chipping Class
DESCRIPTION:
URL:https://reenaseniorliving.com/event-calendar/wood-chipping-class-3/
LOCATION:Activity Room
CATEGORIES:Assisted Living
END:VEVENT
BEGIN:VEVENT
DTSTART;TZID=America/Chicago:20250709T133000
DTEND;TZID=America/Chicago:20250709T160000
DTSTAMP:20260421T221415
CREATED:20250626T050418Z
LAST-MODIFIED:20250709T060421Z
UID:10001021-1752067800-1752076800@reenaseniorliving.com
SUMMARY:Nail Spa Day - Sign-up - Clip\, file and/or polish
DESCRIPTION:
URL:https://reenaseniorliving.com/event-calendar/nail-spa-day-sign-up-clip-file-and-or-polish/
LOCATION:Activity Room
CATEGORIES:Assisted Living
END:VEVENT
BEGIN:VEVENT
DTSTART;TZID=America/Chicago:20250709T170000
DTEND;TZID=America/Chicago:20250709T190000
DTSTAMP:20260421T221415
CREATED:20250610T001923Z
LAST-MODIFIED:20250709T060421Z
UID:10000737-1752080400-1752087600@reenaseniorliving.com
SUMMARY:Resident Guided - Social Time
DESCRIPTION:
URL:https://reenaseniorliving.com/event-calendar/resident-guided-social-time-58/
LOCATION:Activity Room
CATEGORIES:Assisted Living
END:VEVENT
END:VCALENDAR