BEGIN:VCALENDAR
VERSION:2.0
PRODID:-//Reena Senior Living - ECPv6.11.2.1//NONSGML v1.0//EN
CALSCALE:GREGORIAN
METHOD:PUBLISH
X-ORIGINAL-URL:https://reenaseniorliving.com
X-WR-CALDESC:Events for Reena Senior Living
REFRESH-INTERVAL;VALUE=DURATION:PT1H
X-Robots-Tag:noindex
X-PUBLISHED-TTL:PT1H
BEGIN:VTIMEZONE
TZID:America/Chicago
BEGIN:DAYLIGHT
TZOFFSETFROM:-0600
TZOFFSETTO:-0500
TZNAME:CDT
DTSTART:20250309T080000
END:DAYLIGHT
BEGIN:STANDARD
TZOFFSETFROM:-0500
TZOFFSETTO:-0600
TZNAME:CST
DTSTART:20251102T070000
END:STANDARD
END:VTIMEZONE
BEGIN:VEVENT
DTSTART;TZID=America/Chicago:20250714T085000
DTEND;TZID=America/Chicago:20250714T090500
DTSTAMP:20260421T221126
CREATED:20250624T050423Z
LAST-MODIFIED:20250714T060421Z
UID:10000959-1752483000-1752483900@reenaseniorliving.com
SUMMARY:Green Thumbs and Patio Social Time.
DESCRIPTION:Garden and Social Time.
URL:https://reenaseniorliving.com/event-calendar/green-thumbs-and-patio-social-time-21/
LOCATION:Activity Room Patio
CATEGORIES:Assisted Living
END:VEVENT
BEGIN:VEVENT
DTSTART;TZID=America/Chicago:20250714T091500
DTEND;TZID=America/Chicago:20250714T094500
DTSTAMP:20260421T221126
CREATED:20250615T001935Z
LAST-MODIFIED:20250714T060421Z
UID:10000811-1752484500-1752486300@reenaseniorliving.com
SUMMARY:Movement Class with Kayla
DESCRIPTION:
URL:https://reenaseniorliving.com/event-calendar/movement-class-51/
LOCATION:Activity Room
CATEGORIES:Assisted Living
END:VEVENT
BEGIN:VEVENT
DTSTART;TZID=America/Chicago:20250714T095000
DTEND;TZID=America/Chicago:20250714T101000
DTSTAMP:20260421T221126
CREATED:20250615T001935Z
LAST-MODIFIED:20250620T050637Z
UID:10000812-1752486600-1752487800@reenaseniorliving.com
SUMMARY:Outdoor Stroll
DESCRIPTION:
URL:https://reenaseniorliving.com/event-calendar/outdoor-stroll-18/
LOCATION:Activity Room
CATEGORIES:Assisted Living
END:VEVENT
BEGIN:VEVENT
DTSTART;TZID=America/Chicago:20250714T101500
DTEND;TZID=America/Chicago:20250714T110000
DTSTAMP:20260421T221126
CREATED:20250615T000425Z
LAST-MODIFIED:20250714T060421Z
UID:10000803-1752488100-1752490800@reenaseniorliving.com
SUMMARY:Lutheran Service with Julie - Legacy Court
DESCRIPTION:
URL:https://reenaseniorliving.com/event-calendar/lutheran-service-with-julie-legacy-court-2/
LOCATION:Legacy Court
CATEGORIES:Assisted Living,Legacy Court
END:VEVENT
BEGIN:VEVENT
DTSTART;TZID=America/Chicago:20250714T103000
DTEND;TZID=America/Chicago:20250714T110000
DTSTAMP:20260421T221126
CREATED:20250615T001935Z
LAST-MODIFIED:20250625T050411Z
UID:10000813-1752489000-1752490800@reenaseniorliving.com
SUMMARY:Green Thumbs and Patio Social Time.
DESCRIPTION:Garden and Social Time.
URL:https://reenaseniorliving.com/event-calendar/green-thumbs-and-patio-social-time-15/
LOCATION:Activity Room Patio
CATEGORIES:Assisted Living
END:VEVENT
BEGIN:VEVENT
DTSTART;TZID=America/Chicago:20250714T123000
DTEND;TZID=America/Chicago:20250714T130000
DTSTAMP:20260421T221126
CREATED:20250615T001935Z
LAST-MODIFIED:20250714T060421Z
UID:10000814-1752496200-1752498000@reenaseniorliving.com
SUMMARY:Rosary with Volunteer Dorothy
DESCRIPTION:
URL:https://reenaseniorliving.com/event-calendar/rosary-with-volunteer-dorothy-9/
LOCATION:Pub
CATEGORIES:Assisted Living
END:VEVENT
BEGIN:VEVENT
DTSTART;TZID=America/Chicago:20250714T133000
DTEND;TZID=America/Chicago:20250714T143000
DTSTAMP:20260421T221126
CREATED:20250615T001935Z
LAST-MODIFIED:20250714T060421Z
UID:10000815-1752499800-1752503400@reenaseniorliving.com
SUMMARY:Bingo
DESCRIPTION:
URL:https://reenaseniorliving.com/event-calendar/bingo-16/
LOCATION:AR
CATEGORIES:Assisted Living
END:VEVENT
BEGIN:VEVENT
DTSTART;TZID=America/Chicago:20250714T170000
DTEND;TZID=America/Chicago:20250714T190000
DTSTAMP:20260421T221126
CREATED:20250615T001935Z
LAST-MODIFIED:20250714T060421Z
UID:10000816-1752512400-1752519600@reenaseniorliving.com
SUMMARY:Resident Guided - Social Time
DESCRIPTION:
URL:https://reenaseniorliving.com/event-calendar/resident-guided-social-time-63/
LOCATION:Activity Room
CATEGORIES:Assisted Living
END:VEVENT
END:VCALENDAR