BEGIN:VCALENDAR
VERSION:2.0
PRODID:-//Reena Senior Living - ECPv6.11.2.1//NONSGML v1.0//EN
CALSCALE:GREGORIAN
METHOD:PUBLISH
X-WR-CALNAME:Reena Senior Living
X-ORIGINAL-URL:https://reenaseniorliving.com
X-WR-CALDESC:Events for Reena Senior Living
REFRESH-INTERVAL;VALUE=DURATION:PT1H
X-Robots-Tag:noindex
X-PUBLISHED-TTL:PT1H
BEGIN:VTIMEZONE
TZID:America/Chicago
BEGIN:DAYLIGHT
TZOFFSETFROM:-0600
TZOFFSETTO:-0500
TZNAME:CDT
DTSTART:20250309T080000
END:DAYLIGHT
BEGIN:STANDARD
TZOFFSETFROM:-0500
TZOFFSETTO:-0600
TZNAME:CST
DTSTART:20251102T070000
END:STANDARD
END:VTIMEZONE
BEGIN:VEVENT
DTSTART;TZID=America/Chicago:20250717T091500
DTEND;TZID=America/Chicago:20250717T094500
DTSTAMP:20260421T221800
CREATED:20250617T182135Z
LAST-MODIFIED:20250717T060452Z
UID:10000838-1752743700-1752745500@reenaseniorliving.com
SUMMARY:Movement Class with Kayla
DESCRIPTION:Gentle Movement\, Strength\, Mobility\, Balance\, & More.
URL:https://reenaseniorliving.com/event-calendar/movement-class-54/
LOCATION:Activity Room
CATEGORIES:Assisted Living
END:VEVENT
BEGIN:VEVENT
DTSTART;TZID=America/Chicago:20250717T094500
DTEND;TZID=America/Chicago:20250717T101000
DTSTAMP:20260421T221800
CREATED:20250617T182135Z
LAST-MODIFIED:20250717T060452Z
UID:10000839-1752745500-1752747000@reenaseniorliving.com
SUMMARY:Strength Class - Intermediate Class
DESCRIPTION:
URL:https://reenaseniorliving.com/event-calendar/strength-class-intermediate-class-19/
LOCATION:Activity Room
CATEGORIES:Assisted Living
END:VEVENT
BEGIN:VEVENT
DTSTART;TZID=America/Chicago:20250717T130000
DTEND;TZID=America/Chicago:20250717T133000
DTSTAMP:20260421T221800
CREATED:20250621T023449Z
LAST-MODIFIED:20250625T050411Z
UID:10000907-1752757200-1752759000@reenaseniorliving.com
SUMMARY:Grip Practice - Come join the team. Roles vary\, come check it out.
DESCRIPTION:
URL:https://reenaseniorliving.com/event-calendar/grip-practice-come-join-the-team-roles-vary-come-check-it-out-6/
LOCATION:Activity Room
CATEGORIES:Assisted Living,Legacy Court
END:VEVENT
BEGIN:VEVENT
DTSTART;TZID=America/Chicago:20250717T130000
DTEND;TZID=America/Chicago:20250717T150000
DTSTAMP:20260421T221800
CREATED:20250627T050707Z
LAST-MODIFIED:20250630T053453Z
UID:10001059-1752757200-1752764400@reenaseniorliving.com
SUMMARY:Movie Day - Vote for your movie choice in AR - Beverage and Snack will be served.
DESCRIPTION:
URL:https://reenaseniorliving.com/event-calendar/movie-day-vote-for-your-movie-choice-in-ar-beverage-and-snack-will-be-served/
LOCATION:Theatre
CATEGORIES:Assisted Living
END:VEVENT
BEGIN:VEVENT
DTSTART;TZID=America/Chicago:20250717T140000
DTEND;TZID=America/Chicago:20250717T141500
DTSTAMP:20260421T221800
CREATED:20250617T192039Z
LAST-MODIFIED:20250717T060452Z
UID:10000850-1752760800-1752761700@reenaseniorliving.com
SUMMARY:Pet Therapy Visit
DESCRIPTION:Therapy Dog and Human will visit Lobby and then Legacy Court.
URL:https://reenaseniorliving.com/event-calendar/pet-therapy-visit-3/
LOCATION:Activity Room
CATEGORIES:Assisted Living
END:VEVENT
BEGIN:VEVENT
DTSTART;TZID=America/Chicago:20250717T143000
DTEND;TZID=America/Chicago:20250717T151500
DTSTAMP:20260421T221800
CREATED:20250617T200443Z
LAST-MODIFIED:20250625T050411Z
UID:10000853-1752762600-1752765300@reenaseniorliving.com
SUMMARY:Community Life Gathering with Dawn
DESCRIPTION:
URL:https://reenaseniorliving.com/event-calendar/community-life-gathering-with-dawn-2/
LOCATION:Activity Room
CATEGORIES:Assisted Living
END:VEVENT
BEGIN:VEVENT
DTSTART;TZID=America/Chicago:20250717T170000
DTEND;TZID=America/Chicago:20250717T190000
DTSTAMP:20260421T221800
CREATED:20250617T222038Z
LAST-MODIFIED:20250717T060452Z
UID:10000856-1752771600-1752778800@reenaseniorliving.com
SUMMARY:Resident Guided - Social Time
DESCRIPTION:
URL:https://reenaseniorliving.com/event-calendar/resident-guided-social-time-66/
LOCATION:Activity Room
CATEGORIES:Assisted Living
END:VEVENT
END:VCALENDAR