BEGIN:VCALENDAR
VERSION:2.0
PRODID:-//Reena Senior Living - ECPv6.11.2.1//NONSGML v1.0//EN
CALSCALE:GREGORIAN
METHOD:PUBLISH
X-WR-CALNAME:Reena Senior Living
X-ORIGINAL-URL:https://reenaseniorliving.com
X-WR-CALDESC:Events for Reena Senior Living
REFRESH-INTERVAL;VALUE=DURATION:PT1H
X-Robots-Tag:noindex
X-PUBLISHED-TTL:PT1H
BEGIN:VTIMEZONE
TZID:America/Chicago
BEGIN:DAYLIGHT
TZOFFSETFROM:-0600
TZOFFSETTO:-0500
TZNAME:CDT
DTSTART:20250309T080000
END:DAYLIGHT
BEGIN:STANDARD
TZOFFSETFROM:-0500
TZOFFSETTO:-0600
TZNAME:CST
DTSTART:20251102T070000
END:STANDARD
END:VTIMEZONE
BEGIN:VEVENT
DTSTART;TZID=America/Chicago:20250804T091500
DTEND;TZID=America/Chicago:20250804T094500
DTSTAMP:20260421T205447
CREATED:20250706T054911Z
LAST-MODIFIED:20250804T060416Z
UID:10001172-1754298900-1754300700@reenaseniorliving.com
SUMMARY:Movement Class with Kayla
DESCRIPTION:
URL:https://reenaseniorliving.com/event-calendar/movement-class-with-kayla-14/
LOCATION:Activity Room
CATEGORIES:Assisted Living
END:VEVENT
BEGIN:VEVENT
DTSTART;TZID=America/Chicago:20250804T100000
DTEND;TZID=America/Chicago:20250804T104000
DTSTAMP:20260421T205447
CREATED:20250706T054911Z
LAST-MODIFIED:20250804T060416Z
UID:10001171-1754301600-1754304000@reenaseniorliving.com
SUMMARY:Green Thumbs and Patio Social Time.
DESCRIPTION:Garden and Social Time.
URL:https://reenaseniorliving.com/event-calendar/green-thumbs-and-patio-social-time-24/
LOCATION:Activity Room Patio
CATEGORIES:Assisted Living
END:VEVENT
BEGIN:VEVENT
DTSTART;TZID=America/Chicago:20250804T101500
DTEND;TZID=America/Chicago:20250804T111500
DTSTAMP:20260421T205447
CREATED:20250706T054911Z
LAST-MODIFIED:20250724T060419Z
UID:10001173-1754302500-1754306100@reenaseniorliving.com
SUMMARY:Coffee in the Cafe - The Cafe is adjoined to the Dining Room
DESCRIPTION:
URL:https://reenaseniorliving.com/event-calendar/coffee-in-the-cafe-the-cafe-is-adjoined-to-the-dining-room/
LOCATION:Cafe
CATEGORIES:Assisted Living
END:VEVENT
BEGIN:VEVENT
DTSTART;TZID=America/Chicago:20250804T113000
DTEND;TZID=America/Chicago:20250804T120000
DTSTAMP:20260421T205447
CREATED:20250731T060412Z
LAST-MODIFIED:20250804T060416Z
UID:10001582-1754307000-1754308800@reenaseniorliving.com
SUMMARY:Live piano music with Anne at Lunch
DESCRIPTION:
URL:https://reenaseniorliving.com/event-calendar/live-piano-music-with-anne-at-lunch/
LOCATION:Cafe
CATEGORIES:Assisted Living
END:VEVENT
BEGIN:VEVENT
DTSTART;TZID=America/Chicago:20250804T123000
DTEND;TZID=America/Chicago:20250804T130000
DTSTAMP:20260421T205447
CREATED:20250706T054911Z
LAST-MODIFIED:20250804T060416Z
UID:10001174-1754310600-1754312400@reenaseniorliving.com
SUMMARY:Rosary with Volunteer Dorothy
DESCRIPTION:
URL:https://reenaseniorliving.com/event-calendar/rosary-with-volunteer-dorothy-12/
LOCATION:Pub
CATEGORIES:Assisted Living
END:VEVENT
BEGIN:VEVENT
DTSTART;TZID=America/Chicago:20250804T133000
DTEND;TZID=America/Chicago:20250804T143000
DTSTAMP:20260421T205447
CREATED:20250706T054911Z
LAST-MODIFIED:20250804T060416Z
UID:10001175-1754314200-1754317800@reenaseniorliving.com
SUMMARY:Bingo
DESCRIPTION:
URL:https://reenaseniorliving.com/event-calendar/bingo-23/
LOCATION:AR
CATEGORIES:Assisted Living
END:VEVENT
BEGIN:VEVENT
DTSTART;TZID=America/Chicago:20250804T170000
DTEND;TZID=America/Chicago:20250804T190000
DTSTAMP:20260421T205447
CREATED:20250706T054911Z
LAST-MODIFIED:20250804T060416Z
UID:10001176-1754326800-1754334000@reenaseniorliving.com
SUMMARY:Resident Guided - Social Time
DESCRIPTION:
URL:https://reenaseniorliving.com/event-calendar/resident-guided-social-time-83/
LOCATION:Activity Room
CATEGORIES:Assisted Living
END:VEVENT
END:VCALENDAR