BEGIN:VCALENDAR
VERSION:2.0
PRODID:-//Reena Senior Living - ECPv6.11.2.1//NONSGML v1.0//EN
CALSCALE:GREGORIAN
METHOD:PUBLISH
X-WR-CALNAME:Reena Senior Living
X-ORIGINAL-URL:https://reenaseniorliving.com
X-WR-CALDESC:Events for Reena Senior Living
REFRESH-INTERVAL;VALUE=DURATION:PT1H
X-Robots-Tag:noindex
X-PUBLISHED-TTL:PT1H
BEGIN:VTIMEZONE
TZID:America/Chicago
BEGIN:DAYLIGHT
TZOFFSETFROM:-0600
TZOFFSETTO:-0500
TZNAME:CDT
DTSTART:20250309T080000
END:DAYLIGHT
BEGIN:STANDARD
TZOFFSETFROM:-0500
TZOFFSETTO:-0600
TZNAME:CST
DTSTART:20251102T070000
END:STANDARD
END:VTIMEZONE
BEGIN:VEVENT
DTSTART;TZID=America/Chicago:20250807T091500
DTEND;TZID=America/Chicago:20250807T094500
DTSTAMP:20260421T205508
CREATED:20250709T060426Z
LAST-MODIFIED:20250807T060402Z
UID:10001212-1754558100-1754559900@reenaseniorliving.com
SUMMARY:Movement Class with Kayla
DESCRIPTION:Gentle Movement\, Strength\, Mobility\, Balance\, & More.
URL:https://reenaseniorliving.com/event-calendar/movement-class-with-kayla-17/
LOCATION:Activity Room
CATEGORIES:Assisted Living
END:VEVENT
BEGIN:VEVENT
DTSTART;TZID=America/Chicago:20250807T094500
DTEND;TZID=America/Chicago:20250807T101000
DTSTAMP:20260421T205508
CREATED:20250709T060426Z
LAST-MODIFIED:20250807T060402Z
UID:10001211-1754559900-1754561400@reenaseniorliving.com
SUMMARY:Strength Class - Intermediate Class
DESCRIPTION:
URL:https://reenaseniorliving.com/event-calendar/strength-class-intermediate-class-25/
LOCATION:Activity Room
CATEGORIES:Assisted Living
END:VEVENT
BEGIN:VEVENT
DTSTART;TZID=America/Chicago:20250807T123000
DTEND;TZID=America/Chicago:20250807T134500
DTSTAMP:20260421T205508
CREATED:20250730T060429Z
LAST-MODIFIED:20250731T060413Z
UID:10001550-1754569800-1754574300@reenaseniorliving.com
SUMMARY:Nail Spa Day - Sign-up
DESCRIPTION:
URL:https://reenaseniorliving.com/event-calendar/nail-spa-day-sign-up-2/
LOCATION:Activity Room
CATEGORIES:Assisted Living
END:VEVENT
BEGIN:VEVENT
DTSTART;TZID=America/Chicago:20250807T140000
DTEND;TZID=America/Chicago:20250807T150000
DTSTAMP:20260421T205508
CREATED:20250709T060426Z
LAST-MODIFIED:20250807T060402Z
UID:10001214-1754575200-1754578800@reenaseniorliving.com
SUMMARY:The Incredible Life of John B. Jones! Slavery to Freedom\, Lighthouse Keeper & More.
DESCRIPTION:Monthly Live Interactive Presentations with Q&A Time
URL:https://reenaseniorliving.com/event-calendar/national-memorials-of-washington-d-c-live-presentation-via-zoom-ask-questions-join-in-3/
LOCATION:Activity Room
CATEGORIES:Assisted Living
END:VEVENT
BEGIN:VEVENT
DTSTART;TZID=America/Chicago:20250807T150000
DTEND;TZID=America/Chicago:20250807T154500
DTSTAMP:20260421T205508
CREATED:20250709T060426Z
LAST-MODIFIED:20250729T060411Z
UID:10001213-1754578800-1754581500@reenaseniorliving.com
SUMMARY:Trivia and Games - Geography and Stickman Word Game
DESCRIPTION:
URL:https://reenaseniorliving.com/event-calendar/garbage-rummy-cube-or-connect-four-game-tables-come-on-down-for-social-and-popcorn-5/
LOCATION:Activity Room
CATEGORIES:Assisted Living
END:VEVENT
BEGIN:VEVENT
DTSTART;TZID=America/Chicago:20250807T170000
DTEND;TZID=America/Chicago:20250807T190000
DTSTAMP:20260421T205508
CREATED:20250709T060426Z
LAST-MODIFIED:20250807T060402Z
UID:10001215-1754586000-1754593200@reenaseniorliving.com
SUMMARY:Resident Guided - Social Time
DESCRIPTION:
URL:https://reenaseniorliving.com/event-calendar/resident-guided-social-time-86/
LOCATION:Activity Room
CATEGORIES:Assisted Living
END:VEVENT
END:VCALENDAR