BEGIN:VCALENDAR
VERSION:2.0
PRODID:-//Reena Senior Living - ECPv6.11.2.1//NONSGML v1.0//EN
CALSCALE:GREGORIAN
METHOD:PUBLISH
X-WR-CALNAME:Reena Senior Living
X-ORIGINAL-URL:https://reenaseniorliving.com
X-WR-CALDESC:Events for Reena Senior Living
REFRESH-INTERVAL;VALUE=DURATION:PT1H
X-Robots-Tag:noindex
X-PUBLISHED-TTL:PT1H
BEGIN:VTIMEZONE
TZID:America/Chicago
BEGIN:DAYLIGHT
TZOFFSETFROM:-0600
TZOFFSETTO:-0500
TZNAME:CDT
DTSTART:20250309T080000
END:DAYLIGHT
BEGIN:STANDARD
TZOFFSETFROM:-0500
TZOFFSETTO:-0600
TZNAME:CST
DTSTART:20251102T070000
END:STANDARD
END:VTIMEZONE
BEGIN:VEVENT
DTSTART;TZID=America/Chicago:20250813T091500
DTEND;TZID=America/Chicago:20250813T094500
DTSTAMP:20260421T205605
CREATED:20250715T060408Z
LAST-MODIFIED:20250813T060504Z
UID:10001301-1755076500-1755078300@reenaseniorliving.com
SUMMARY:Movement Class with Kayla
DESCRIPTION:
URL:https://reenaseniorliving.com/event-calendar/movement-class-with-kayla-21/
LOCATION:Activity Room
CATEGORIES:Assisted Living
END:VEVENT
BEGIN:VEVENT
DTSTART;TZID=America/Chicago:20250813T093000
DTEND;TZID=America/Chicago:20250813T101000
DTSTAMP:20260421T205605
CREATED:20250715T033411Z
LAST-MODIFIED:20250813T040456Z
UID:10001294-1755077400-1755079800@reenaseniorliving.com
SUMMARY:Sing along with Laurie
DESCRIPTION:We will assist you to go next door.
URL:https://reenaseniorliving.com/event-calendar/sing-along-before-catholic-service-11/
LOCATION:Legacy Court
CATEGORIES:Assisted Living,Legacy Court
END:VEVENT
BEGIN:VEVENT
DTSTART;TZID=America/Chicago:20250813T101500
DTEND;TZID=America/Chicago:20250813T111500
DTSTAMP:20260421T205605
CREATED:20250715T033411Z
LAST-MODIFIED:20250813T060504Z
UID:10001295-1755080100-1755083700@reenaseniorliving.com
SUMMARY:Catholic Service in Assisted Living this week.
DESCRIPTION:
URL:https://reenaseniorliving.com/event-calendar/catholic-service-13/
LOCATION:Theatre AL
CATEGORIES:Assisted Living,Legacy Court
END:VEVENT
BEGIN:VEVENT
DTSTART;TZID=America/Chicago:20250813T123000
DTEND;TZID=America/Chicago:20250813T130000
DTSTAMP:20260421T205605
CREATED:20250730T060430Z
LAST-MODIFIED:20250807T060400Z
UID:10001551-1755088200-1755090000@reenaseniorliving.com
SUMMARY:Green Thumbs Garden Group
DESCRIPTION:
URL:https://reenaseniorliving.com/event-calendar/green-thumbs-garden-group-35/
LOCATION:Activity Room Patio
CATEGORIES:Assisted Living
END:VEVENT
BEGIN:VEVENT
DTSTART;TZID=America/Chicago:20250813T130000
DTEND;TZID=America/Chicago:20250813T133500
DTSTAMP:20260421T205605
CREATED:20250715T060408Z
LAST-MODIFIED:20250813T060504Z
UID:10001302-1755090000-1755092100@reenaseniorliving.com
SUMMARY:Non-Denominational Service with Chaplain Lee
DESCRIPTION:
URL:https://reenaseniorliving.com/event-calendar/non-denominational-service-with-chaplain-lee-2/
LOCATION:Theatre
CATEGORIES:Assisted Living
END:VEVENT
BEGIN:VEVENT
DTSTART;TZID=America/Chicago:20250813T140000
DTEND;TZID=America/Chicago:20250813T154500
DTSTAMP:20260421T205605
CREATED:20250731T060414Z
LAST-MODIFIED:20250813T060504Z
UID:10001586-1755093600-1755099900@reenaseniorliving.com
SUMMARY:Door 2 Door Visits - Beverage
DESCRIPTION:
URL:https://reenaseniorliving.com/event-calendar/door-2-door-visits-beverage-3/
CATEGORIES:Assisted Living
END:VEVENT
BEGIN:VEVENT
DTSTART;TZID=America/Chicago:20250813T170000
DTEND;TZID=America/Chicago:20250813T190000
DTSTAMP:20260421T205605
CREATED:20250715T060408Z
LAST-MODIFIED:20250805T060503Z
UID:10001303-1755104400-1755111600@reenaseniorliving.com
SUMMARY:Resident Guided - Social Time
DESCRIPTION:
URL:https://reenaseniorliving.com/event-calendar/resident-guided-social-time-92/
LOCATION:Activity Room
CATEGORIES:Assisted Living
END:VEVENT
BEGIN:VEVENT
DTSTART;TZID=America/Chicago:20250813T180000
DTEND;TZID=America/Chicago:20250813T200000
DTSTAMP:20260421T205605
CREATED:20250807T060401Z
LAST-MODIFIED:20250813T060504Z
UID:10001682-1755108000-1755115200@reenaseniorliving.com
SUMMARY:Corn Hole Game\, Connect Four\, & Jenga are set up in the Activity Room for you. Laurie will be here
DESCRIPTION:
URL:https://reenaseniorliving.com/event-calendar/corn-hole-game-connect-four-jenga-are-set-up-in-the-activity-room-for-you/
LOCATION:Activity Room
CATEGORIES:Assisted Living
END:VEVENT
END:VCALENDAR