BEGIN:VCALENDAR
VERSION:2.0
PRODID:-//Reena Senior Living - ECPv6.11.2.1//NONSGML v1.0//EN
CALSCALE:GREGORIAN
METHOD:PUBLISH
X-ORIGINAL-URL:https://reenaseniorliving.com
X-WR-CALDESC:Events for Reena Senior Living
REFRESH-INTERVAL;VALUE=DURATION:PT1H
X-Robots-Tag:noindex
X-PUBLISHED-TTL:PT1H
BEGIN:VTIMEZONE
TZID:America/Chicago
BEGIN:DAYLIGHT
TZOFFSETFROM:-0600
TZOFFSETTO:-0500
TZNAME:CDT
DTSTART:20250309T080000
END:DAYLIGHT
BEGIN:STANDARD
TZOFFSETFROM:-0500
TZOFFSETTO:-0600
TZNAME:CST
DTSTART:20251102T070000
END:STANDARD
END:VTIMEZONE
BEGIN:VEVENT
DTSTART;TZID=America/Chicago:20250814T091500
DTEND;TZID=America/Chicago:20250814T094500
DTSTAMP:20260421T205631
CREATED:20250716T060408Z
LAST-MODIFIED:20250814T061908Z
UID:10001315-1755162900-1755164700@reenaseniorliving.com
SUMMARY:Movement Class with Kayla
DESCRIPTION:Gentle Movement\, Strength\, Mobility\, Balance\, & More.
URL:https://reenaseniorliving.com/event-calendar/movement-class-with-kayla-22/
LOCATION:Activity Room
CATEGORIES:Assisted Living
END:VEVENT
BEGIN:VEVENT
DTSTART;TZID=America/Chicago:20250814T094500
DTEND;TZID=America/Chicago:20250814T101000
DTSTAMP:20260421T205631
CREATED:20250716T060408Z
LAST-MODIFIED:20250814T061908Z
UID:10001314-1755164700-1755166200@reenaseniorliving.com
SUMMARY:Strength Class - Intermediate Class
DESCRIPTION:
URL:https://reenaseniorliving.com/event-calendar/strength-class-intermediate-class-27/
LOCATION:Activity Room
CATEGORIES:Assisted Living
END:VEVENT
BEGIN:VEVENT
DTSTART;TZID=America/Chicago:20250814T133000
DTEND;TZID=America/Chicago:20250814T143000
DTSTAMP:20260421T205631
CREATED:20250723T060406Z
LAST-MODIFIED:20250814T061908Z
UID:10001426-1755178200-1755181800@reenaseniorliving.com
SUMMARY:Trivia with Sugar Loaf in Winona MN via TV
DESCRIPTION:
URL:https://reenaseniorliving.com/event-calendar/trivia-with-sugar-loaf-in-winona-mn-via-tv/
LOCATION:Activity Room
CATEGORIES:Assisted Living
END:VEVENT
BEGIN:VEVENT
DTSTART;TZID=America/Chicago:20250814T143000
DTEND;TZID=America/Chicago:20250814T160000
DTSTAMP:20260421T205631
CREATED:20250730T060430Z
LAST-MODIFIED:20250814T061908Z
UID:10001552-1755181800-1755187200@reenaseniorliving.com
SUMMARY:Paper Weaving Fun with Artist Sally Koehler. Sign-up.
DESCRIPTION:
URL:https://reenaseniorliving.com/event-calendar/paper-weaving-fun-with-artist-sally-koehler-sign-up/
LOCATION:Activity Room
CATEGORIES:Assisted Living
END:VEVENT
BEGIN:VEVENT
DTSTART;TZID=America/Chicago:20250814T180000
DTEND;TZID=America/Chicago:20250814T200000
DTSTAMP:20260421T205631
CREATED:20250716T060408Z
LAST-MODIFIED:20250814T061908Z
UID:10001316-1755194400-1755201600@reenaseniorliving.com
SUMMARY:Resident Guided - Social Time
DESCRIPTION:
URL:https://reenaseniorliving.com/event-calendar/resident-guided-social-time-93/
LOCATION:Library
CATEGORIES:Assisted Living
END:VEVENT
END:VCALENDAR