BEGIN:VCALENDAR
VERSION:2.0
PRODID:-//Reena Senior Living - ECPv6.11.2.1//NONSGML v1.0//EN
CALSCALE:GREGORIAN
METHOD:PUBLISH
X-WR-CALNAME:Reena Senior Living
X-ORIGINAL-URL:https://reenaseniorliving.com
X-WR-CALDESC:Events for Reena Senior Living
REFRESH-INTERVAL;VALUE=DURATION:PT1H
X-Robots-Tag:noindex
X-PUBLISHED-TTL:PT1H
BEGIN:VTIMEZONE
TZID:America/Chicago
BEGIN:DAYLIGHT
TZOFFSETFROM:-0600
TZOFFSETTO:-0500
TZNAME:CDT
DTSTART:20250309T080000
END:DAYLIGHT
BEGIN:STANDARD
TZOFFSETFROM:-0500
TZOFFSETTO:-0600
TZNAME:CST
DTSTART:20251102T070000
END:STANDARD
END:VTIMEZONE
BEGIN:VEVENT
DTSTART;TZID=America/Chicago:20250815T091500
DTEND;TZID=America/Chicago:20250815T094500
DTSTAMP:20260421T210432
CREATED:20250717T060456Z
LAST-MODIFIED:20250815T061935Z
UID:10001329-1755249300-1755251100@reenaseniorliving.com
SUMMARY:Movement Class with Kayla
DESCRIPTION:
URL:https://reenaseniorliving.com/event-calendar/movement-class-with-kayla-23/
LOCATION:Activity Room
CATEGORIES:Assisted Living
END:VEVENT
BEGIN:VEVENT
DTSTART;TZID=America/Chicago:20250815T100000
DTEND;TZID=America/Chicago:20250815T103000
DTSTAMP:20260421T210432
CREATED:20250717T060456Z
LAST-MODIFIED:20250815T061935Z
UID:10001328-1755252000-1755253800@reenaseniorliving.com
SUMMARY:Green Thumbs Garden Group
DESCRIPTION:
URL:https://reenaseniorliving.com/event-calendar/green-thumbs-garden-group-25/
LOCATION:Activity Room Patio
CATEGORIES:Assisted Living
END:VEVENT
BEGIN:VEVENT
DTSTART;TZID=America/Chicago:20250815T104500
DTEND;TZID=America/Chicago:20250815T111500
DTSTAMP:20260421T210432
CREATED:20250717T060456Z
LAST-MODIFIED:20250730T060430Z
UID:10001330-1755254700-1755256500@reenaseniorliving.com
SUMMARY:Coffee & Horse Racing with Kayla in Cafe
DESCRIPTION:Social Time with Coffee
URL:https://reenaseniorliving.com/event-calendar/coffee-horse-racing-with-kayla-in-cafe/
LOCATION:Cafe
CATEGORIES:Assisted Living
END:VEVENT
BEGIN:VEVENT
DTSTART;TZID=America/Chicago:20250815T124500
DTEND;TZID=America/Chicago:20250815T130000
DTSTAMP:20260421T210432
CREATED:20250717T033448Z
LAST-MODIFIED:20250725T060406Z
UID:10001322-1755261900-1755262800@reenaseniorliving.com
SUMMARY:Grip Practice - Come join the team.
DESCRIPTION:
URL:https://reenaseniorliving.com/event-calendar/grip-practice-come-join-the-team-3/
LOCATION:Activity Room
CATEGORIES:Assisted Living,Legacy Court
END:VEVENT
BEGIN:VEVENT
DTSTART;TZID=America/Chicago:20250815T124500
DTEND;TZID=America/Chicago:20250815T130000
DTSTAMP:20260421T210432
CREATED:20250725T060406Z
LAST-MODIFIED:20250815T061935Z
UID:10001478-1755261900-1755262800@reenaseniorliving.com
SUMMARY:Grip Practice
DESCRIPTION:
URL:https://reenaseniorliving.com/event-calendar/grip-practice-11/
LOCATION:Activity Room
CATEGORIES:Assisted Living
END:VEVENT
BEGIN:VEVENT
DTSTART;TZID=America/Chicago:20250815T130000
DTEND;TZID=America/Chicago:20250815T140000
DTSTAMP:20260421T210432
CREATED:20250717T033448Z
LAST-MODIFIED:20250815T061935Z
UID:10001323-1755262800-1755266400@reenaseniorliving.com
SUMMARY:The Big Show - Review the week of Grip Competition!
DESCRIPTION:
URL:https://reenaseniorliving.com/event-calendar/the-big-show-review-the-week-of-grip-competition-5/
LOCATION:Activity Room
CATEGORIES:Assisted Living,Legacy Court
END:VEVENT
BEGIN:VEVENT
DTSTART;TZID=America/Chicago:20250815T133000
DTEND;TZID=America/Chicago:20250815T140000
DTSTAMP:20260421T210432
CREATED:20250717T060456Z
LAST-MODIFIED:20250722T060405Z
UID:10001331-1755264600-1755266400@reenaseniorliving.com
SUMMARY:Story of Christ reading with volunteer Dorothy
DESCRIPTION:
URL:https://reenaseniorliving.com/event-calendar/story-of-christ-reading-with-volunteer-dorothy-11/
LOCATION:Pub
CATEGORIES:Assisted Living
END:VEVENT
BEGIN:VEVENT
DTSTART;TZID=America/Chicago:20250815T150000
DTEND;TZID=America/Chicago:20250815T151500
DTSTAMP:20260421T210432
CREATED:20250717T060457Z
LAST-MODIFIED:20250815T061935Z
UID:10001332-1755270000-1755270900@reenaseniorliving.com
SUMMARY:Your weekly activity packets will be delivered.
DESCRIPTION:
URL:https://reenaseniorliving.com/event-calendar/your-weekly-activity-packets-will-be-delivered-14/
LOCATION:Activity Room
CATEGORIES:Assisted Living
END:VEVENT
BEGIN:VEVENT
DTSTART;TZID=America/Chicago:20250815T170000
DTEND;TZID=America/Chicago:20250815T190000
DTSTAMP:20260421T210432
CREATED:20250717T060457Z
LAST-MODIFIED:20250815T061935Z
UID:10001333-1755277200-1755284400@reenaseniorliving.com
SUMMARY:Social and Game Time - Library is on 2nd floor - Balcony Area
DESCRIPTION:
URL:https://reenaseniorliving.com/event-calendar/resident-guided-social-time-94/
LOCATION:Library
CATEGORIES:Assisted Living
END:VEVENT
END:VCALENDAR