BEGIN:VCALENDAR
VERSION:2.0
PRODID:-//Reena Senior Living - ECPv6.11.2.1//NONSGML v1.0//EN
CALSCALE:GREGORIAN
METHOD:PUBLISH
X-ORIGINAL-URL:https://reenaseniorliving.com
X-WR-CALDESC:Events for Reena Senior Living
REFRESH-INTERVAL;VALUE=DURATION:PT1H
X-Robots-Tag:noindex
X-PUBLISHED-TTL:PT1H
BEGIN:VTIMEZONE
TZID:America/Chicago
BEGIN:DAYLIGHT
TZOFFSETFROM:-0600
TZOFFSETTO:-0500
TZNAME:CDT
DTSTART:20250309T080000
END:DAYLIGHT
BEGIN:STANDARD
TZOFFSETFROM:-0500
TZOFFSETTO:-0600
TZNAME:CST
DTSTART:20251102T070000
END:STANDARD
END:VTIMEZONE
BEGIN:VEVENT
DTSTART;TZID=America/Chicago:20250816T103000
DTEND;TZID=America/Chicago:20250816T113000
DTSTAMP:20260421T205729
CREATED:20250731T060415Z
LAST-MODIFIED:20250816T061902Z
UID:10001587-1755340200-1755343800@reenaseniorliving.com
SUMMARY:Students Playing Piano and singing - Nichole Butzine's students.
DESCRIPTION:
URL:https://reenaseniorliving.com/event-calendar/bingo-with-anne-2/
LOCATION:Activity Room
CATEGORIES:Assisted Living
END:VEVENT
BEGIN:VEVENT
DTSTART;TZID=America/Chicago:20250816T123000
DTEND;TZID=America/Chicago:20250816T125000
DTSTAMP:20260421T205729
CREATED:20250718T060527Z
LAST-MODIFIED:20250816T061902Z
UID:10001338-1755347400-1755348600@reenaseniorliving.com
SUMMARY:Green Thumbs Garden Group
DESCRIPTION:
URL:https://reenaseniorliving.com/event-calendar/green-thumbs-garden-group-26/
LOCATION:Activity Room Patio
CATEGORIES:Assisted Living
END:VEVENT
BEGIN:VEVENT
DTSTART;TZID=America/Chicago:20250816T170000
DTEND;TZID=America/Chicago:20250816T190000
DTSTAMP:20260421T205729
CREATED:20250718T060527Z
LAST-MODIFIED:20250816T061902Z
UID:10001339-1755363600-1755370800@reenaseniorliving.com
SUMMARY:Social and Game Time - Library is on 2nd floor - Balcony Area
DESCRIPTION:
URL:https://reenaseniorliving.com/event-calendar/resident-guided-social-time-95/
LOCATION:Library
CATEGORIES:Assisted Living
END:VEVENT
END:VCALENDAR