BEGIN:VCALENDAR
VERSION:2.0
PRODID:-//Reena Senior Living - ECPv6.11.2.1//NONSGML v1.0//EN
CALSCALE:GREGORIAN
METHOD:PUBLISH
X-ORIGINAL-URL:https://reenaseniorliving.com
X-WR-CALDESC:Events for Reena Senior Living
REFRESH-INTERVAL;VALUE=DURATION:PT1H
X-Robots-Tag:noindex
X-PUBLISHED-TTL:PT1H
BEGIN:VTIMEZONE
TZID:America/Chicago
BEGIN:DAYLIGHT
TZOFFSETFROM:-0600
TZOFFSETTO:-0500
TZNAME:CDT
DTSTART:20250309T080000
END:DAYLIGHT
BEGIN:STANDARD
TZOFFSETFROM:-0500
TZOFFSETTO:-0600
TZNAME:CST
DTSTART:20251102T070000
END:STANDARD
END:VTIMEZONE
BEGIN:VEVENT
DTSTART;TZID=America/Chicago:20250821T091500
DTEND;TZID=America/Chicago:20250821T094500
DTSTAMP:20260421T205616
CREATED:20250723T060408Z
LAST-MODIFIED:20250821T061928Z
UID:10001427-1755767700-1755769500@reenaseniorliving.com
SUMMARY:Movement Class with Kayla
DESCRIPTION:Gentle Movement\, Strength\, Mobility\, Balance\, & More.
URL:https://reenaseniorliving.com/event-calendar/movement-class-with-kayla-27/
LOCATION:Activity Room
CATEGORIES:Assisted Living
END:VEVENT
BEGIN:VEVENT
DTSTART;TZID=America/Chicago:20250821T094500
DTEND;TZID=America/Chicago:20250821T101000
DTSTAMP:20260421T205616
CREATED:20250723T060408Z
LAST-MODIFIED:20250821T061928Z
UID:10001428-1755769500-1755771000@reenaseniorliving.com
SUMMARY:Strength Class - Intermediate Class
DESCRIPTION:
URL:https://reenaseniorliving.com/event-calendar/strength-class-intermediate-class-29/
LOCATION:Activity Room
CATEGORIES:Assisted Living
END:VEVENT
BEGIN:VEVENT
DTSTART;TZID=America/Chicago:20250821T130000
DTEND;TZID=America/Chicago:20250821T170000
DTSTAMP:20260421T205616
CREATED:20250816T061901Z
LAST-MODIFIED:20250821T061928Z
UID:10001800-1755781200-1755795600@reenaseniorliving.com
SUMMARY:Brewers vs. Chicago Cubs - Beverages will be available
DESCRIPTION:
URL:https://reenaseniorliving.com/event-calendar/brewers-vs-chicago-cubs-beverages-will-be-available/
LOCATION:Activity Room
CATEGORIES:Assisted Living
END:VEVENT
BEGIN:VEVENT
DTSTART;TZID=America/Chicago:20250821T140000
DTEND;TZID=America/Chicago:20250821T141500
DTSTAMP:20260421T205616
CREATED:20250723T060408Z
LAST-MODIFIED:20250730T060432Z
UID:10001429-1755784800-1755785700@reenaseniorliving.com
SUMMARY:Pet Therapy Visit
DESCRIPTION:Therapy Dog and Human will visit Lobby and then Legacy Court.
URL:https://reenaseniorliving.com/event-calendar/pet-therapy-visit-4/
LOCATION:Activity Room
CATEGORIES:Assisted Living
END:VEVENT
BEGIN:VEVENT
DTSTART;TZID=America/Chicago:20250821T140000
DTEND;TZID=America/Chicago:20250821T151500
DTSTAMP:20260421T205616
CREATED:20250731T060416Z
LAST-MODIFIED:20250821T061928Z
UID:10001589-1755784800-1755789300@reenaseniorliving.com
SUMMARY:Pool Party on the AR Patio - sign-up
DESCRIPTION:
URL:https://reenaseniorliving.com/event-calendar/pool-party-on-the-ar-patio-sign-up-room-for-12/
LOCATION:Activity Room Patio
CATEGORIES:Assisted Living
END:VEVENT
BEGIN:VEVENT
DTSTART;TZID=America/Chicago:20250821T143000
DTEND;TZID=America/Chicago:20250821T151500
DTSTAMP:20260421T205616
CREATED:20250723T060408Z
LAST-MODIFIED:20250729T060413Z
UID:10001430-1755786600-1755789300@reenaseniorliving.com
SUMMARY:Community Life Gathering with Dawn
DESCRIPTION:
URL:https://reenaseniorliving.com/event-calendar/community-life-gathering-with-dawn-3/
LOCATION:Activity Room
CATEGORIES:Assisted Living
END:VEVENT
BEGIN:VEVENT
DTSTART;TZID=America/Chicago:20250821T150000
DTEND;TZID=America/Chicago:20250821T154500
DTSTAMP:20260421T205616
CREATED:20250723T060408Z
LAST-MODIFIED:20250729T060413Z
UID:10001431-1755788400-1755791100@reenaseniorliving.com
SUMMARY:Trivia and Games - Geography and Stickman Word Game
DESCRIPTION:
URL:https://reenaseniorliving.com/event-calendar/garbage-rummy-cube-or-connect-four-game-tables-come-on-down-for-social-and-popcorn-6/
LOCATION:Activity Room
CATEGORIES:Assisted Living
END:VEVENT
BEGIN:VEVENT
DTSTART;TZID=America/Chicago:20250821T163000
DTEND;TZID=America/Chicago:20250821T170500
DTSTAMP:20260421T205616
CREATED:20250723T060408Z
LAST-MODIFIED:20250821T061928Z
UID:10001432-1755793800-1755795900@reenaseniorliving.com
SUMMARY:Piano Player for your evening meal 4:30 - 5:00pm
DESCRIPTION:
URL:https://reenaseniorliving.com/event-calendar/piano-player-for-your-evening-meal-430-500pm/
LOCATION:Dining Room
CATEGORIES:Assisted Living
END:VEVENT
BEGIN:VEVENT
DTSTART;TZID=America/Chicago:20250821T170000
DTEND;TZID=America/Chicago:20250821T190000
DTSTAMP:20260421T205616
CREATED:20250723T060408Z
LAST-MODIFIED:20250815T061936Z
UID:10001433-1755795600-1755802800@reenaseniorliving.com
SUMMARY:Social and Game Time - Library is on 2nd floor - Balcony Area
DESCRIPTION:
URL:https://reenaseniorliving.com/event-calendar/resident-guided-social-time-100/
LOCATION:Library
CATEGORIES:Assisted Living
END:VEVENT
END:VCALENDAR