BEGIN:VCALENDAR
VERSION:2.0
PRODID:-//Reena Senior Living - ECPv6.11.2.1//NONSGML v1.0//EN
CALSCALE:GREGORIAN
METHOD:PUBLISH
X-ORIGINAL-URL:https://reenaseniorliving.com
X-WR-CALDESC:Events for Reena Senior Living
REFRESH-INTERVAL;VALUE=DURATION:PT1H
X-Robots-Tag:noindex
X-PUBLISHED-TTL:PT1H
BEGIN:VTIMEZONE
TZID:America/Chicago
BEGIN:DAYLIGHT
TZOFFSETFROM:-0600
TZOFFSETTO:-0500
TZNAME:CDT
DTSTART:20250309T080000
END:DAYLIGHT
BEGIN:STANDARD
TZOFFSETFROM:-0500
TZOFFSETTO:-0600
TZNAME:CST
DTSTART:20251102T070000
END:STANDARD
END:VTIMEZONE
BEGIN:VEVENT
DTSTART;TZID=America/Chicago:20250822T091500
DTEND;TZID=America/Chicago:20250822T094500
DTSTAMP:20260421T210503
CREATED:20250724T060422Z
LAST-MODIFIED:20250822T061902Z
UID:10001448-1755854100-1755855900@reenaseniorliving.com
SUMMARY:Movement Class with Kayla
DESCRIPTION:
URL:https://reenaseniorliving.com/event-calendar/movement-class-with-kayla-28/
LOCATION:Activity Room
CATEGORIES:Assisted Living
END:VEVENT
BEGIN:VEVENT
DTSTART;TZID=America/Chicago:20250822T100000
DTEND;TZID=America/Chicago:20250822T103000
DTSTAMP:20260421T210503
CREATED:20250724T060422Z
LAST-MODIFIED:20250822T061903Z
UID:10001447-1755856800-1755858600@reenaseniorliving.com
SUMMARY:Green Thumbs Garden Group
DESCRIPTION:
URL:https://reenaseniorliving.com/event-calendar/green-thumbs-garden-group-29/
LOCATION:Activity Room Patio
CATEGORIES:Assisted Living
END:VEVENT
BEGIN:VEVENT
DTSTART;TZID=America/Chicago:20250822T101500
DTEND;TZID=America/Chicago:20250822T104500
DTSTAMP:20260421T210503
CREATED:20250724T060422Z
LAST-MODIFIED:20250730T060432Z
UID:10001449-1755857700-1755859500@reenaseniorliving.com
SUMMARY:Coffee & Horse Racing with Kayla in Cafe
DESCRIPTION:Social Time with Coffee
URL:https://reenaseniorliving.com/event-calendar/coffee-horse-racing-with-kayla-in-cafe-2/
LOCATION:Cafe
CATEGORIES:Assisted Living
END:VEVENT
BEGIN:VEVENT
DTSTART;TZID=America/Chicago:20250822T124500
DTEND;TZID=America/Chicago:20250822T130000
DTSTAMP:20260421T210503
CREATED:20250724T033439Z
LAST-MODIFIED:20250725T060408Z
UID:10001440-1755866700-1755867600@reenaseniorliving.com
SUMMARY:Grip Practice - Come join the team.
DESCRIPTION:
URL:https://reenaseniorliving.com/event-calendar/grip-practice-come-join-the-team-4/
LOCATION:Activity Room
CATEGORIES:Assisted Living,Legacy Court
END:VEVENT
BEGIN:VEVENT
DTSTART;TZID=America/Chicago:20250822T124500
DTEND;TZID=America/Chicago:20250822T130000
DTSTAMP:20260421T210503
CREATED:20250725T060408Z
LAST-MODIFIED:20250815T061936Z
UID:10001479-1755866700-1755867600@reenaseniorliving.com
SUMMARY:Grip Practice
DESCRIPTION:
URL:https://reenaseniorliving.com/event-calendar/grip-practice-12/
LOCATION:Activity Room
CATEGORIES:Assisted Living
END:VEVENT
BEGIN:VEVENT
DTSTART;TZID=America/Chicago:20250822T130000
DTEND;TZID=America/Chicago:20250822T140000
DTSTAMP:20260421T210503
CREATED:20250724T033439Z
LAST-MODIFIED:20250822T061903Z
UID:10001441-1755867600-1755871200@reenaseniorliving.com
SUMMARY:The Big Show - Review the week of Grip Competition!
DESCRIPTION:
URL:https://reenaseniorliving.com/event-calendar/the-big-show-review-the-week-of-grip-competition-6/
LOCATION:Activity Room
CATEGORIES:Assisted Living,Legacy Court
END:VEVENT
BEGIN:VEVENT
DTSTART;TZID=America/Chicago:20250822T150000
DTEND;TZID=America/Chicago:20250822T151500
DTSTAMP:20260421T210503
CREATED:20250724T060423Z
LAST-MODIFIED:20250822T061903Z
UID:10001450-1755874800-1755875700@reenaseniorliving.com
SUMMARY:Your weekly activity packets will be delivered.
DESCRIPTION:
URL:https://reenaseniorliving.com/event-calendar/your-weekly-activity-packets-will-be-delivered-15/
LOCATION:Activity Room
CATEGORIES:Assisted Living
END:VEVENT
BEGIN:VEVENT
DTSTART;TZID=America/Chicago:20250822T170000
DTEND;TZID=America/Chicago:20250822T190000
DTSTAMP:20260421T210503
CREATED:20250724T060423Z
LAST-MODIFIED:20250822T061903Z
UID:10001451-1755882000-1755889200@reenaseniorliving.com
SUMMARY:Social and Game Time - Library is on 2nd floor - Balcony Area
DESCRIPTION:
URL:https://reenaseniorliving.com/event-calendar/resident-guided-social-time-101/
LOCATION:Library
CATEGORIES:Assisted Living
END:VEVENT
END:VCALENDAR