BEGIN:VCALENDAR
VERSION:2.0
PRODID:-//Reena Senior Living - ECPv6.11.2.1//NONSGML v1.0//EN
CALSCALE:GREGORIAN
METHOD:PUBLISH
X-ORIGINAL-URL:https://reenaseniorliving.com
X-WR-CALDESC:Events for Reena Senior Living
REFRESH-INTERVAL;VALUE=DURATION:PT1H
X-Robots-Tag:noindex
X-PUBLISHED-TTL:PT1H
BEGIN:VTIMEZONE
TZID:America/Chicago
BEGIN:DAYLIGHT
TZOFFSETFROM:-0600
TZOFFSETTO:-0500
TZNAME:CDT
DTSTART:20250309T080000
END:DAYLIGHT
BEGIN:STANDARD
TZOFFSETFROM:-0500
TZOFFSETTO:-0600
TZNAME:CST
DTSTART:20251102T070000
END:STANDARD
END:VTIMEZONE
BEGIN:VEVENT
DTSTART;TZID=America/Chicago:20250825T091500
DTEND;TZID=America/Chicago:20250825T094500
DTSTAMP:20260421T205728
CREATED:20250727T060416Z
LAST-MODIFIED:20250825T061945Z
UID:10001497-1756113300-1756115100@reenaseniorliving.com
SUMMARY:Movement Class with Kayla
DESCRIPTION:
URL:https://reenaseniorliving.com/event-calendar/movement-class-with-kayla-29/
LOCATION:Activity Room
CATEGORIES:Assisted Living
END:VEVENT
BEGIN:VEVENT
DTSTART;TZID=America/Chicago:20250825T100000
DTEND;TZID=America/Chicago:20250825T104000
DTSTAMP:20260421T205728
CREATED:20250727T060416Z
LAST-MODIFIED:20250825T061945Z
UID:10001496-1756116000-1756118400@reenaseniorliving.com
SUMMARY:Green Thumbs and Patio Social Time.
DESCRIPTION:Garden and Social Time.
URL:https://reenaseniorliving.com/event-calendar/green-thumbs-and-patio-social-time-27/
LOCATION:Activity Room Patio
CATEGORIES:Assisted Living
END:VEVENT
BEGIN:VEVENT
DTSTART;TZID=America/Chicago:20250825T101500
DTEND;TZID=America/Chicago:20250825T111500
DTSTAMP:20260421T205728
CREATED:20250727T060416Z
LAST-MODIFIED:20250730T060433Z
UID:10001498-1756116900-1756120500@reenaseniorliving.com
SUMMARY:Coffee in the Cafe - The Cafe is adjoined to the Dining Room
DESCRIPTION:
URL:https://reenaseniorliving.com/event-calendar/coffee-in-the-cafe-the-cafe-is-adjoined-to-the-dining-room-4/
LOCATION:Cafe
CATEGORIES:Assisted Living
END:VEVENT
BEGIN:VEVENT
DTSTART;TZID=America/Chicago:20250825T123000
DTEND;TZID=America/Chicago:20250825T130000
DTSTAMP:20260421T205728
CREATED:20250727T060416Z
LAST-MODIFIED:20250825T061945Z
UID:10001499-1756125000-1756126800@reenaseniorliving.com
SUMMARY:Rosary with Volunteer Dorothy
DESCRIPTION:
URL:https://reenaseniorliving.com/event-calendar/rosary-with-volunteer-dorothy-15/
LOCATION:Pub
CATEGORIES:Assisted Living
END:VEVENT
BEGIN:VEVENT
DTSTART;TZID=America/Chicago:20250825T133000
DTEND;TZID=America/Chicago:20250825T143000
DTSTAMP:20260421T205728
CREATED:20250727T060416Z
LAST-MODIFIED:20250730T060433Z
UID:10001500-1756128600-1756132200@reenaseniorliving.com
SUMMARY:Bingo
DESCRIPTION:
URL:https://reenaseniorliving.com/event-calendar/bingo-29/
LOCATION:AR
CATEGORIES:Assisted Living
END:VEVENT
BEGIN:VEVENT
DTSTART;TZID=America/Chicago:20250825T133000
DTEND;TZID=America/Chicago:20250825T143000
DTSTAMP:20260421T205728
CREATED:20250731T060416Z
LAST-MODIFIED:20250825T061945Z
UID:10001591-1756128600-1756132200@reenaseniorliving.com
SUMMARY:Bingo with Anne!
DESCRIPTION:
URL:https://reenaseniorliving.com/event-calendar/1960s-tv-show-tbd-with-beverage-and-snack/
LOCATION:Activity Room
CATEGORIES:Assisted Living
END:VEVENT
BEGIN:VEVENT
DTSTART;TZID=America/Chicago:20250825T170000
DTEND;TZID=America/Chicago:20250825T190000
DTSTAMP:20260421T205728
CREATED:20250727T060416Z
LAST-MODIFIED:20250825T061945Z
UID:10001501-1756141200-1756148400@reenaseniorliving.com
SUMMARY:Social and Game Time - Balcony\, Activity Room or Pub Spaces
DESCRIPTION:
URL:https://reenaseniorliving.com/event-calendar/resident-guided-social-time-104/
LOCATION:Library
CATEGORIES:Assisted Living
END:VEVENT
END:VCALENDAR