BEGIN:VCALENDAR
VERSION:2.0
PRODID:-//Reena Senior Living - ECPv6.11.2.1//NONSGML v1.0//EN
CALSCALE:GREGORIAN
METHOD:PUBLISH
X-WR-CALNAME:Reena Senior Living
X-ORIGINAL-URL:https://reenaseniorliving.com
X-WR-CALDESC:Events for Reena Senior Living
REFRESH-INTERVAL;VALUE=DURATION:PT1H
X-Robots-Tag:noindex
X-PUBLISHED-TTL:PT1H
BEGIN:VTIMEZONE
TZID:America/Chicago
BEGIN:DAYLIGHT
TZOFFSETFROM:-0600
TZOFFSETTO:-0500
TZNAME:CDT
DTSTART:20250309T080000
END:DAYLIGHT
BEGIN:STANDARD
TZOFFSETFROM:-0500
TZOFFSETTO:-0600
TZNAME:CST
DTSTART:20251102T070000
END:STANDARD
END:VTIMEZONE
BEGIN:VEVENT
DTSTART;TZID=America/Chicago:20250829T091500
DTEND;TZID=America/Chicago:20250829T094500
DTSTAMP:20260421T205509
CREATED:20250731T060417Z
LAST-MODIFIED:20250829T064929Z
UID:10001594-1756458900-1756460700@reenaseniorliving.com
SUMMARY:Movement Class with Kayla
DESCRIPTION:
URL:https://reenaseniorliving.com/event-calendar/movement-class-with-kayla-33/
LOCATION:Activity Room
CATEGORIES:Assisted Living
END:VEVENT
BEGIN:VEVENT
DTSTART;TZID=America/Chicago:20250829T100000
DTEND;TZID=America/Chicago:20250829T103000
DTSTAMP:20260421T205509
CREATED:20250731T060417Z
LAST-MODIFIED:20250829T064930Z
UID:10001595-1756461600-1756463400@reenaseniorliving.com
SUMMARY:Green Thumbs Garden Group
DESCRIPTION:
URL:https://reenaseniorliving.com/event-calendar/green-thumbs-garden-group-38/
LOCATION:Activity Room Patio
CATEGORIES:Assisted Living
END:VEVENT
BEGIN:VEVENT
DTSTART;TZID=America/Chicago:20250829T124500
DTEND;TZID=America/Chicago:20250829T130000
DTSTAMP:20260421T205509
CREATED:20250731T060417Z
LAST-MODIFIED:20250829T064930Z
UID:10001597-1756471500-1756472400@reenaseniorliving.com
SUMMARY:Grip Practice
DESCRIPTION:
URL:https://reenaseniorliving.com/event-calendar/grip-practice-14/
LOCATION:Activity Room
CATEGORIES:Assisted Living
END:VEVENT
BEGIN:VEVENT
DTSTART;TZID=America/Chicago:20250829T130000
DTEND;TZID=America/Chicago:20250829T140000
DTSTAMP:20260421T205509
CREATED:20250731T060417Z
LAST-MODIFIED:20250829T064930Z
UID:10001596-1756472400-1756476000@reenaseniorliving.com
SUMMARY:The Big Show - Review the week of Grip Competition!
DESCRIPTION:
URL:https://reenaseniorliving.com/event-calendar/the-big-show-review-the-week-of-grip-competition-7/
LOCATION:Activity Room
CATEGORIES:Assisted Living
END:VEVENT
BEGIN:VEVENT
DTSTART;TZID=America/Chicago:20250829T140000
DTEND;TZID=America/Chicago:20250829T150000
DTSTAMP:20260421T205509
CREATED:20250731T060417Z
LAST-MODIFIED:20250829T064930Z
UID:10001598-1756476000-1756479600@reenaseniorliving.com
SUMMARY:Music & Social Hour with Dorothy and Kayla
DESCRIPTION:
URL:https://reenaseniorliving.com/event-calendar/records-social-hour-with-dorothy-and-kayla/
LOCATION:Activity Room
CATEGORIES:Assisted Living
END:VEVENT
BEGIN:VEVENT
DTSTART;TZID=America/Chicago:20250829T150000
DTEND;TZID=America/Chicago:20250829T151500
DTSTAMP:20260421T205509
CREATED:20250731T060417Z
LAST-MODIFIED:20250829T064930Z
UID:10001599-1756479600-1756480500@reenaseniorliving.com
SUMMARY:Your weekly activity packets will be delivered.
DESCRIPTION:
URL:https://reenaseniorliving.com/event-calendar/your-weekly-activity-packets-will-be-delivered-16/
LOCATION:Activity Room
CATEGORIES:Assisted Living
END:VEVENT
BEGIN:VEVENT
DTSTART;TZID=America/Chicago:20250829T170000
DTEND;TZID=America/Chicago:20250829T190000
DTSTAMP:20260421T205509
CREATED:20250731T060417Z
LAST-MODIFIED:20250829T064930Z
UID:10001600-1756486800-1756494000@reenaseniorliving.com
SUMMARY:Social and Game Time - Balcony\, Activity Room or Pub Spaces
DESCRIPTION:
URL:https://reenaseniorliving.com/event-calendar/resident-guided-social-time-108/
LOCATION:Library
CATEGORIES:Assisted Living
END:VEVENT
END:VCALENDAR