BEGIN:VCALENDAR
VERSION:2.0
PRODID:-//Reena Senior Living - ECPv6.11.2.1//NONSGML v1.0//EN
CALSCALE:GREGORIAN
METHOD:PUBLISH
X-ORIGINAL-URL:https://reenaseniorliving.com
X-WR-CALDESC:Events for Reena Senior Living
REFRESH-INTERVAL;VALUE=DURATION:PT1H
X-Robots-Tag:noindex
X-PUBLISHED-TTL:PT1H
BEGIN:VTIMEZONE
TZID:America/Chicago
BEGIN:DAYLIGHT
TZOFFSETFROM:-0600
TZOFFSETTO:-0500
TZNAME:CDT
DTSTART:20250309T080000
END:DAYLIGHT
BEGIN:STANDARD
TZOFFSETFROM:-0500
TZOFFSETTO:-0600
TZNAME:CST
DTSTART:20251102T070000
END:STANDARD
END:VTIMEZONE
BEGIN:VEVENT
DTSTART;TZID=America/Chicago:20250901T091500
DTEND;TZID=America/Chicago:20250901T094500
DTSTAMP:20260421T194419
CREATED:20250803T060415Z
LAST-MODIFIED:20250829T064928Z
UID:10001620-1756718100-1756719900@reenaseniorliving.com
SUMMARY:Movement Class with Kayla
DESCRIPTION:
URL:https://reenaseniorliving.com/event-calendar/movement-class-with-kayla-34/
LOCATION:Activity Room
CATEGORIES:Assisted Living
END:VEVENT
BEGIN:VEVENT
DTSTART;TZID=America/Chicago:20250901T100000
DTEND;TZID=America/Chicago:20250901T104000
DTSTAMP:20260421T194419
CREATED:20250803T060415Z
LAST-MODIFIED:20250815T061938Z
UID:10001621-1756720800-1756723200@reenaseniorliving.com
SUMMARY:Green Thumbs and Patio Social Time.
DESCRIPTION:Garden and Social Time.
URL:https://reenaseniorliving.com/event-calendar/green-thumbs-and-patio-social-time-28/
LOCATION:Activity Room Patio
CATEGORIES:Assisted Living
END:VEVENT
BEGIN:VEVENT
DTSTART;TZID=America/Chicago:20250901T100000
DTEND;TZID=America/Chicago:20250901T110000
DTSTAMP:20260421T194419
CREATED:20250803T060415Z
LAST-MODIFIED:20250901T064904Z
UID:10001623-1756720800-1756724400@reenaseniorliving.com
SUMMARY:Bingo with Anne! Activity Room
DESCRIPTION:
URL:https://reenaseniorliving.com/event-calendar/bingo-31/
LOCATION:Activity Room
CATEGORIES:Assisted Living
END:VEVENT
BEGIN:VEVENT
DTSTART;TZID=America/Chicago:20250901T123000
DTEND;TZID=America/Chicago:20250901T130000
DTSTAMP:20260421T194419
CREATED:20250803T060415Z
LAST-MODIFIED:20250815T061938Z
UID:10001622-1756729800-1756731600@reenaseniorliving.com
SUMMARY:Rosary with Volunteer Dorothy
DESCRIPTION:
URL:https://reenaseniorliving.com/event-calendar/rosary-with-volunteer-dorothy-16/
LOCATION:Pub
CATEGORIES:Assisted Living
END:VEVENT
BEGIN:VEVENT
DTSTART;TZID=America/Chicago:20250901T170000
DTEND;TZID=America/Chicago:20250901T190000
DTSTAMP:20260421T194419
CREATED:20250803T060416Z
LAST-MODIFIED:20250901T064904Z
UID:10001624-1756746000-1756753200@reenaseniorliving.com
SUMMARY:Social and Game Time - Balcony\, Activity Room or Pub Spaces
DESCRIPTION:
URL:https://reenaseniorliving.com/event-calendar/resident-guided-social-time-111/
LOCATION:Library
CATEGORIES:Assisted Living
END:VEVENT
END:VCALENDAR