BEGIN:VCALENDAR
VERSION:2.0
PRODID:-//Reena Senior Living - ECPv6.11.2.1//NONSGML v1.0//EN
CALSCALE:GREGORIAN
METHOD:PUBLISH
X-WR-CALNAME:Reena Senior Living
X-ORIGINAL-URL:https://reenaseniorliving.com
X-WR-CALDESC:Events for Reena Senior Living
REFRESH-INTERVAL;VALUE=DURATION:PT1H
X-Robots-Tag:noindex
X-PUBLISHED-TTL:PT1H
BEGIN:VTIMEZONE
TZID:America/Chicago
BEGIN:DAYLIGHT
TZOFFSETFROM:-0600
TZOFFSETTO:-0500
TZNAME:CDT
DTSTART:20250309T080000
END:DAYLIGHT
BEGIN:STANDARD
TZOFFSETFROM:-0500
TZOFFSETTO:-0600
TZNAME:CST
DTSTART:20251102T070000
END:STANDARD
END:VTIMEZONE
BEGIN:VEVENT
DTSTART;TZID=America/Chicago:20250902T091500
DTEND;TZID=America/Chicago:20250902T094500
DTSTAMP:20260421T194323
CREATED:20250804T060421Z
LAST-MODIFIED:20250902T064903Z
UID:10001637-1756804500-1756806300@reenaseniorliving.com
SUMMARY:Movement Class with Kayla
DESCRIPTION:
URL:https://reenaseniorliving.com/event-calendar/movement-class-with-kayla-35/
LOCATION:Activity Room
CATEGORIES:Assisted Living
END:VEVENT
BEGIN:VEVENT
DTSTART;TZID=America/Chicago:20250902T094500
DTEND;TZID=America/Chicago:20250902T101000
DTSTAMP:20260421T194323
CREATED:20250804T060421Z
LAST-MODIFIED:20250902T064903Z
UID:10001638-1756806300-1756807800@reenaseniorliving.com
SUMMARY:Strength Class - Intermediate Class
DESCRIPTION:
URL:https://reenaseniorliving.com/event-calendar/strength-class-intermediate-class-32/
LOCATION:Activity Room
CATEGORIES:Assisted Living
END:VEVENT
BEGIN:VEVENT
DTSTART;TZID=America/Chicago:20250902T101500
DTEND;TZID=America/Chicago:20250902T110000
DTSTAMP:20260421T194323
CREATED:20250804T060421Z
LAST-MODIFIED:20250902T064903Z
UID:10001639-1756808100-1756810800@reenaseniorliving.com
SUMMARY:Green Thumbs Garden Group - Activity Room
DESCRIPTION:
URL:https://reenaseniorliving.com/event-calendar/green-thumbs-garden-group-40/
LOCATION:Activity Room Patio
CATEGORIES:Assisted Living
END:VEVENT
BEGIN:VEVENT
DTSTART;TZID=America/Chicago:20250902T121500
DTEND;TZID=America/Chicago:20250902T130000
DTSTAMP:20260421T194323
CREATED:20250804T060421Z
LAST-MODIFIED:20250902T064904Z
UID:10001641-1756815300-1756818000@reenaseniorliving.com
SUMMARY:Librarian Visit with Deb (Second Floor - Library)
DESCRIPTION:
URL:https://reenaseniorliving.com/event-calendar/librarian-visit-with-deb-4/
LOCATION:Library
CATEGORIES:Assisted Living
END:VEVENT
BEGIN:VEVENT
DTSTART;TZID=America/Chicago:20250902T130000
DTEND;TZID=America/Chicago:20250902T140000
DTSTAMP:20260421T194323
CREATED:20250804T060421Z
LAST-MODIFIED:20250902T064904Z
UID:10001640-1756818000-1756821600@reenaseniorliving.com
SUMMARY:Grip Competition - Activity Room - This is our last week of the season! Way to go Rockers!
DESCRIPTION:
URL:https://reenaseniorliving.com/event-calendar/grip-competition-come-join-the-team-we-are-the-reena-rockers-6/
LOCATION:Activity Room
CATEGORIES:Assisted Living
END:VEVENT
BEGIN:VEVENT
DTSTART;TZID=America/Chicago:20250902T141500
DTEND;TZID=America/Chicago:20250902T150000
DTSTAMP:20260421T194323
CREATED:20250804T034914Z
LAST-MODIFIED:20250828T064904Z
UID:10001634-1756822500-1756825200@reenaseniorliving.com
SUMMARY:Sing a Long Karaoke on TV with Anne
DESCRIPTION:
URL:https://reenaseniorliving.com/event-calendar/sing-a-long-karaoke-on-tv-with-anne-3/
LOCATION:Activity Room
CATEGORIES:Assisted Living,Legacy Court
END:VEVENT
BEGIN:VEVENT
DTSTART;TZID=America/Chicago:20250902T170000
DTEND;TZID=America/Chicago:20250902T190000
DTSTAMP:20260421T194323
CREATED:20250804T060421Z
LAST-MODIFIED:20250902T064904Z
UID:10001642-1756832400-1756839600@reenaseniorliving.com
SUMMARY:Social and Game Time - Balcony\, Activity Room or Pub Spaces
DESCRIPTION:
URL:https://reenaseniorliving.com/event-calendar/resident-guided-social-time-112/
LOCATION:Library
CATEGORIES:Assisted Living
END:VEVENT
END:VCALENDAR