BEGIN:VCALENDAR
VERSION:2.0
PRODID:-//Reena Senior Living - ECPv6.11.2.1//NONSGML v1.0//EN
CALSCALE:GREGORIAN
METHOD:PUBLISH
X-ORIGINAL-URL:https://reenaseniorliving.com
X-WR-CALDESC:Events for Reena Senior Living
REFRESH-INTERVAL;VALUE=DURATION:PT1H
X-Robots-Tag:noindex
X-PUBLISHED-TTL:PT1H
BEGIN:VTIMEZONE
TZID:America/Chicago
BEGIN:DAYLIGHT
TZOFFSETFROM:-0600
TZOFFSETTO:-0500
TZNAME:CDT
DTSTART:20250309T080000
END:DAYLIGHT
BEGIN:STANDARD
TZOFFSETFROM:-0500
TZOFFSETTO:-0600
TZNAME:CST
DTSTART:20251102T070000
END:STANDARD
END:VTIMEZONE
BEGIN:VEVENT
DTSTART;TZID=America/Chicago:20250904T091500
DTEND;TZID=America/Chicago:20250904T094500
DTSTAMP:20260421T194401
CREATED:20250806T060531Z
LAST-MODIFIED:20250904T070459Z
UID:10001666-1756977300-1756979100@reenaseniorliving.com
SUMMARY:Movement Class with Kayla
DESCRIPTION:Gentle Movement\, Strength\, Mobility\, Balance\, & More.
URL:https://reenaseniorliving.com/event-calendar/movement-class-with-kayla-37/
LOCATION:Activity Room
CATEGORIES:Assisted Living
END:VEVENT
BEGIN:VEVENT
DTSTART;TZID=America/Chicago:20250904T094500
DTEND;TZID=America/Chicago:20250904T101000
DTSTAMP:20260421T194401
CREATED:20250806T060530Z
LAST-MODIFIED:20250904T070459Z
UID:10001665-1756979100-1756980600@reenaseniorliving.com
SUMMARY:Strength Class - Intermediate Class
DESCRIPTION:
URL:https://reenaseniorliving.com/event-calendar/strength-class-intermediate-class-33/
LOCATION:Activity Room
CATEGORIES:Assisted Living
END:VEVENT
BEGIN:VEVENT
DTSTART;TZID=America/Chicago:20250904T130000
DTEND;TZID=America/Chicago:20250904T134500
DTSTAMP:20260421T194401
CREATED:20250829T042040Z
LAST-MODIFIED:20250904T070459Z
UID:10001959-1756990800-1756993500@reenaseniorliving.com
SUMMARY:Sing a Long Karaoke on TV with Anne (AR)
DESCRIPTION:
URL:https://reenaseniorliving.com/event-calendar/sing-a-long-karaoke-on-tv-with-anne-5/
LOCATION:Activity Room
CATEGORIES:Assisted Living,Legacy Court
END:VEVENT
BEGIN:VEVENT
DTSTART;TZID=America/Chicago:20250904T140000
DTEND;TZID=America/Chicago:20250904T150000
DTSTAMP:20260421T194401
CREATED:20250806T060531Z
LAST-MODIFIED:20250904T070459Z
UID:10001668-1756994400-1756998000@reenaseniorliving.com
SUMMARY:The Birds of Alaska! (AR)
DESCRIPTION:Monthly Live Interactive Presentations with Q&A Time
URL:https://reenaseniorliving.com/event-calendar/the-incredible-life-of-john-b-jones-slavery-to-freedom-lighthouse-keeper-more/
LOCATION:Activity Room
CATEGORIES:Assisted Living
END:VEVENT
BEGIN:VEVENT
DTSTART;TZID=America/Chicago:20250904T150000
DTEND;TZID=America/Chicago:20250904T154500
DTSTAMP:20260421T194401
CREATED:20250806T060531Z
LAST-MODIFIED:20250829T064929Z
UID:10001667-1756998000-1757000700@reenaseniorliving.com
SUMMARY:Trivia and Games - Geography and Stickman Word Game
DESCRIPTION:
URL:https://reenaseniorliving.com/event-calendar/trivia-and-games-geography-and-stickman-word-game/
LOCATION:Activity Room
CATEGORIES:Assisted Living
END:VEVENT
BEGIN:VEVENT
DTSTART;TZID=America/Chicago:20250904T170000
DTEND;TZID=America/Chicago:20250904T190000
DTSTAMP:20260421T194401
CREATED:20250806T060531Z
LAST-MODIFIED:20250904T070459Z
UID:10001669-1757005200-1757012400@reenaseniorliving.com
SUMMARY:Social and Game Time - Balcony\, Activity Room or Pub Spaces
DESCRIPTION:
URL:https://reenaseniorliving.com/event-calendar/resident-guided-social-time-114/
LOCATION:Library
CATEGORIES:Assisted Living
END:VEVENT
END:VCALENDAR