BEGIN:VCALENDAR
VERSION:2.0
PRODID:-//Reena Senior Living - ECPv6.11.2.1//NONSGML v1.0//EN
CALSCALE:GREGORIAN
METHOD:PUBLISH
X-WR-CALNAME:Reena Senior Living
X-ORIGINAL-URL:https://reenaseniorliving.com
X-WR-CALDESC:Events for Reena Senior Living
REFRESH-INTERVAL;VALUE=DURATION:PT1H
X-Robots-Tag:noindex
X-PUBLISHED-TTL:PT1H
BEGIN:VTIMEZONE
TZID:America/Chicago
BEGIN:DAYLIGHT
TZOFFSETFROM:-0600
TZOFFSETTO:-0500
TZNAME:CDT
DTSTART:20250309T080000
END:DAYLIGHT
BEGIN:STANDARD
TZOFFSETFROM:-0500
TZOFFSETTO:-0600
TZNAME:CST
DTSTART:20251102T070000
END:STANDARD
END:VTIMEZONE
BEGIN:VEVENT
DTSTART;TZID=America/Chicago:20250912T091500
DTEND;TZID=America/Chicago:20250912T094500
DTSTAMP:20260421T194328
CREATED:20250814T061914Z
LAST-MODIFIED:20250912T070402Z
UID:10001779-1757668500-1757670300@reenaseniorliving.com
SUMMARY:Movement Class with Kayla
DESCRIPTION:
URL:https://reenaseniorliving.com/event-calendar/movement-class-with-kayla-43/
LOCATION:Activity Room
CATEGORIES:Assisted Living
END:VEVENT
BEGIN:VEVENT
DTSTART;TZID=America/Chicago:20250912T094500
DTEND;TZID=America/Chicago:20250912T100000
DTSTAMP:20260421T194328
CREATED:20250906T070432Z
LAST-MODIFIED:20250912T070402Z
UID:10002085-1757670300-1757671200@reenaseniorliving.com
SUMMARY:Gentle Qi Gong and Chair Yoga with Dawn
DESCRIPTION:
URL:https://reenaseniorliving.com/event-calendar/gentle-qi-gong-and-chair-yoga-with-dawn/
LOCATION:Activity Room
CATEGORIES:Assisted Living
END:VEVENT
BEGIN:VEVENT
DTSTART;TZID=America/Chicago:20250912T100000
DTEND;TZID=America/Chicago:20250912T103000
DTSTAMP:20260421T194328
CREATED:20250814T061914Z
LAST-MODIFIED:20250905T070421Z
UID:10001780-1757671200-1757673000@reenaseniorliving.com
SUMMARY:Green Thumbs Garden Group
DESCRIPTION:
URL:https://reenaseniorliving.com/event-calendar/green-thumbs-garden-group-48/
LOCATION:Activity Room Patio
CATEGORIES:Assisted Living
END:VEVENT
BEGIN:VEVENT
DTSTART;TZID=America/Chicago:20250912T101500
DTEND;TZID=America/Chicago:20250912T113000
DTSTAMP:20260421T194328
CREATED:20250906T070432Z
LAST-MODIFIED:20250912T070402Z
UID:10002086-1757672100-1757676600@reenaseniorliving.com
SUMMARY:Cyanotype Creation! Second date Option - It's as easy and 1\,2\,3! Come try it.
DESCRIPTION:
URL:https://reenaseniorliving.com/event-calendar/cyanotype-creation-second-date-option-its-as-easy-and-123-come-try-it/
LOCATION:Activity Room
CATEGORIES:Assisted Living
END:VEVENT
BEGIN:VEVENT
DTSTART;TZID=America/Chicago:20250912T130000
DTEND;TZID=America/Chicago:20250912T133000
DTSTAMP:20260421T194328
CREATED:20250814T061914Z
LAST-MODIFIED:20250905T070421Z
UID:10001781-1757682000-1757683800@reenaseniorliving.com
SUMMARY:Biking together as we watch The Big Show.
DESCRIPTION:
URL:https://reenaseniorliving.com/event-calendar/grip-practice-16/
LOCATION:Activity Room
CATEGORIES:Assisted Living
END:VEVENT
BEGIN:VEVENT
DTSTART;TZID=America/Chicago:20250912T130000
DTEND;TZID=America/Chicago:20250912T140000
DTSTAMP:20260421T194328
CREATED:20250814T040420Z
LAST-MODIFIED:20250905T070421Z
UID:10001772-1757682000-1757685600@reenaseniorliving.com
SUMMARY:Championships for Grip
DESCRIPTION:
URL:https://reenaseniorliving.com/event-calendar/championships-for-grip/
LOCATION:Activity Room
CATEGORIES:Assisted Living,Legacy Court
END:VEVENT
BEGIN:VEVENT
DTSTART;TZID=America/Chicago:20250912T130000
DTEND;TZID=America/Chicago:20250912T140000
DTSTAMP:20260421T194328
CREATED:20250814T061914Z
LAST-MODIFIED:20250905T070421Z
UID:10001782-1757682000-1757685600@reenaseniorliving.com
SUMMARY:The Big Show - Review the week of Grip Competition!
DESCRIPTION:
URL:https://reenaseniorliving.com/event-calendar/the-big-show-review-the-week-of-grip-competition-9/
LOCATION:Activity Room
CATEGORIES:Assisted Living
END:VEVENT
BEGIN:VEVENT
DTSTART;TZID=America/Chicago:20250912T133000
DTEND;TZID=America/Chicago:20250912T143000
DTSTAMP:20260421T194328
CREATED:20250906T070432Z
LAST-MODIFIED:20250912T070402Z
UID:10002087-1757683800-1757687400@reenaseniorliving.com
SUMMARY:Door to Door Beverage Delivery
DESCRIPTION:
URL:https://reenaseniorliving.com/event-calendar/door-to-door-beverage-delivery/
CATEGORIES:Assisted Living
END:VEVENT
BEGIN:VEVENT
DTSTART;TZID=America/Chicago:20250912T150000
DTEND;TZID=America/Chicago:20250912T151500
DTSTAMP:20260421T194328
CREATED:20250814T061914Z
LAST-MODIFIED:20250912T070402Z
UID:10001783-1757689200-1757690100@reenaseniorliving.com
SUMMARY:Your weekly activity packets will be delivered.
DESCRIPTION:
URL:https://reenaseniorliving.com/event-calendar/your-weekly-activity-packets-will-be-delivered-18/
LOCATION:Activity Room
CATEGORIES:Assisted Living
END:VEVENT
BEGIN:VEVENT
DTSTART;TZID=America/Chicago:20250912T163000
DTEND;TZID=America/Chicago:20250912T171500
DTSTAMP:20260421T194328
CREATED:20250906T070432Z
LAST-MODIFIED:20250912T070402Z
UID:10002088-1757694600-1757697300@reenaseniorliving.com
SUMMARY:Live Cello and Violin Music at Supper.
DESCRIPTION:
URL:https://reenaseniorliving.com/event-calendar/live-cello-and-violin-music-at-supper/
LOCATION:Dining Room
CATEGORIES:Assisted Living
END:VEVENT
BEGIN:VEVENT
DTSTART;TZID=America/Chicago:20250912T170000
DTEND;TZID=America/Chicago:20250912T190000
DTSTAMP:20260421T194328
CREATED:20250814T061914Z
LAST-MODIFIED:20250905T070421Z
UID:10001784-1757696400-1757703600@reenaseniorliving.com
SUMMARY:Social and Game Time - Balcony\, Activity Room or Pub Spaces
DESCRIPTION:
URL:https://reenaseniorliving.com/event-calendar/social-and-game-time-library-is-on-2nd-floor-balcony-area-9/
LOCATION:Library
CATEGORIES:Assisted Living
END:VEVENT
END:VCALENDAR