BEGIN:VCALENDAR
VERSION:2.0
PRODID:-//Reena Senior Living - ECPv6.11.2.1//NONSGML v1.0//EN
CALSCALE:GREGORIAN
METHOD:PUBLISH
X-ORIGINAL-URL:https://reenaseniorliving.com
X-WR-CALDESC:Events for Reena Senior Living
REFRESH-INTERVAL;VALUE=DURATION:PT1H
X-Robots-Tag:noindex
X-PUBLISHED-TTL:PT1H
BEGIN:VTIMEZONE
TZID:America/Chicago
BEGIN:DAYLIGHT
TZOFFSETFROM:-0600
TZOFFSETTO:-0500
TZNAME:CDT
DTSTART:20250309T080000
END:DAYLIGHT
BEGIN:STANDARD
TZOFFSETFROM:-0500
TZOFFSETTO:-0600
TZNAME:CST
DTSTART:20251102T070000
END:STANDARD
END:VTIMEZONE
BEGIN:VEVENT
DTSTART;TZID=America/Chicago:20250913T120000
DTEND;TZID=America/Chicago:20250913T153000
DTSTAMP:20260421T194450
CREATED:20250906T050405Z
LAST-MODIFIED:20250913T070404Z
UID:10002069-1757764800-1757777400@reenaseniorliving.com
SUMMARY:Sorry we have CANCELLED the Family Picnic for tomorrow.
DESCRIPTION:
URL:https://reenaseniorliving.com/event-calendar/family-picnic-with-staff-and-families-noon-330pm-outdoors-dining-room-will-be-closed/
LOCATION:Front of Building
CATEGORIES:Assisted Living,Legacy Court
END:VEVENT
BEGIN:VEVENT
DTSTART;TZID=America/Chicago:20250913T140000
DTEND;TZID=America/Chicago:20250913T142000
DTSTAMP:20260421T194450
CREATED:20250815T061941Z
LAST-MODIFIED:20250905T070421Z
UID:10001789-1757772000-1757773200@reenaseniorliving.com
SUMMARY:Green Thumbs Garden Group
DESCRIPTION:
URL:https://reenaseniorliving.com/event-calendar/green-thumbs-garden-group-49/
LOCATION:Activity Room Patio
CATEGORIES:Assisted Living
END:VEVENT
BEGIN:VEVENT
DTSTART;TZID=America/Chicago:20250913T170000
DTEND;TZID=America/Chicago:20250913T190000
DTSTAMP:20260421T194450
CREATED:20250815T061941Z
LAST-MODIFIED:20250913T070404Z
UID:10001790-1757782800-1757790000@reenaseniorliving.com
SUMMARY:Social and Game Time - Balcony\, Activity Room or Pub Spaces
DESCRIPTION:
URL:https://reenaseniorliving.com/event-calendar/social-and-game-time-library-is-on-2nd-floor-balcony-area-10/
LOCATION:Library
CATEGORIES:Assisted Living
END:VEVENT
END:VCALENDAR