BEGIN:VCALENDAR
VERSION:2.0
PRODID:-//Reena Senior Living - ECPv6.11.2.1//NONSGML v1.0//EN
CALSCALE:GREGORIAN
METHOD:PUBLISH
X-WR-CALNAME:Reena Senior Living
X-ORIGINAL-URL:https://reenaseniorliving.com
X-WR-CALDESC:Events for Reena Senior Living
REFRESH-INTERVAL;VALUE=DURATION:PT1H
X-Robots-Tag:noindex
X-PUBLISHED-TTL:PT1H
BEGIN:VTIMEZONE
TZID:America/Chicago
BEGIN:DAYLIGHT
TZOFFSETFROM:-0600
TZOFFSETTO:-0500
TZNAME:CDT
DTSTART:20250309T080000
END:DAYLIGHT
BEGIN:STANDARD
TZOFFSETFROM:-0500
TZOFFSETTO:-0600
TZNAME:CST
DTSTART:20251102T070000
END:STANDARD
END:VTIMEZONE
BEGIN:VEVENT
DTSTART;TZID=America/Chicago:20250919T091500
DTEND;TZID=America/Chicago:20250919T094500
DTSTAMP:20260421T194320
CREATED:20250821T061933Z
LAST-MODIFIED:20250919T071902Z
UID:10001878-1758273300-1758275100@reenaseniorliving.com
SUMMARY:Movement Class with Kayla
DESCRIPTION:
URL:https://reenaseniorliving.com/event-calendar/movement-class-with-kayla-48/
LOCATION:Activity Room
CATEGORIES:Assisted Living
END:VEVENT
BEGIN:VEVENT
DTSTART;TZID=America/Chicago:20250919T100000
DTEND;TZID=America/Chicago:20250919T100000
DTSTAMP:20260421T194320
CREATED:20250821T061933Z
LAST-MODIFIED:20250919T071902Z
UID:10001879-1758276000-1758276000@reenaseniorliving.com
SUMMARY:Green Thumbs Garden Group
DESCRIPTION:
URL:https://reenaseniorliving.com/event-calendar/green-thumbs-garden-group-53/
LOCATION:Activity Room Patio
CATEGORIES:Assisted Living
END:VEVENT
BEGIN:VEVENT
DTSTART;TZID=America/Chicago:20250919T110000
DTEND;TZID=America/Chicago:20250919T113000
DTSTAMP:20260421T194320
CREATED:20250910T070403Z
LAST-MODIFIED:20250919T071902Z
UID:10002141-1758279600-1758281400@reenaseniorliving.com
SUMMARY:Local Jana Waller Blair TV episode "Hunting in Wisconsin" One Eyed Elusive Buck 20minutes
DESCRIPTION:
URL:https://reenaseniorliving.com/event-calendar/local-jana-waller-blair-tv-episode-hunting-in-wisconsin-one-eyed-elusive-buck-20minutes/
LOCATION:Activity Room
CATEGORIES:Assisted Living
END:VEVENT
BEGIN:VEVENT
DTSTART;TZID=America/Chicago:20250919T130000
DTEND;TZID=America/Chicago:20250919T140000
DTSTAMP:20260421T194320
CREATED:20250821T061933Z
LAST-MODIFIED:20250909T070403Z
UID:10001880-1758286800-1758290400@reenaseniorliving.com
SUMMARY:The Big Show - Review the week of Grip Competition!
DESCRIPTION:
URL:https://reenaseniorliving.com/event-calendar/the-big-show-review-the-week-of-grip-competition-10/
LOCATION:Activity Room
CATEGORIES:Assisted Living
END:VEVENT
BEGIN:VEVENT
DTSTART;TZID=America/Chicago:20250919T130000
DTEND;TZID=America/Chicago:20250919T143000
DTSTAMP:20260421T194320
CREATED:20250911T070404Z
LAST-MODIFIED:20250919T071902Z
UID:10002171-1758286800-1758292200@reenaseniorliving.com
SUMMARY:Nail Spa Day - Sign-up
DESCRIPTION:
URL:https://reenaseniorliving.com/event-calendar/nail-spa-day-sign-up-5/
LOCATION:Activity Room
CATEGORIES:Assisted Living
END:VEVENT
BEGIN:VEVENT
DTSTART;TZID=America/Chicago:20250919T150000
DTEND;TZID=America/Chicago:20250919T151500
DTSTAMP:20260421T194320
CREATED:20250821T061933Z
LAST-MODIFIED:20250919T071902Z
UID:10001881-1758294000-1758294900@reenaseniorliving.com
SUMMARY:Your weekly activity packets will be delivered.
DESCRIPTION:
URL:https://reenaseniorliving.com/event-calendar/your-weekly-activity-packets-will-be-delivered-19/
LOCATION:Activity Room
CATEGORIES:Assisted Living
END:VEVENT
BEGIN:VEVENT
DTSTART;TZID=America/Chicago:20250919T170000
DTEND;TZID=America/Chicago:20250919T190000
DTSTAMP:20260421T194320
CREATED:20250917T071900Z
LAST-MODIFIED:20250919T071902Z
UID:10002246-1758301200-1758308400@reenaseniorliving.com
SUMMARY:Social and Game Time - Balcony\, Activity Room or Pub Spaces
DESCRIPTION:
URL:https://reenaseniorliving.com/event-calendar/social-and-game-time-balcony-activity-room-or-pub-spaces/
LOCATION:Library
CATEGORIES:Assisted Living
END:VEVENT
END:VCALENDAR