BEGIN:VCALENDAR
VERSION:2.0
PRODID:-//Reena Senior Living - ECPv6.11.2.1//NONSGML v1.0//EN
CALSCALE:GREGORIAN
METHOD:PUBLISH
X-ORIGINAL-URL:https://reenaseniorliving.com
X-WR-CALDESC:Events for Reena Senior Living
REFRESH-INTERVAL;VALUE=DURATION:PT1H
X-Robots-Tag:noindex
X-PUBLISHED-TTL:PT1H
BEGIN:VTIMEZONE
TZID:America/Chicago
BEGIN:DAYLIGHT
TZOFFSETFROM:-0600
TZOFFSETTO:-0500
TZNAME:CDT
DTSTART:20250309T080000
END:DAYLIGHT
BEGIN:STANDARD
TZOFFSETFROM:-0500
TZOFFSETTO:-0600
TZNAME:CST
DTSTART:20251102T070000
END:STANDARD
END:VTIMEZONE
BEGIN:VEVENT
DTSTART;TZID=America/Chicago:20250922T091500
DTEND;TZID=America/Chicago:20250922T094500
DTSTAMP:20260421T194451
CREATED:20250824T061909Z
LAST-MODIFIED:20250829T064934Z
UID:10001899-1758532500-1758534300@reenaseniorliving.com
SUMMARY:Movement Class with Kayla
DESCRIPTION:
URL:https://reenaseniorliving.com/event-calendar/movement-class-with-kayla-49/
LOCATION:Activity Room
CATEGORIES:Assisted Living
END:VEVENT
BEGIN:VEVENT
DTSTART;TZID=America/Chicago:20250922T091500
DTEND;TZID=America/Chicago:20250922T094500
DTSTAMP:20260421T194451
CREATED:20250910T070403Z
LAST-MODIFIED:20250922T071902Z
UID:10002143-1758532500-1758534300@reenaseniorliving.com
SUMMARY:Movement with Kayla
DESCRIPTION:
URL:https://reenaseniorliving.com/event-calendar/movement-with-kayla-2/
LOCATION:Activity Room
CATEGORIES:Assisted Living
END:VEVENT
BEGIN:VEVENT
DTSTART;TZID=America/Chicago:20250922T095000
DTEND;TZID=America/Chicago:20250922T100500
DTSTAMP:20260421T194451
CREATED:20250910T070403Z
LAST-MODIFIED:20250922T071902Z
UID:10002144-1758534600-1758535500@reenaseniorliving.com
SUMMARY:Meeting with Dawn and Anne on the next Challenge.
DESCRIPTION:
URL:https://reenaseniorliving.com/event-calendar/walking-in-basement-hallway-prep-for-next-challenge-meeting-with-dawn-and-kayla/
LOCATION:Activity Room
CATEGORIES:Assisted Living
END:VEVENT
BEGIN:VEVENT
DTSTART;TZID=America/Chicago:20250922T101500
DTEND;TZID=America/Chicago:20250922T104500
DTSTAMP:20260421T194451
CREATED:20250918T071901Z
LAST-MODIFIED:20250922T071902Z
UID:10002296-1758536100-1758537900@reenaseniorliving.com
SUMMARY:Reena Rockers Grip Team - Meeting to discuss what type of celebration we'd like to have.
DESCRIPTION:
URL:https://reenaseniorliving.com/event-calendar/reena-rockers-grip-team-meeting-to-discuss-what-type-of-celebration-wed-like-to-have/
LOCATION:Activity Room
CATEGORIES:Assisted Living
END:VEVENT
BEGIN:VEVENT
DTSTART;TZID=America/Chicago:20250922T123000
DTEND;TZID=America/Chicago:20250922T130000
DTSTAMP:20260421T194451
CREATED:20250920T071902Z
LAST-MODIFIED:20250922T071902Z
UID:10002318-1758544200-1758546000@reenaseniorliving.com
SUMMARY:Rosary with Dorothy.
DESCRIPTION:
URL:https://reenaseniorliving.com/event-calendar/rosary-with-dorothy/
LOCATION:Pub
CATEGORIES:Assisted Living
END:VEVENT
BEGIN:VEVENT
DTSTART;TZID=America/Chicago:20250922T133000
DTEND;TZID=America/Chicago:20250922T141500
DTSTAMP:20260421T194451
CREATED:20250824T061909Z
LAST-MODIFIED:20250922T071902Z
UID:10001901-1758547800-1758550500@reenaseniorliving.com
SUMMARY:Bingo
DESCRIPTION:
URL:https://reenaseniorliving.com/event-calendar/bingo-37/
LOCATION:Activity Room
CATEGORIES:Assisted Living
END:VEVENT
BEGIN:VEVENT
DTSTART;TZID=America/Chicago:20250922T143000
DTEND;TZID=America/Chicago:20250922T145000
DTSTAMP:20260421T194451
CREATED:20250910T070403Z
LAST-MODIFIED:20250922T071902Z
UID:10002145-1758551400-1758552600@reenaseniorliving.com
SUMMARY:Slideshows of TV Advertising of the 1950's & 1960's with Anne
DESCRIPTION:LInked Senior 1960 Remember when
URL:https://reenaseniorliving.com/event-calendar/slideshows-of-tv-advertising-of-the-1950s-1960s-with-anne/
LOCATION:Activity Room
CATEGORIES:Assisted Living
END:VEVENT
BEGIN:VEVENT
DTSTART;TZID=America/Chicago:20250922T160000
DTEND;TZID=America/Chicago:20250922T162500
DTSTAMP:20260421T194451
CREATED:20250824T061909Z
LAST-MODIFIED:20250922T071903Z
UID:10001900-1758556800-1758558300@reenaseniorliving.com
SUMMARY:Green Thumbs and Patio Social Time.
DESCRIPTION:Garden and Social Time.
URL:https://reenaseniorliving.com/event-calendar/green-thumbs-and-patio-social-time-31/
LOCATION:Activity Room Patio
CATEGORIES:Assisted Living
END:VEVENT
BEGIN:VEVENT
DTSTART;TZID=America/Chicago:20250922T170000
DTEND;TZID=America/Chicago:20250922T190000
DTSTAMP:20260421T194451
CREATED:20250917T071901Z
LAST-MODIFIED:20250922T071903Z
UID:10002249-1758560400-1758567600@reenaseniorliving.com
SUMMARY:Resident Run Social Time - Balcony\, Activity Room or Pub.
DESCRIPTION:
URL:https://reenaseniorliving.com/event-calendar/social-and-game-time-balcony-activity-room-or-pub-spaces-4/
LOCATION:Library
CATEGORIES:Assisted Living
END:VEVENT
END:VCALENDAR