BEGIN:VCALENDAR
VERSION:2.0
PRODID:-//Reena Senior Living - ECPv6.11.2.1//NONSGML v1.0//EN
CALSCALE:GREGORIAN
METHOD:PUBLISH
X-ORIGINAL-URL:https://reenaseniorliving.com
X-WR-CALDESC:Events for Reena Senior Living
REFRESH-INTERVAL;VALUE=DURATION:PT1H
X-Robots-Tag:noindex
X-PUBLISHED-TTL:PT1H
BEGIN:VTIMEZONE
TZID:America/Chicago
BEGIN:DAYLIGHT
TZOFFSETFROM:-0600
TZOFFSETTO:-0500
TZNAME:CDT
DTSTART:20250309T080000
END:DAYLIGHT
BEGIN:STANDARD
TZOFFSETFROM:-0500
TZOFFSETTO:-0600
TZNAME:CST
DTSTART:20251102T070000
END:STANDARD
END:VTIMEZONE
BEGIN:VEVENT
DTSTART;TZID=America/Chicago:20250924T091500
DTEND;TZID=America/Chicago:20250924T094500
DTSTAMP:20260421T194417
CREATED:20250826T063407Z
LAST-MODIFIED:20250829T064934Z
UID:10001928-1758705300-1758707100@reenaseniorliving.com
SUMMARY:Movement Class with Kayla
DESCRIPTION:
URL:https://reenaseniorliving.com/event-calendar/movement-class-with-kayla-51/
LOCATION:Activity Room
CATEGORIES:Assisted Living
END:VEVENT
BEGIN:VEVENT
DTSTART;TZID=America/Chicago:20250924T091500
DTEND;TZID=America/Chicago:20250924T094500
DTSTAMP:20260421T194417
CREATED:20250910T070403Z
LAST-MODIFIED:20250924T071908Z
UID:10002146-1758705300-1758707100@reenaseniorliving.com
SUMMARY:Movement Class with Kayla
DESCRIPTION:
URL:https://reenaseniorliving.com/event-calendar/movement-class-with-kayla-61/
LOCATION:Activity Room
CATEGORIES:Assisted Living
END:VEVENT
BEGIN:VEVENT
DTSTART;TZID=America/Chicago:20250924T100000
DTEND;TZID=America/Chicago:20250924T101500
DTSTAMP:20260421T194417
CREATED:20250826T041911Z
LAST-MODIFIED:20250924T071908Z
UID:10001920-1758708000-1758708900@reenaseniorliving.com
SUMMARY:Sing along before Catholic Service.
DESCRIPTION:We will assist you to go next door.
URL:https://reenaseniorliving.com/event-calendar/sing-along-before-catholic-service-17/
LOCATION:Legacy Court
CATEGORIES:Assisted Living,Legacy Court
END:VEVENT
BEGIN:VEVENT
DTSTART;TZID=America/Chicago:20250924T101500
DTEND;TZID=America/Chicago:20250924T111500
DTSTAMP:20260421T194417
CREATED:20250826T041911Z
LAST-MODIFIED:20250924T071908Z
UID:10001921-1758708900-1758712500@reenaseniorliving.com
SUMMARY:Catholic Service
DESCRIPTION:
URL:https://reenaseniorliving.com/event-calendar/catholic-service-18/
LOCATION:Legacy Court
CATEGORIES:Assisted Living,Legacy Court
END:VEVENT
BEGIN:VEVENT
DTSTART;TZID=America/Chicago:20250924T101500
DTEND;TZID=America/Chicago:20250924T111500
DTSTAMP:20260421T194417
CREATED:20250910T070404Z
LAST-MODIFIED:20250924T071908Z
UID:10002147-1758708900-1758712500@reenaseniorliving.com
SUMMARY:Coffee with Chaplin Lee - Topic - Spirituality
DESCRIPTION:
URL:https://reenaseniorliving.com/event-calendar/coffee-with-chaplin-lee-topic-spirituality/
LOCATION:Activity Room
CATEGORIES:Assisted Living
END:VEVENT
BEGIN:VEVENT
DTSTART;TZID=America/Chicago:20250924T130000
DTEND;TZID=America/Chicago:20250924T131500
DTSTAMP:20260421T194417
CREATED:20250917T071901Z
LAST-MODIFIED:20250924T071908Z
UID:10002252-1758718800-1758719700@reenaseniorliving.com
SUMMARY:TED TALK - 10 min. -  How Meditation Can Reshape Our Brains and How They Function
DESCRIPTION:
URL:https://reenaseniorliving.com/event-calendar/ted-talk-10-min-how-meditation-can-reshape-our-brains-and-how-they-function/
LOCATION:Activity Room
CATEGORIES:Assisted Living
END:VEVENT
BEGIN:VEVENT
DTSTART;TZID=America/Chicago:20250924T131500
DTEND;TZID=America/Chicago:20250924T134500
DTSTAMP:20260421T194417
CREATED:20250917T071901Z
LAST-MODIFIED:20250924T071908Z
UID:10002253-1758719700-1758721500@reenaseniorliving.com
SUMMARY:Neuroplasticity of our Brain - What can we do. Videos
DESCRIPTION:
URL:https://reenaseniorliving.com/event-calendar/neuroplasticity-of-our-brain-what-can-we-do-videos/
LOCATION:Activity Room
CATEGORIES:Assisted Living
END:VEVENT
BEGIN:VEVENT
DTSTART;TZID=America/Chicago:20250924T160000
DTEND;TZID=America/Chicago:20250924T163000
DTSTAMP:20260421T194417
CREATED:20250826T063407Z
LAST-MODIFIED:20250924T071908Z
UID:10001929-1758729600-1758731400@reenaseniorliving.com
SUMMARY:Green Thumbs Garden Group
DESCRIPTION:
URL:https://reenaseniorliving.com/event-calendar/green-thumbs-garden-group-56/
LOCATION:Activity Room Patio
CATEGORIES:Assisted Living
END:VEVENT
BEGIN:VEVENT
DTSTART;TZID=America/Chicago:20250924T170000
DTEND;TZID=America/Chicago:20250924T190000
DTSTAMP:20260421T194417
CREATED:20250917T071902Z
LAST-MODIFIED:20250924T071908Z
UID:10002254-1758733200-1758740400@reenaseniorliving.com
SUMMARY:Resident Run Social Time - Balcony\, Activity Room or Pub.
DESCRIPTION:
URL:https://reenaseniorliving.com/event-calendar/social-and-game-time-balcony-activity-room-or-pub-spaces-6/
LOCATION:Library
CATEGORIES:Assisted Living
END:VEVENT
BEGIN:VEVENT
DTSTART;TZID=America/Chicago:20250924T173000
DTEND;TZID=America/Chicago:20250924T190000
DTSTAMP:20260421T194417
CREATED:20250826T063407Z
LAST-MODIFIED:20250905T070423Z
UID:10001930-1758735000-1758740400@reenaseniorliving.com
SUMMARY:Hand & Foot\, Garbage\, or Jenga with your peers. (AR)
DESCRIPTION:
URL:https://reenaseniorliving.com/event-calendar/connect-four-cards-rummy-cube-jenga-are-set-up-in-the-activity-room-for-you/
LOCATION:Activity Room
CATEGORIES:Assisted Living
END:VEVENT
END:VCALENDAR