BEGIN:VCALENDAR
VERSION:2.0
PRODID:-//Reena Senior Living - ECPv6.11.2.1//NONSGML v1.0//EN
CALSCALE:GREGORIAN
METHOD:PUBLISH
X-ORIGINAL-URL:https://reenaseniorliving.com
X-WR-CALDESC:Events for Reena Senior Living
REFRESH-INTERVAL;VALUE=DURATION:PT1H
X-Robots-Tag:noindex
X-PUBLISHED-TTL:PT1H
BEGIN:VTIMEZONE
TZID:America/Chicago
BEGIN:DAYLIGHT
TZOFFSETFROM:-0600
TZOFFSETTO:-0500
TZNAME:CDT
DTSTART:20250309T080000
END:DAYLIGHT
BEGIN:STANDARD
TZOFFSETFROM:-0500
TZOFFSETTO:-0600
TZNAME:CST
DTSTART:20251102T070000
END:STANDARD
END:VTIMEZONE
BEGIN:VEVENT
DTSTART;TZID=America/Chicago:20250925T091500
DTEND;TZID=America/Chicago:20250925T094500
DTSTAMP:20260421T194452
CREATED:20250827T063430Z
LAST-MODIFIED:20250925T071906Z
UID:10001940-1758791700-1758793500@reenaseniorliving.com
SUMMARY:Movement Class with Kayla
DESCRIPTION:Gentle Movement\, Strength\, Mobility\, Balance\, & More.
URL:https://reenaseniorliving.com/event-calendar/movement-class-with-kayla-52/
LOCATION:Activity Room
CATEGORIES:Assisted Living
END:VEVENT
BEGIN:VEVENT
DTSTART;TZID=America/Chicago:20250925T094500
DTEND;TZID=America/Chicago:20250925T101000
DTSTAMP:20260421T194452
CREATED:20250827T063430Z
LAST-MODIFIED:20250925T071906Z
UID:10001941-1758793500-1758795000@reenaseniorliving.com
SUMMARY:Biking with Music
DESCRIPTION:
URL:https://reenaseniorliving.com/event-calendar/strength-class-intermediate-class-39/
LOCATION:Activity Room
CATEGORIES:Assisted Living
END:VEVENT
BEGIN:VEVENT
DTSTART;TZID=America/Chicago:20250925T101500
DTEND;TZID=America/Chicago:20250925T144500
DTSTAMP:20260421T194452
CREATED:20250917T071902Z
LAST-MODIFIED:20250925T071906Z
UID:10002255-1758795300-1758811500@reenaseniorliving.com
SUMMARY:Book Share - Come Choose a Book or Trade One You've Enjoyed
DESCRIPTION:
URL:https://reenaseniorliving.com/event-calendar/book-share-come-choose-a-book-or-trade-one-youve-enjoyed/
LOCATION:Activity Room
CATEGORIES:Assisted Living
END:VEVENT
BEGIN:VEVENT
DTSTART;TZID=America/Chicago:20250925T103000
DTEND;TZID=America/Chicago:20250925T113000
DTSTAMP:20260421T194452
CREATED:20250917T071902Z
LAST-MODIFIED:20250925T071906Z
UID:10002257-1758796200-1758799800@reenaseniorliving.com
SUMMARY:Autumn Colors in Kyoto - Beautiful Scenery and Music
DESCRIPTION:LInked Senior – Sept. Autumn in Kyoto
URL:https://reenaseniorliving.com/event-calendar/autumn-colors-in-kyoto-beautiful-scenery-and-music/
LOCATION:Activity Room
CATEGORIES:Assisted Living
END:VEVENT
BEGIN:VEVENT
DTSTART;TZID=America/Chicago:20250925T130000
DTEND;TZID=America/Chicago:20250925T131500
DTSTAMP:20260421T194452
CREATED:20250910T070404Z
LAST-MODIFIED:20250916T070401Z
UID:10002148-1758805200-1758806100@reenaseniorliving.com
SUMMARY:Fort Atkinson Wi. The Early Years in Pictures to Beautiful Music 14 minutes
DESCRIPTION:
URL:https://reenaseniorliving.com/event-calendar/fort-atkinson-wi-the-early-years-in-pictures-to-beautiful-music-14-minutes/
LOCATION:Activity Room
CATEGORIES:Assisted Living
END:VEVENT
BEGIN:VEVENT
DTSTART;TZID=America/Chicago:20250925T130000
DTEND;TZID=America/Chicago:20250925T141500
DTSTAMP:20260421T194452
CREATED:20250920T071904Z
LAST-MODIFIED:20250925T071906Z
UID:10002320-1758805200-1758809700@reenaseniorliving.com
SUMMARY:Memorial Celebration Vocational Project Starts. See Newsletter next week for details.
DESCRIPTION:
URL:https://reenaseniorliving.com/event-calendar/memorial-celebration-vocational-project-starts-see-newsletter-next-week-for-details/
LOCATION:Activity Room
CATEGORIES:Assisted Living
END:VEVENT
BEGIN:VEVENT
DTSTART;TZID=America/Chicago:20250925T130000
DTEND;TZID=America/Chicago:20250925T144500
DTSTAMP:20260421T194452
CREATED:20250917T071902Z
LAST-MODIFIED:20250919T071902Z
UID:10002256-1758805200-1758811500@reenaseniorliving.com
SUMMARY:Nail Spa Day
DESCRIPTION:
URL:https://reenaseniorliving.com/event-calendar/nail-spa-day-2/
LOCATION:Activity Room
CATEGORIES:Assisted Living
END:VEVENT
BEGIN:VEVENT
DTSTART;TZID=America/Chicago:20250925T170000
DTEND;TZID=America/Chicago:20250925T190000
DTSTAMP:20260421T194452
CREATED:20250917T071902Z
LAST-MODIFIED:20250925T071906Z
UID:10002258-1758819600-1758826800@reenaseniorliving.com
SUMMARY:Resident Run Social Time - Balcony\, Activity Room or Pub.
DESCRIPTION:
URL:https://reenaseniorliving.com/event-calendar/social-and-game-time-balcony-activity-room-or-pub-spaces-7/
LOCATION:Library
CATEGORIES:Assisted Living
END:VEVENT
END:VCALENDAR