BEGIN:VCALENDAR
VERSION:2.0
PRODID:-//Reena Senior Living - ECPv6.11.2.1//NONSGML v1.0//EN
CALSCALE:GREGORIAN
METHOD:PUBLISH
X-WR-CALNAME:Reena Senior Living
X-ORIGINAL-URL:https://reenaseniorliving.com
X-WR-CALDESC:Events for Reena Senior Living
REFRESH-INTERVAL;VALUE=DURATION:PT1H
X-Robots-Tag:noindex
X-PUBLISHED-TTL:PT1H
BEGIN:VTIMEZONE
TZID:America/Chicago
BEGIN:DAYLIGHT
TZOFFSETFROM:-0600
TZOFFSETTO:-0500
TZNAME:CDT
DTSTART:20250309T080000
END:DAYLIGHT
BEGIN:STANDARD
TZOFFSETFROM:-0500
TZOFFSETTO:-0600
TZNAME:CST
DTSTART:20251102T070000
END:STANDARD
END:VTIMEZONE
BEGIN:VEVENT
DTSTART;TZID=America/Chicago:20251006T091500
DTEND;TZID=America/Chicago:20251006T094500
DTSTAMP:20260421T182722
CREATED:20250910T070405Z
LAST-MODIFIED:20251006T074903Z
UID:10002154-1759742100-1759743900@reenaseniorliving.com
SUMMARY:Movement with Kayla
DESCRIPTION:
URL:https://reenaseniorliving.com/event-calendar/movement-with-kayla-4/
LOCATION:Activity Room
CATEGORIES:Assisted Living
END:VEVENT
BEGIN:VEVENT
DTSTART;TZID=America/Chicago:20251006T094500
DTEND;TZID=America/Chicago:20251006T100500
DTSTAMP:20260421T182722
CREATED:20251003T073401Z
LAST-MODIFIED:20251006T074903Z
UID:10002478-1759743900-1759745100@reenaseniorliving.com
SUMMARY:TRYathlon - Walk 5 minutes\, Bike 5 minutes\, Arm Bike 1-2 minutes\, End with Gentle stretch
DESCRIPTION:
URL:https://reenaseniorliving.com/event-calendar/tryathlon-walk-5-minutes-bike-5-minutes-arm-bike-1-2-minutes-end-with-gentle-stretch/
LOCATION:Activity Room
CATEGORIES:Assisted Living
END:VEVENT
BEGIN:VEVENT
DTSTART;TZID=America/Chicago:20251006T101500
DTEND;TZID=America/Chicago:20251006T103500
DTSTAMP:20260421T182722
CREATED:20250910T070405Z
LAST-MODIFIED:20251002T073411Z
UID:10002155-1759745700-1759746900@reenaseniorliving.com
SUMMARY:Walking in Hallway - Prep for next challenge - Meeting with Dawn and Kayla
DESCRIPTION:
URL:https://reenaseniorliving.com/event-calendar/walking-in-basement-hallway-prep-for-next-challenge-meeting-with-dawn-and-kayla-3/
LOCATION:Basement Hallway
CATEGORIES:Assisted Living
END:VEVENT
BEGIN:VEVENT
DTSTART;TZID=America/Chicago:20251006T123000
DTEND;TZID=America/Chicago:20251006T130000
DTSTAMP:20260421T182722
CREATED:20250920T071907Z
LAST-MODIFIED:20251006T074903Z
UID:10002323-1759753800-1759755600@reenaseniorliving.com
SUMMARY:Rosary with Dorothy.
DESCRIPTION:
URL:https://reenaseniorliving.com/event-calendar/rosary-with-dorothy-3/
LOCATION:Pub
CATEGORIES:Assisted Living
END:VEVENT
BEGIN:VEVENT
DTSTART;TZID=America/Chicago:20251006T133000
DTEND;TZID=America/Chicago:20251006T143000
DTSTAMP:20260421T182722
CREATED:20250907T070415Z
LAST-MODIFIED:20251006T074903Z
UID:10002100-1759757400-1759761000@reenaseniorliving.com
SUMMARY:Travelogue with Guest Speakers Ken and Pat! Let's go to Madagascar.
DESCRIPTION:
URL:https://reenaseniorliving.com/event-calendar/bingo-41/
LOCATION:Theatre
CATEGORIES:Assisted Living
END:VEVENT
BEGIN:VEVENT
DTSTART;TZID=America/Chicago:20251006T160000
DTEND;TZID=America/Chicago:20251006T162500
DTSTAMP:20260421T182722
CREATED:20250907T070415Z
LAST-MODIFIED:20251006T074903Z
UID:10002099-1759766400-1759767900@reenaseniorliving.com
SUMMARY:Green Thumbs and Patio Social Time.
DESCRIPTION:Garden and Social Time.
URL:https://reenaseniorliving.com/event-calendar/green-thumbs-and-patio-social-time-33/
LOCATION:Activity Room Patio
CATEGORIES:Assisted Living
END:VEVENT
BEGIN:VEVENT
DTSTART;TZID=America/Chicago:20251006T173000
DTEND;TZID=America/Chicago:20251006T193000
DTSTAMP:20260421T182722
CREATED:20250917T071905Z
LAST-MODIFIED:20251006T074903Z
UID:10002273-1759771800-1759779000@reenaseniorliving.com
SUMMARY:Resident Run Social Time - Balcony\, Activity Room or Pub.
DESCRIPTION:
URL:https://reenaseniorliving.com/event-calendar/social-and-game-time-balcony-activity-room-or-pub-spaces-18/
LOCATION:Library
CATEGORIES:Assisted Living
END:VEVENT
END:VCALENDAR