BEGIN:VCALENDAR
VERSION:2.0
PRODID:-//Reena Senior Living - ECPv6.11.2.1//NONSGML v1.0//EN
CALSCALE:GREGORIAN
METHOD:PUBLISH
X-ORIGINAL-URL:https://reenaseniorliving.com
X-WR-CALDESC:Events for Reena Senior Living
REFRESH-INTERVAL;VALUE=DURATION:PT1H
X-Robots-Tag:noindex
X-PUBLISHED-TTL:PT1H
BEGIN:VTIMEZONE
TZID:America/Chicago
BEGIN:DAYLIGHT
TZOFFSETFROM:-0600
TZOFFSETTO:-0500
TZNAME:CDT
DTSTART:20250309T080000
END:DAYLIGHT
BEGIN:STANDARD
TZOFFSETFROM:-0500
TZOFFSETTO:-0600
TZNAME:CST
DTSTART:20251102T070000
END:STANDARD
END:VTIMEZONE
BEGIN:VEVENT
DTSTART;TZID=America/Chicago:20251009T091500
DTEND;TZID=America/Chicago:20251009T094500
DTSTAMP:20260421T182904
CREATED:20250910T070406Z
LAST-MODIFIED:20251009T074915Z
UID:10002158-1760001300-1760003100@reenaseniorliving.com
SUMMARY:Movement Class with Kayla
DESCRIPTION:Gentle Movement\, Strength\, Mobility\, Balance\, & More.
URL:https://reenaseniorliving.com/event-calendar/movement-class-with-kayla-64/
LOCATION:Activity Room
CATEGORIES:Assisted Living
END:VEVENT
BEGIN:VEVENT
DTSTART;TZID=America/Chicago:20251009T094500
DTEND;TZID=America/Chicago:20251009T100000
DTSTAMP:20260421T182904
CREATED:20251003T073401Z
LAST-MODIFIED:20251009T074915Z
UID:10002481-1760003100-1760004000@reenaseniorliving.com
SUMMARY:Walking Group
DESCRIPTION:
URL:https://reenaseniorliving.com/event-calendar/walking-group-27/
LOCATION:Activity Room
CATEGORIES:Assisted Living
END:VEVENT
BEGIN:VEVENT
DTSTART;TZID=America/Chicago:20251009T094500
DTEND;TZID=America/Chicago:20251009T101000
DTSTAMP:20260421T182904
CREATED:20250910T070406Z
LAST-MODIFIED:20251002T073412Z
UID:10002159-1760003100-1760004600@reenaseniorliving.com
SUMMARY:Biking with Music
DESCRIPTION:
URL:https://reenaseniorliving.com/event-calendar/biking-with-music/
LOCATION:Activity Room
CATEGORIES:Assisted Living
END:VEVENT
BEGIN:VEVENT
DTSTART;TZID=America/Chicago:20251009T110000
DTEND;TZID=America/Chicago:20251009T112000
DTSTAMP:20260421T182904
CREATED:20251003T073401Z
LAST-MODIFIED:20251009T074915Z
UID:10002482-1760007600-1760008800@reenaseniorliving.com
SUMMARY:TRICK OR TREAT MEETING WITH DAWN
DESCRIPTION:
URL:https://reenaseniorliving.com/event-calendar/trick-or-treat-meeting-with-dawn/
LOCATION:Activity Room
CATEGORIES:Assisted Living
END:VEVENT
BEGIN:VEVENT
DTSTART;TZID=America/Chicago:20251009T130000
DTEND;TZID=America/Chicago:20251009T134500
DTSTAMP:20260421T182904
CREATED:20250917T051938Z
LAST-MODIFIED:20251009T074915Z
UID:10002235-1760014800-1760017500@reenaseniorliving.com
SUMMARY:TBD Possible Spark Competition Scrimmage.
DESCRIPTION:
URL:https://reenaseniorliving.com/event-calendar/spark-competition-3/
LOCATION:Activity Room
CATEGORIES:Assisted Living,Legacy Court
END:VEVENT
BEGIN:VEVENT
DTSTART;TZID=America/Chicago:20251009T133000
DTEND;TZID=America/Chicago:20251009T143000
DTSTAMP:20260421T182904
CREATED:20250910T070406Z
LAST-MODIFIED:20250916T070404Z
UID:10002160-1760016600-1760020200@reenaseniorliving.com
SUMMARY:Travelogue with Pat and Ken TBD Location
DESCRIPTION:
URL:https://reenaseniorliving.com/event-calendar/travelogue-with-pat-and-ken-tbd-location/
LOCATION:Theatre
CATEGORIES:Assisted Living
END:VEVENT
BEGIN:VEVENT
DTSTART;TZID=America/Chicago:20251009T140000
DTEND;TZID=America/Chicago:20251009T151500
DTSTAMP:20260421T182904
CREATED:20251003T073401Z
LAST-MODIFIED:20251009T074915Z
UID:10002483-1760018400-1760022900@reenaseniorliving.com
SUMMARY:Countryside Drive on our Bus - Sign up if you intend on going. We understand cancellations.
DESCRIPTION:With Dawn and Laurie
URL:https://reenaseniorliving.com/event-calendar/countryside-drive-on-our-bus-sign-up-if-you-intend-on-going-we-understand-cancellations/
CATEGORIES:Assisted Living
END:VEVENT
BEGIN:VEVENT
DTSTART;TZID=America/Chicago:20251009T173000
DTEND;TZID=America/Chicago:20251009T193000
DTSTAMP:20260421T182904
CREATED:20250917T071906Z
LAST-MODIFIED:20251009T074915Z
UID:10002276-1760031000-1760038200@reenaseniorliving.com
SUMMARY:Resident Run Social Time - Balcony\, Activity Room or Pub.
DESCRIPTION:
URL:https://reenaseniorliving.com/event-calendar/social-and-game-time-balcony-activity-room-or-pub-spaces-21/
LOCATION:Library
CATEGORIES:Assisted Living
END:VEVENT
END:VCALENDAR