BEGIN:VCALENDAR
VERSION:2.0
PRODID:-//Reena Senior Living - ECPv6.11.2.1//NONSGML v1.0//EN
CALSCALE:GREGORIAN
METHOD:PUBLISH
X-ORIGINAL-URL:https://reenaseniorliving.com
X-WR-CALDESC:Events for Reena Senior Living
REFRESH-INTERVAL;VALUE=DURATION:PT1H
X-Robots-Tag:noindex
X-PUBLISHED-TTL:PT1H
BEGIN:VTIMEZONE
TZID:America/Chicago
BEGIN:DAYLIGHT
TZOFFSETFROM:-0600
TZOFFSETTO:-0500
TZNAME:CDT
DTSTART:20250309T080000
END:DAYLIGHT
BEGIN:STANDARD
TZOFFSETFROM:-0500
TZOFFSETTO:-0600
TZNAME:CST
DTSTART:20251102T070000
END:STANDARD
END:VTIMEZONE
BEGIN:VEVENT
DTSTART;TZID=America/Chicago:20251020T091500
DTEND;TZID=America/Chicago:20251020T094500
DTSTAMP:20260421T182832
CREATED:20250921T071943Z
LAST-MODIFIED:20251020T081902Z
UID:10002336-1760951700-1760953500@reenaseniorliving.com
SUMMARY:Movement with Kayla
DESCRIPTION:
URL:https://reenaseniorliving.com/event-calendar/movement-with-kayla-6/
LOCATION:Activity Room
CATEGORIES:Assisted Living
END:VEVENT
BEGIN:VEVENT
DTSTART;TZID=America/Chicago:20251020T094500
DTEND;TZID=America/Chicago:20251020T100500
DTSTAMP:20260421T182832
CREATED:20251003T073404Z
LAST-MODIFIED:20251016T081900Z
UID:10002495-1760953500-1760954700@reenaseniorliving.com
SUMMARY:TRYathlon - Walk 5 minutes\, Bike 5 minutes\, Arm Bike 1-2 minutes\, close with Gentle Stretch
DESCRIPTION:
URL:https://reenaseniorliving.com/event-calendar/tryathlon-walk-5-minutes-bike-5-minutes-arm-bike-1-2-minutes-end-with-gentle-stretch-3/
LOCATION:Activity Room
CATEGORIES:Assisted Living
END:VEVENT
BEGIN:VEVENT
DTSTART;TZID=America/Chicago:20251020T101500
DTEND;TZID=America/Chicago:20251020T103500
DTSTAMP:20260421T182832
CREATED:20250921T071943Z
LAST-MODIFIED:20251009T074915Z
UID:10002338-1760955300-1760956500@reenaseniorliving.com
SUMMARY:Walking in Hallway - Prep for next challenge - Meeting with Dawn and Kayla
DESCRIPTION:
URL:https://reenaseniorliving.com/event-calendar/walking-in-hallway-prep-for-next-challenge-meeting-with-dawn-and-kayla/
LOCATION:Basement Hallway
CATEGORIES:Assisted Living
END:VEVENT
BEGIN:VEVENT
DTSTART;TZID=America/Chicago:20251020T101500
DTEND;TZID=America/Chicago:20251020T113000
DTSTAMP:20260421T182832
CREATED:20250921T071943Z
LAST-MODIFIED:20251020T081902Z
UID:10002337-1760955300-1760959800@reenaseniorliving.com
SUMMARY:Trinity Lutheran Visit with Coffee Social Hour
DESCRIPTION:Coffee will be offered. Please join us.
URL:https://reenaseniorliving.com/event-calendar/trinity-lutheran-guests-visit-with-coffee-social-hour-all-are-welcome-6/
LOCATION:Activity Room
CATEGORIES:Assisted Living
END:VEVENT
BEGIN:VEVENT
DTSTART;TZID=America/Chicago:20251020T123000
DTEND;TZID=America/Chicago:20251020T130000
DTSTAMP:20260421T182832
CREATED:20250921T071943Z
LAST-MODIFIED:20251020T081902Z
UID:10002339-1760963400-1760965200@reenaseniorliving.com
SUMMARY:Rosary with Dorothy.
DESCRIPTION:
URL:https://reenaseniorliving.com/event-calendar/rosary-with-dorothy-5/
LOCATION:Pub
CATEGORIES:Assisted Living
END:VEVENT
BEGIN:VEVENT
DTSTART;TZID=America/Chicago:20251020T130000
DTEND;TZID=America/Chicago:20251020T133000
DTSTAMP:20260421T182832
CREATED:20251017T081901Z
LAST-MODIFIED:20251020T081902Z
UID:10002715-1760965200-1760967000@reenaseniorliving.com
SUMMARY:Reminder - sign-up for Trick or Treating candy handout - We provide Candy & Costumes
DESCRIPTION:
URL:https://reenaseniorliving.com/event-calendar/reminder-sign-up-for-trick-or-treating-candy-handout-we-provide-candy-costumes/
LOCATION:Activity Room
CATEGORIES:Assisted Living
END:VEVENT
BEGIN:VEVENT
DTSTART;TZID=America/Chicago:20251020T133000
DTEND;TZID=America/Chicago:20251020T143000
DTSTAMP:20260421T182832
CREATED:20250921T071944Z
LAST-MODIFIED:20251020T081902Z
UID:10002340-1760967000-1760970600@reenaseniorliving.com
SUMMARY:Bingo
DESCRIPTION:
URL:https://reenaseniorliving.com/event-calendar/bingo-46/
LOCATION:Activity Room
CATEGORIES:Assisted Living
END:VEVENT
BEGIN:VEVENT
DTSTART;TZID=America/Chicago:20251020T150000
DTEND;TZID=America/Chicago:20251020T153500
DTSTAMP:20260421T182832
CREATED:20250921T071944Z
LAST-MODIFIED:20251020T081902Z
UID:10002341-1760972400-1760974500@reenaseniorliving.com
SUMMARY:Sing-a-long with guests from Three Pillars Senior Living
DESCRIPTION:
URL:https://reenaseniorliving.com/event-calendar/sing-a-long-with-guests-from-three-pillars-senior-living/
LOCATION:Activity Room
CATEGORIES:Assisted Living
END:VEVENT
BEGIN:VEVENT
DTSTART;TZID=America/Chicago:20251020T173000
DTEND;TZID=America/Chicago:20251020T193000
DTSTAMP:20260421T182832
CREATED:20250921T071944Z
LAST-MODIFIED:20251016T081900Z
UID:10002342-1760981400-1760988600@reenaseniorliving.com
SUMMARY:Resident Run Social Time - Balcony\, Activity Room or Pub.
DESCRIPTION:
URL:https://reenaseniorliving.com/event-calendar/resident-run-social-time-balcony-activity-room-or-pub-2/
LOCATION:Library
CATEGORIES:Assisted Living
END:VEVENT
END:VCALENDAR