BEGIN:VCALENDAR
VERSION:2.0
PRODID:-//Reena Senior Living - ECPv6.11.2.1//NONSGML v1.0//EN
CALSCALE:GREGORIAN
METHOD:PUBLISH
X-WR-CALNAME:Reena Senior Living
X-ORIGINAL-URL:https://reenaseniorliving.com
X-WR-CALDESC:Events for Reena Senior Living
REFRESH-INTERVAL;VALUE=DURATION:PT1H
X-Robots-Tag:noindex
X-PUBLISHED-TTL:PT1H
BEGIN:VTIMEZONE
TZID:America/Chicago
BEGIN:DAYLIGHT
TZOFFSETFROM:-0600
TZOFFSETTO:-0500
TZNAME:CDT
DTSTART:20250309T080000
END:DAYLIGHT
BEGIN:STANDARD
TZOFFSETFROM:-0500
TZOFFSETTO:-0600
TZNAME:CST
DTSTART:20251102T070000
END:STANDARD
END:VTIMEZONE
BEGIN:VEVENT
DTSTART;TZID=America/Chicago:20251030T091500
DTEND;TZID=America/Chicago:20251030T094500
DTSTAMP:20260421T170307
CREATED:20251001T073419Z
LAST-MODIFIED:20251030T084904Z
UID:10002459-1761815700-1761817500@reenaseniorliving.com
SUMMARY:Movement Class with Dawn
DESCRIPTION:Gentle Movement\, Strength\, Mobility\, Balance\, & More.
URL:https://reenaseniorliving.com/event-calendar/movement-class-with-kayla-76/
LOCATION:Activity Room
CATEGORIES:Assisted Living
END:VEVENT
BEGIN:VEVENT
DTSTART;TZID=America/Chicago:20251030T094500
DTEND;TZID=America/Chicago:20251030T100000
DTSTAMP:20260421T170307
CREATED:20251010T074910Z
LAST-MODIFIED:20251030T084904Z
UID:10002625-1761817500-1761818400@reenaseniorliving.com
SUMMARY:*New Class - Balance in Main Floor Hallway - Fox Rehabilitation's Outline. Fall Prevention
DESCRIPTION:
URL:https://reenaseniorliving.com/event-calendar/balance-in-main-floor-hallway-fox-rehabilitations-outline-come-check-it-out-2/
CATEGORIES:Assisted Living
END:VEVENT
BEGIN:VEVENT
DTSTART;TZID=America/Chicago:20251030T094500
DTEND;TZID=America/Chicago:20251030T101000
DTSTAMP:20260421T170307
CREATED:20251001T073419Z
LAST-MODIFIED:20251002T073416Z
UID:10002460-1761817500-1761819000@reenaseniorliving.com
SUMMARY:Biking with Music
DESCRIPTION:
URL:https://reenaseniorliving.com/event-calendar/biking-with-music-4/
LOCATION:Activity Room
CATEGORIES:Assisted Living
END:VEVENT
BEGIN:VEVENT
DTSTART;TZID=America/Chicago:20251030T101500
DTEND;TZID=America/Chicago:20251030T105000
DTSTAMP:20260421T170307
CREATED:20251023T063402Z
LAST-MODIFIED:20251030T084904Z
UID:10002806-1761819300-1761821400@reenaseniorliving.com
SUMMARY:Catholic Service at Legacy Court - Father will be here today.
DESCRIPTION:
URL:https://reenaseniorliving.com/event-calendar/catholic-service-at-legacy-court-father-will-be-here-today/
LOCATION:Legacy Court
CATEGORIES:Assisted Living,Legacy Court
END:VEVENT
BEGIN:VEVENT
DTSTART;TZID=America/Chicago:20251030T103000
DTEND;TZID=America/Chicago:20251030T110000
DTSTAMP:20260421T170307
CREATED:20251021T081902Z
LAST-MODIFIED:20251023T083403Z
UID:10002769-1761820200-1761822000@reenaseniorliving.com
SUMMARY:Green Thumbs
DESCRIPTION:
URL:https://reenaseniorliving.com/event-calendar/green-thumbs/
LOCATION:Activity Room
CATEGORIES:Assisted Living
END:VEVENT
BEGIN:VEVENT
DTSTART;TZID=America/Chicago:20251030T110000
DTEND;TZID=America/Chicago:20251030T112000
DTSTAMP:20260421T170307
CREATED:20251001T073419Z
LAST-MODIFIED:20251007T074912Z
UID:10002461-1761822000-1761823200@reenaseniorliving.com
SUMMARY:Linked Senior Exploration - History\, Joke of the Day\, and more.
DESCRIPTION:
URL:https://reenaseniorliving.com/event-calendar/linked-senior-exploration-history-joke-of-the-day-and-more/
LOCATION:Activity Room
CATEGORIES:Assisted Living
END:VEVENT
BEGIN:VEVENT
DTSTART;TZID=America/Chicago:20251030T130000
DTEND;TZID=America/Chicago:20251030T150000
DTSTAMP:20260421T170307
CREATED:20251022T083416Z
LAST-MODIFIED:20251030T084904Z
UID:10002796-1761829200-1761836400@reenaseniorliving.com
SUMMARY:Movie - The Thursday Murder Club - Pierce Brosnan\, Helen Mirren - Senior Sleuths - Basement Theatre
DESCRIPTION:
URL:https://reenaseniorliving.com/event-calendar/movie-3/
LOCATION:Theatre
CATEGORIES:Assisted Living
END:VEVENT
BEGIN:VEVENT
DTSTART;TZID=America/Chicago:20251030T140000
DTEND;TZID=America/Chicago:20251030T143000
DTSTAMP:20260421T170307
CREATED:20251029T070405Z
LAST-MODIFIED:20251030T084904Z
UID:10002897-1761832800-1761834600@reenaseniorliving.com
SUMMARY:Fire Drill - See your letter for more information
DESCRIPTION:
URL:https://reenaseniorliving.com/event-calendar/fire-drill-see-your-letter-for-more-information-2/
CATEGORIES:Assisted Living,Legacy Court
END:VEVENT
BEGIN:VEVENT
DTSTART;TZID=America/Chicago:20251030T173000
DTEND;TZID=America/Chicago:20251030T193000
DTSTAMP:20260421T170307
CREATED:20251001T073419Z
LAST-MODIFIED:20251024T083402Z
UID:10002462-1761845400-1761852600@reenaseniorliving.com
SUMMARY:Resident Run Social Time - Balcony\, Activity Room or Pub.
DESCRIPTION:
URL:https://reenaseniorliving.com/event-calendar/resident-run-social-time-balcony-activity-room-or-pub-12/
LOCATION:Library
CATEGORIES:Assisted Living
END:VEVENT
END:VCALENDAR