BEGIN:VCALENDAR
VERSION:2.0
PRODID:-//Reena Senior Living - ECPv6.11.2.1//NONSGML v1.0//EN
CALSCALE:GREGORIAN
METHOD:PUBLISH
X-WR-CALNAME:Reena Senior Living
X-ORIGINAL-URL:https://reenaseniorliving.com
X-WR-CALDESC:Events for Reena Senior Living
REFRESH-INTERVAL;VALUE=DURATION:PT1H
X-Robots-Tag:noindex
X-PUBLISHED-TTL:PT1H
BEGIN:VTIMEZONE
TZID:America/Chicago
BEGIN:DAYLIGHT
TZOFFSETFROM:-0600
TZOFFSETTO:-0500
TZNAME:CDT
DTSTART:20250309T080000
END:DAYLIGHT
BEGIN:STANDARD
TZOFFSETFROM:-0500
TZOFFSETTO:-0600
TZNAME:CST
DTSTART:20251102T070000
END:STANDARD
END:VTIMEZONE
BEGIN:VEVENT
DTSTART;TZID=America/Chicago:20251113T091500
DTEND;TZID=America/Chicago:20251113T094500
DTSTAMP:20260421T170839
CREATED:20251015T081933Z
LAST-MODIFIED:20251113T091902Z
UID:10002689-1763025300-1763027100@reenaseniorliving.com
SUMMARY:Movement Class with Kayla
DESCRIPTION:Gentle Movement\, Strength\, Mobility\, Balance\, & More.
URL:https://reenaseniorliving.com/event-calendar/movement-class-with-kayla-84/
LOCATION:Activity Room
CATEGORIES:Assisted Living
END:VEVENT
BEGIN:VEVENT
DTSTART;TZID=America/Chicago:20251113T095000
DTEND;TZID=America/Chicago:20251113T100000
DTSTAMP:20260421T170839
CREATED:20251015T081933Z
LAST-MODIFIED:20251113T091902Z
UID:10002690-1763027400-1763028000@reenaseniorliving.com
SUMMARY:Balance Training - Fall Prevention & Building Strength - Main Floor Hallway
DESCRIPTION:
URL:https://reenaseniorliving.com/event-calendar/balance-in-main-floor-hallway-fox-rehabilitations-outline-come-check-it-out-4/
CATEGORIES:Assisted Living
END:VEVENT
BEGIN:VEVENT
DTSTART;TZID=America/Chicago:20251113T111500
DTEND;TZID=America/Chicago:20251113T130000
DTSTAMP:20260421T170839
CREATED:20251025T083406Z
LAST-MODIFIED:20251113T091902Z
UID:10002854-1763032500-1763038800@reenaseniorliving.com
SUMMARY:Lunch at Pine Cone restaurant - Sign-up - Pay for your own meal
DESCRIPTION:
URL:https://reenaseniorliving.com/event-calendar/lunch-at-pine-cone-restaurant-sign-up-pay-for-your-own-meal/
LOCATION:Bus Trip
CATEGORIES:Assisted Living
END:VEVENT
BEGIN:VEVENT
DTSTART;TZID=America/Chicago:20251113T133000
DTEND;TZID=America/Chicago:20251113T144500
DTSTAMP:20260421T170839
CREATED:20251024T083405Z
LAST-MODIFIED:20251113T091902Z
UID:10002831-1763040600-1763045100@reenaseniorliving.com
SUMMARY:Prepare Gifts for 3rd Grader's
DESCRIPTION:
URL:https://reenaseniorliving.com/event-calendar/deliver-blankets-to-schools/
LOCATION:Bus Trip
CATEGORIES:Assisted Living
END:VEVENT
BEGIN:VEVENT
DTSTART;TZID=America/Chicago:20251113T171500
DTEND;TZID=America/Chicago:20251113T190000
DTSTAMP:20260421T170839
CREATED:20251104T091906Z
LAST-MODIFIED:20251113T091902Z
UID:10003049-1763054100-1763060400@reenaseniorliving.com
SUMMARY:Hand & Foot Cards & Trouble the Board Game.
DESCRIPTION:
URL:https://reenaseniorliving.com/event-calendar/hand-foot-cards-trouble-the-board-game/
LOCATION:Activity Room
CATEGORIES:Assisted Living
END:VEVENT
BEGIN:VEVENT
DTSTART;TZID=America/Chicago:20251113T173000
DTEND;TZID=America/Chicago:20251113T193000
DTSTAMP:20260421T170839
CREATED:20251015T081933Z
LAST-MODIFIED:20251023T083406Z
UID:10002691-1763055000-1763062200@reenaseniorliving.com
SUMMARY:Resident Run Social Time - Balcony\, Activity Room or Pub.
DESCRIPTION:
URL:https://reenaseniorliving.com/event-calendar/resident-run-social-time-balcony-activity-room-or-pub-26/
LOCATION:Library
CATEGORIES:Assisted Living
END:VEVENT
END:VCALENDAR