BEGIN:VCALENDAR
VERSION:2.0
PRODID:-//Reena Senior Living - ECPv6.11.2.1//NONSGML v1.0//EN
CALSCALE:GREGORIAN
METHOD:PUBLISH
X-ORIGINAL-URL:https://reenaseniorliving.com
X-WR-CALDESC:Events for Reena Senior Living
REFRESH-INTERVAL;VALUE=DURATION:PT1H
X-Robots-Tag:noindex
X-PUBLISHED-TTL:PT1H
BEGIN:VTIMEZONE
TZID:America/Chicago
BEGIN:DAYLIGHT
TZOFFSETFROM:-0600
TZOFFSETTO:-0500
TZNAME:CDT
DTSTART:20250309T080000
END:DAYLIGHT
BEGIN:STANDARD
TZOFFSETFROM:-0500
TZOFFSETTO:-0600
TZNAME:CST
DTSTART:20251102T070000
END:STANDARD
END:VTIMEZONE
BEGIN:VEVENT
DTSTART;TZID=America/Chicago:20251119T091500
DTEND;TZID=America/Chicago:20251119T094500
DTSTAMP:20260421T170519
CREATED:20251021T081906Z
LAST-MODIFIED:20251119T091901Z
UID:10002774-1763543700-1763545500@reenaseniorliving.com
SUMMARY:Movement Class with Kayla
DESCRIPTION:
URL:https://reenaseniorliving.com/event-calendar/movement-class-with-kayla-88/
LOCATION:Activity Room
CATEGORIES:Assisted Living
END:VEVENT
BEGIN:VEVENT
DTSTART;TZID=America/Chicago:20251119T094500
DTEND;TZID=America/Chicago:20251119T100000
DTSTAMP:20260421T170519
CREATED:20251021T081906Z
LAST-MODIFIED:20251023T083407Z
UID:10002776-1763545500-1763546400@reenaseniorliving.com
SUMMARY:Walking Group
DESCRIPTION:
URL:https://reenaseniorliving.com/event-calendar/walking-group-37/
LOCATION:Activity Room
CATEGORIES:Assisted Living
END:VEVENT
BEGIN:VEVENT
DTSTART;TZID=America/Chicago:20251119T094500
DTEND;TZID=America/Chicago:20251119T100000
DTSTAMP:20260421T170519
CREATED:20251021T081906Z
LAST-MODIFIED:20251023T083407Z
UID:10002775-1763545500-1763546400@reenaseniorliving.com
SUMMARY:Biking with Music
DESCRIPTION:
URL:https://reenaseniorliving.com/event-calendar/biking-with-music-11/
LOCATION:Activity Room
CATEGORIES:Assisted Living
END:VEVENT
BEGIN:VEVENT
DTSTART;TZID=America/Chicago:20251119T100000
DTEND;TZID=America/Chicago:20251119T101500
DTSTAMP:20260421T170519
CREATED:20251021T063413Z
LAST-MODIFIED:20251119T091901Z
UID:10002757-1763546400-1763547300@reenaseniorliving.com
SUMMARY:Sing along before Catholic Service.
DESCRIPTION:We will assist you to go next door.
URL:https://reenaseniorliving.com/event-calendar/sing-along-before-catholic-service-25/
LOCATION:Legacy Court
CATEGORIES:Assisted Living,Legacy Court
END:VEVENT
BEGIN:VEVENT
DTSTART;TZID=America/Chicago:20251119T101500
DTEND;TZID=America/Chicago:20251119T111500
DTSTAMP:20260421T170519
CREATED:20251021T063414Z
LAST-MODIFIED:20251119T091901Z
UID:10002758-1763547300-1763550900@reenaseniorliving.com
SUMMARY:Catholic Service at Legacy Court
DESCRIPTION:
URL:https://reenaseniorliving.com/event-calendar/catholic-service-at-legacy-court-2/
LOCATION:Legacy Court
CATEGORIES:Assisted Living,Legacy Court
END:VEVENT
BEGIN:VEVENT
DTSTART;TZID=America/Chicago:20251119T125000
DTEND;TZID=America/Chicago:20251119T135000
DTSTAMP:20260421T170519
CREATED:20251021T081907Z
LAST-MODIFIED:20251119T091901Z
UID:10002777-1763556600-1763560200@reenaseniorliving.com
SUMMARY:Spark Challenge Day - Whizzer\, Walking & Marching Seated with the team.
DESCRIPTION:
URL:https://reenaseniorliving.com/event-calendar/spark-challenge-day-freshly-peeled-oranges-and-yogurt-for-team-at-conclusion-join-us/
LOCATION:Activity Room
CATEGORIES:Assisted Living
END:VEVENT
BEGIN:VEVENT
DTSTART;TZID=America/Chicago:20251119T140000
DTEND;TZID=America/Chicago:20251119T145000
DTSTAMP:20260421T170519
CREATED:20251021T063414Z
LAST-MODIFIED:20251119T091901Z
UID:10002761-1763560800-1763563800@reenaseniorliving.com
SUMMARY:St. Paul's Lutheran Service - Legacy Court
DESCRIPTION:
URL:https://reenaseniorliving.com/event-calendar/st-pauls-lutheran-service-legacy-court/
LOCATION:Legacy Court
CATEGORIES:Assisted Living,Legacy Court
END:VEVENT
BEGIN:VEVENT
DTSTART;TZID=America/Chicago:20251119T173000
DTEND;TZID=America/Chicago:20251119T193000
DTSTAMP:20260421T170519
CREATED:20251021T081907Z
LAST-MODIFIED:20251119T091901Z
UID:10002778-1763573400-1763580600@reenaseniorliving.com
SUMMARY:Resident Run Social Time - Balcony\, Activity Room or Pub.
DESCRIPTION:
URL:https://reenaseniorliving.com/event-calendar/resident-run-social-time-balcony-activity-room-or-pub-32/
LOCATION:Library
CATEGORIES:Assisted Living
END:VEVENT
END:VCALENDAR