BEGIN:VCALENDAR
VERSION:2.0
PRODID:-//Reena Senior Living - ECPv6.11.2.1//NONSGML v1.0//EN
CALSCALE:GREGORIAN
METHOD:PUBLISH
X-WR-CALNAME:Reena Senior Living
X-ORIGINAL-URL:https://reenaseniorliving.com
X-WR-CALDESC:Events for Reena Senior Living
REFRESH-INTERVAL;VALUE=DURATION:PT1H
X-Robots-Tag:noindex
X-PUBLISHED-TTL:PT1H
BEGIN:VTIMEZONE
TZID:America/Chicago
BEGIN:DAYLIGHT
TZOFFSETFROM:-0600
TZOFFSETTO:-0500
TZNAME:CDT
DTSTART:20250309T080000
END:DAYLIGHT
BEGIN:STANDARD
TZOFFSETFROM:-0500
TZOFFSETTO:-0600
TZNAME:CST
DTSTART:20251102T070000
END:STANDARD
END:VTIMEZONE
BEGIN:VEVENT
DTSTART;TZID=America/Chicago:20251120T091500
DTEND;TZID=America/Chicago:20251120T094500
DTSTAMP:20260421T170834
CREATED:20251022T083420Z
LAST-MODIFIED:20251120T091901Z
UID:10002802-1763630100-1763631900@reenaseniorliving.com
SUMMARY:Movement Class with Kayla
DESCRIPTION:Gentle Movement\, Strength\, Mobility\, Balance\, & More.
URL:https://reenaseniorliving.com/event-calendar/movement-class-with-kayla-89/
LOCATION:Activity Room
CATEGORIES:Assisted Living
END:VEVENT
BEGIN:VEVENT
DTSTART;TZID=America/Chicago:20251120T095000
DTEND;TZID=America/Chicago:20251120T100000
DTSTAMP:20260421T170834
CREATED:20251022T083420Z
LAST-MODIFIED:20251120T091902Z
UID:10002803-1763632200-1763632800@reenaseniorliving.com
SUMMARY:Balance Training - Fall Prevention & Building Strength - Main Floor Hallway
DESCRIPTION:
URL:https://reenaseniorliving.com/event-calendar/new-class-balance-in-main-floor-hallway-fox-rehabilitations-outline-fall-prevention-5/
CATEGORIES:Assisted Living
END:VEVENT
BEGIN:VEVENT
DTSTART;TZID=America/Chicago:20251120T123000
DTEND;TZID=America/Chicago:20251120T134500
DTSTAMP:20260421T170834
CREATED:20251106T091905Z
LAST-MODIFIED:20251120T091902Z
UID:10003083-1763641800-1763646300@reenaseniorliving.com
SUMMARY:Deliver Thanksgiving Bags & Blankets to Luther and Visit Each 3rd Grade Classroom Briefly.
DESCRIPTION:
URL:https://reenaseniorliving.com/event-calendar/deliver-blankets-to-luther-and-base/
LOCATION:Bus Trip
CATEGORIES:Assisted Living
END:VEVENT
BEGIN:VEVENT
DTSTART;TZID=America/Chicago:20251120T140000
DTEND;TZID=America/Chicago:20251120T141500
DTSTAMP:20260421T170834
CREATED:20251022T083420Z
LAST-MODIFIED:20251110T091905Z
UID:10002804-1763647200-1763648100@reenaseniorliving.com
SUMMARY:Pet Therapy Visit
DESCRIPTION:Therapy Dog and Human will visit Lobby and then Legacy Court.
URL:https://reenaseniorliving.com/event-calendar/pet-therapy-visit-7/
LOCATION:Activity Room
CATEGORIES:Assisted Living
END:VEVENT
BEGIN:VEVENT
DTSTART;TZID=America/Chicago:20251120T140000
DTEND;TZID=America/Chicago:20251120T144500
DTSTAMP:20260421T170834
CREATED:20251104T091907Z
LAST-MODIFIED:20251120T091902Z
UID:10003051-1763647200-1763649900@reenaseniorliving.com
SUMMARY:Fun Turkey Painting - Please sign-up to hold your spot.
DESCRIPTION:
URL:https://reenaseniorliving.com/event-calendar/fun-turkey-painting-please-sign-up-to-hold-you-spot/
LOCATION:Activity Room
CATEGORIES:Assisted Living
END:VEVENT
BEGIN:VEVENT
DTSTART;TZID=America/Chicago:20251120T171500
DTEND;TZID=America/Chicago:20251120T190000
DTSTAMP:20260421T170834
CREATED:20251104T091908Z
LAST-MODIFIED:20251120T091902Z
UID:10003054-1763658900-1763665200@reenaseniorliving.com
SUMMARY:Hand & Foot Cards - Resident Run Tonight on Balcony
DESCRIPTION:
URL:https://reenaseniorliving.com/event-calendar/hand-foot-cards-resident-run-tonight-on-balcony/
LOCATION:Library Area
CATEGORIES:Assisted Living
END:VEVENT
BEGIN:VEVENT
DTSTART;TZID=America/Chicago:20251120T173000
DTEND;TZID=America/Chicago:20251120T190000
DTSTAMP:20260421T170834
CREATED:20251022T083420Z
LAST-MODIFIED:20251023T083408Z
UID:10002805-1763659800-1763665200@reenaseniorliving.com
SUMMARY:Friendsgiving Party -
DESCRIPTION:
URL:https://reenaseniorliving.com/event-calendar/friendsgiving-party/
LOCATION:Activity Room
CATEGORIES:Assisted Living
END:VEVENT
BEGIN:VEVENT
DTSTART;TZID=America/Chicago:20251120T173000
DTEND;TZID=America/Chicago:20251120T190000
DTSTAMP:20260421T170834
CREATED:20251104T091908Z
LAST-MODIFIED:20251110T091905Z
UID:10003052-1763659800-1763665200@reenaseniorliving.com
SUMMARY:Bowling with Kayla - Soda Pop and Pretzels
DESCRIPTION:
URL:https://reenaseniorliving.com/event-calendar/bowling-with-kayla-soda-pop-and-pretzels/
LOCATION:Activity Room
CATEGORIES:Assisted Living
END:VEVENT
BEGIN:VEVENT
DTSTART;TZID=America/Chicago:20251120T173000
DTEND;TZID=America/Chicago:20251120T190000
DTSTAMP:20260421T170834
CREATED:20251104T091908Z
LAST-MODIFIED:20251120T091902Z
UID:10003053-1763659800-1763665200@reenaseniorliving.com
SUMMARY:Bowling - Soda Pop and Pretzels
DESCRIPTION:
URL:https://reenaseniorliving.com/event-calendar/bowling-soda-pop-and-pretzels/
LOCATION:Activity Room
CATEGORIES:Assisted Living
END:VEVENT
END:VCALENDAR