BEGIN:VCALENDAR
VERSION:2.0
PRODID:-//Reena Senior Living - ECPv6.11.2.1//NONSGML v1.0//EN
CALSCALE:GREGORIAN
METHOD:PUBLISH
X-ORIGINAL-URL:https://reenaseniorliving.com
X-WR-CALDESC:Events for Reena Senior Living
REFRESH-INTERVAL;VALUE=DURATION:PT1H
X-Robots-Tag:noindex
X-PUBLISHED-TTL:PT1H
BEGIN:VTIMEZONE
TZID:America/Chicago
BEGIN:DAYLIGHT
TZOFFSETFROM:-0600
TZOFFSETTO:-0500
TZNAME:CDT
DTSTART:20250309T080000
END:DAYLIGHT
BEGIN:STANDARD
TZOFFSETFROM:-0500
TZOFFSETTO:-0600
TZNAME:CST
DTSTART:20251102T070000
END:STANDARD
END:VTIMEZONE
BEGIN:VEVENT
DTSTART;TZID=America/Chicago:20251128T091500
DTEND;TZID=America/Chicago:20251128T094500
DTSTAMP:20260421T102046
CREATED:20251030T084909Z
LAST-MODIFIED:20251112T091902Z
UID:10002921-1764321300-1764323100@reenaseniorliving.com
SUMMARY:Movement Class with Kayla
DESCRIPTION:
URL:https://reenaseniorliving.com/event-calendar/movement-class-with-kayla-94/
LOCATION:Activity Room
CATEGORIES:Assisted Living
END:VEVENT
BEGIN:VEVENT
DTSTART;TZID=America/Chicago:20251128T091500
DTEND;TZID=America/Chicago:20251128T101500
DTSTAMP:20260421T102046
CREATED:20251113T091905Z
LAST-MODIFIED:20251128T153404Z
UID:10003187-1764321300-1764324900@reenaseniorliving.com
SUMMARY:Coffee and Spin & Solve - Like Wheel of Fortune
DESCRIPTION:
URL:https://reenaseniorliving.com/event-calendar/coffee-and-spin-solve-like-wheel-of-fortune/
LOCATION:Activity Room
CATEGORIES:Assisted Living
END:VEVENT
BEGIN:VEVENT
DTSTART;TZID=America/Chicago:20251128T094500
DTEND;TZID=America/Chicago:20251128T100000
DTSTAMP:20260421T102046
CREATED:20251030T084909Z
LAST-MODIFIED:20251103T090406Z
UID:10002922-1764323100-1764324000@reenaseniorliving.com
SUMMARY:Balance Training - Fall Prevention & Building Strength - Main Floor Hallway
DESCRIPTION:
URL:https://reenaseniorliving.com/event-calendar/new-class-balance-in-main-floor-hallway-fox-rehabilitations-outline-fall-prevention-9/
CATEGORIES:Assisted Living
END:VEVENT
BEGIN:VEVENT
DTSTART;TZID=America/Chicago:20251128T100000
DTEND;TZID=America/Chicago:20251128T103000
DTSTAMP:20260421T102046
CREATED:20251030T084909Z
LAST-MODIFIED:20251112T091902Z
UID:10002923-1764324000-1764325800@reenaseniorliving.com
SUMMARY:Biking and Balance in the Exercise Room in the Basement
DESCRIPTION:
URL:https://reenaseniorliving.com/event-calendar/biking-and-balance-in-the-exercise-room-in-the-basement-4/
LOCATION:Exercise Room Basement
CATEGORIES:Assisted Living
END:VEVENT
BEGIN:VEVENT
DTSTART;TZID=America/Chicago:20251128T120000
DTEND;TZID=America/Chicago:20251128T121500
DTSTAMP:20260421T102046
CREATED:20251030T084909Z
LAST-MODIFIED:20251128T153404Z
UID:10002925-1764331200-1764332100@reenaseniorliving.com
SUMMARY:Your weekly activity packets will be delivered.
DESCRIPTION:
URL:https://reenaseniorliving.com/event-calendar/your-weekly-activity-packets-will-be-delivered-29/
LOCATION:Activity Room
CATEGORIES:Assisted Living
END:VEVENT
BEGIN:VEVENT
DTSTART;TZID=America/Chicago:20251128T130000
DTEND;TZID=America/Chicago:20251128T134500
DTSTAMP:20260421T102046
CREATED:20251030T084909Z
LAST-MODIFIED:20251103T090406Z
UID:10002924-1764334800-1764337500@reenaseniorliving.com
SUMMARY:The Big Show - Weekly update on Lifespark Challenge
DESCRIPTION:
URL:https://reenaseniorliving.com/event-calendar/the-big-show-weekly-update-on-lifespark-challenge-8/
LOCATION:Activity Room
CATEGORIES:Assisted Living
END:VEVENT
BEGIN:VEVENT
DTSTART;TZID=America/Chicago:20251128T173000
DTEND;TZID=America/Chicago:20251128T193000
DTSTAMP:20260421T102046
CREATED:20251030T084909Z
LAST-MODIFIED:20251129T011915Z
UID:10002926-1764351000-1764358200@reenaseniorliving.com
SUMMARY:Resident Run Social Time - Balcony\, Activity Room or Pub.
DESCRIPTION:
URL:https://reenaseniorliving.com/event-calendar/resident-run-social-time-balcony-activity-room-or-pub-40/
LOCATION:Library
CATEGORIES:Assisted Living
END:VEVENT
END:VCALENDAR